BEGIN:VCALENDAR
VERSION:2.0
PRODID:-//LA Skins Fest - ECPv5.16.4.1//NONSGML v1.0//EN
CALSCALE:GREGORIAN
METHOD:PUBLISH
X-WR-CALNAME:LA Skins Fest
X-ORIGINAL-URL:https://laskinsfest.com
X-WR-CALDESC:Events for LA Skins Fest
BEGIN:VTIMEZONE
TZID:America/Los_Angeles
BEGIN:DAYLIGHT
TZOFFSETFROM:-0800
TZOFFSETTO:-0700
TZNAME:PDT
DTSTART:20250309T100000
END:DAYLIGHT
BEGIN:STANDARD
TZOFFSETFROM:-0700
TZOFFSETTO:-0800
TZNAME:PST
DTSTART:20251102T090000
END:STANDARD
END:VTIMEZONE
BEGIN:VEVENT
DTSTART;TZID=America/Los_Angeles:20251123T100000
DTEND;TZID=America/Los_Angeles:20251123T123000
DTSTAMP:20260420T055627
CREATED:20251001T202838Z
LAST-MODIFIED:20251001T202838Z
UID:14993-1763892000-1763901000@laskinsfest.com
SUMMARY:Drowned Land
DESCRIPTION:Logline: Deep in the Choctaw Nation of rural Oklahoma rages a fight to preserve the Kiamichi River\, reckoning with a cycle of land\nloss for the Indigenous diaspora and the community at large. \nWinding its way through southeastern Oklahoma\, the Kiamichi River is a bastion of ecological diversity. Already twice-dammed\, the state of Oklahoma and a Texas corporation continue to try to commodify the remaining water and build a hydropower plant on the small river. For a group of locals\, this isn’t just a fight for a river; it is a lifelong reckoning with the cycle of land theft and displacement that began with the Trail of Tears. Now\, in a region where the community relies on the Kiamichi’s ecosystem for subsistence\, taking the water out of the watershed could mean yet another relocation.\nThe narrative arc follows the river as its main character—witnessing the ebb and flow of its life-giving ability through the seasons\, and the detrimental impact caused by damming and development projects. The director\, Colleen\, explores the effects of her grandfather’s work designing dams for the Army Corps of Engineers\, her tribe’s ongoing struggles with resource exploitation\, and how it shapes her reconciliation of the past with the present.\nInterwoven are the stories of the river’s advocates—residents\, Choctaw culture-keepers\, and scientists—who have come together to save the river and initiate a paradigm shift grounded in ideals of rematriation and the rights of Nature\, reinforcing a commitment to end the cycle of disconnection from our land. \nDrowned Land has been generously supported by ITVS\, Ford Foundation JustFilms\, Vision Maker Media\, the Sundance Institute\, Patagonia\, Firelight Media\, the University of Arkansas\, Oklahoma Visual Arts Coalition\, Nia Tero\, the Center for Cultural Power\, Patagonia\, New Orleans Film Society\, Santa Fe Film Institute and the Redford Center.
URL:https://laskinsfest.com/event/drowned-land/
LOCATION:TCL Chinese 6 Theatres\, 6801 Hollywood Blvd 3rd Level\, Hollywood\, CA\, 90028\, United States
CATEGORIES:Screening
ATTACH;FMTTYPE=image/jpeg:https://laskinsfest.com/wp-content/uploads/2025/09/Drowned-Land-1.jpg
END:VEVENT
BEGIN:VEVENT
DTSTART;TZID=America/Los_Angeles:20251123T123000
DTEND;TZID=America/Los_Angeles:20251123T140000
DTSTAMP:20260420T055627
CREATED:20251001T202914Z
LAST-MODIFIED:20251001T213514Z
UID:14824-1763901000-1763906400@laskinsfest.com
SUMMARY:Inkwo for When the Starving Return
DESCRIPTION:Two lifetimes from now the world hangs in the balance. Dove\, a young\, enigmatic\, gender-shifting warrior\, discovers the gifts and burdens of their Inkwo (medicine) to defend against an army of hungry\, ferocious monsters. Dove’s courage\, resilience and alliance with the Earth culminates in a battle against these flesh-consuming creatures\, who become stronger with each body and soul they devour. Inkwo for When the Starving Return is a call to action to fight and protect against the forces of greed around us.
URL:https://laskinsfest.com/event/inkwo-for-when-the-starving-return/
LOCATION:TCL Chinese 6 Theatres\, 6801 Hollywood Blvd 3rd Level\, Hollywood\, CA\, 90028\, United States
CATEGORIES:Screening
ATTACH;FMTTYPE=image/jpeg:https://laskinsfest.com/wp-content/uploads/2025/09/Inkwo-for-When-the-Starving-Return-2.jpg
END:VEVENT
BEGIN:VEVENT
DTSTART;TZID=America/Los_Angeles:20251123T123000
DTEND;TZID=America/Los_Angeles:20251123T140000
DTSTAMP:20260420T055627
CREATED:20251001T203018Z
LAST-MODIFIED:20251016T025716Z
UID:14827-1763901000-1763906400@laskinsfest.com
SUMMARY:Saq Nikté and the Spirit of the Mask
DESCRIPTION:In a forgotten community\, an artisan girl puts an old K’iche’ invocation to the test and summons a curious spirit into our world.
URL:https://laskinsfest.com/event/saq-mikte-and-the-spirit-of-the-mask/
LOCATION:TCL Chinese 6 Theatres\, 6801 Hollywood Blvd 3rd Level\, Hollywood\, CA\, 90028\, United States
CATEGORIES:Screening
ATTACH;FMTTYPE=image/jpeg:https://laskinsfest.com/wp-content/uploads/2025/09/Saq-Mikte-and-the-Spirit-of-the-Mask2.jpg
END:VEVENT
BEGIN:VEVENT
DTSTART;TZID=America/Los_Angeles:20251123T123000
DTEND;TZID=America/Los_Angeles:20251123T140000
DTSTAMP:20260420T055627
CREATED:20251001T203100Z
LAST-MODIFIED:20251106T005155Z
UID:14830-1763901000-1763906400@laskinsfest.com
SUMMARY:Pow!
DESCRIPTION:A Native American kid scrambles to charge his dying video game console at a bustling intertribal powwow.
URL:https://laskinsfest.com/event/pow/
LOCATION:TCL Chinese 6 Theatres\, 6801 Hollywood Blvd 3rd Level\, Hollywood\, CA\, 90028\, United States
CATEGORIES:Screening
ATTACH;FMTTYPE=image/jpeg:https://laskinsfest.com/wp-content/uploads/2025/09/Pow2.jpg
END:VEVENT
BEGIN:VEVENT
DTSTART;TZID=America/Los_Angeles:20251123T123000
DTEND;TZID=America/Los_Angeles:20251123T140000
DTSTAMP:20260420T055627
CREATED:20251001T203142Z
LAST-MODIFIED:20251001T203142Z
UID:15004-1763901000-1763906400@laskinsfest.com
SUMMARY:My Friend the Green Horse
DESCRIPTION:Blending live-action footage and stop-motion animation\, My Friend the Green Horse shares the remarkable true story of the childhood of Alanis Obomsawin\, one of the world’s great documentary filmmakers. Often feeling lost and alone\, the young Alanis found solace and companionship in the Animal World. \nIn her sleeping life\, she was visited night after night by the Green Horse\, a kind and generous being who became Alanis’s best friend. Together with other animals\, the pair explored the beauty of her territory in the dreamscape and danced to the setting sun. The animals also helped Alanis realize she was given a tremendous gift—life itself—and demonstrated generosity and kindness\, values she would carry throughout her life.
URL:https://laskinsfest.com/event/my-friend-the-green-horse/
LOCATION:TCL Chinese 6 Theatres\, 6801 Hollywood Blvd 3rd Level\, Hollywood\, CA\, 90028\, United States
CATEGORIES:Screening
ATTACH;FMTTYPE=image/jpeg:https://laskinsfest.com/wp-content/uploads/2025/09/My-friend-the-green-horse2.jpg
END:VEVENT
BEGIN:VEVENT
DTSTART;TZID=America/Los_Angeles:20251123T140000
DTEND;TZID=America/Los_Angeles:20251123T161500
DTSTAMP:20260420T055627
CREATED:20251001T202744Z
LAST-MODIFIED:20251030T222544Z
UID:15010-1763906400-1763914500@laskinsfest.com
SUMMARY:Bdote: A Birthing Island
DESCRIPTION:“You Are Here” is a public history series about stories of people\, place\, and the past. “Bdote: A Birthing Island” is a episode that traces the Dakota people’s profound connection to Bdote\, where the Mississippi and Minnesota rivers meet. Through the lens of Dakota oral histories and the journeys of women like Ramona’s great-great-grandmother\, Pazahiyayewin\, this episode delves into the cultural and sacred significance of Bdote\, showcasing the resiliency of Dakota people through generations.
URL:https://laskinsfest.com/event/bdote-a-birthing-island/
LOCATION:TCL Chinese 6 Theatres\, 6801 Hollywood Blvd 3rd Level\, Hollywood\, CA\, 90028\, United States
CATEGORIES:Screening
ATTACH;FMTTYPE=image/jpeg:https://laskinsfest.com/wp-content/uploads/2025/09/bdote2.jpg
END:VEVENT
BEGIN:VEVENT
DTSTART;TZID=America/Los_Angeles:20251123T140000
DTEND;TZID=America/Los_Angeles:20251123T161500
DTSTAMP:20260420T055627
CREATED:20251001T203221Z
LAST-MODIFIED:20251001T203221Z
UID:14833-1763906400-1763914500@laskinsfest.com
SUMMARY:She Cried That Day
DESCRIPTION:She Cried That Day is the story of a sister’s love and the spirit\, strength and will of Indigenous Women refusing to let their loved ones remain invisible in the eyes of the justice system.
URL:https://laskinsfest.com/event/she-cried-that-day/
LOCATION:TCL Chinese 6 Theatres\, 6801 Hollywood Blvd 3rd Level\, Hollywood\, CA\, 90028\, United States
CATEGORIES:Screening
ATTACH;FMTTYPE=image/jpeg:https://laskinsfest.com/wp-content/uploads/2025/09/She-Cried-That-Day2-1.jpg
END:VEVENT
BEGIN:VEVENT
DTSTART;TZID=America/Los_Angeles:20251123T163000
DTEND;TZID=America/Los_Angeles:20251123T190000
DTSTAMP:20260420T055627
CREATED:20251001T203346Z
LAST-MODIFIED:20251001T203346Z
UID:14839-1763915400-1763924400@laskinsfest.com
SUMMARY:Finding the Funny
DESCRIPTION:An indigenous comedian\, stuck in a creative rut\, encounters unexpected moments of inspiration within his community as he prepares for an important performance.
URL:https://laskinsfest.com/event/finding-the-funny/
LOCATION:TCL Chinese 6 Theatres\, 6801 Hollywood Blvd 3rd Level\, Hollywood\, CA\, 90028\, United States
CATEGORIES:Screening
ATTACH;FMTTYPE=image/jpeg:https://laskinsfest.com/wp-content/uploads/2025/09/Finding-the-Funny2.jpg
END:VEVENT
BEGIN:VEVENT
DTSTART;TZID=America/Los_Angeles:20251123T163000
DTEND;TZID=America/Los_Angeles:20251123T190000
DTSTAMP:20260420T055627
CREATED:20251001T203424Z
LAST-MODIFIED:20251003T234225Z
UID:14848-1763915400-1763924400@laskinsfest.com
SUMMARY:Something New
DESCRIPTION:When Daniel gets caught stealing food\, the store manager calls his uncle Bernie to come get him. Bernie brings Daniel over for a home-cooked meal\, where Daniel learns that his uncle danced traditionally. Inspired\, Daniel learns how to grass dance and in the process discovers his family’s history.
URL:https://laskinsfest.com/event/something-new/
LOCATION:TCL Chinese 6 Theatres\, 6801 Hollywood Blvd 3rd Level\, Hollywood\, CA\, 90028\, United States
CATEGORIES:Screening
ATTACH;FMTTYPE=image/jpeg:https://laskinsfest.com/wp-content/uploads/2025/09/SOMETHING-NEW2-1.jpg
END:VEVENT
BEGIN:VEVENT
DTSTART;TZID=America/Los_Angeles:20251123T163000
DTEND;TZID=America/Los_Angeles:20251123T190000
DTSTAMP:20260420T055627
CREATED:20251001T203502Z
LAST-MODIFIED:20251001T210112Z
UID:14845-1763915400-1763924400@laskinsfest.com
SUMMARY:When Girls Go Missing
DESCRIPTION:The film centers around a young girl named Jamie\, who is about to leave the reservation to study to be a doctor. Her friends decide to have one last night of fun together in the woods before she leaves but they get caught drinking underage. Jamie finds herself alone in the woods and encounters something strange. When Girls Go Missing is a thriller/horror short film that raises issues of Missing and Murdered Indigenous Women while fusing it together with Indigenous folklore.
URL:https://laskinsfest.com/event/when-girls-go-missing/
LOCATION:TCL Chinese 6 Theatres\, 6801 Hollywood Blvd 3rd Level\, Hollywood\, CA\, 90028\, United States
CATEGORIES:Screening
ATTACH;FMTTYPE=image/jpeg:https://laskinsfest.com/wp-content/uploads/2025/09/When-Girls-Go-Missing-2.jpg
END:VEVENT
BEGIN:VEVENT
DTSTART;TZID=America/Los_Angeles:20251123T163000
DTEND;TZID=America/Los_Angeles:20251123T190000
DTSTAMP:20260420T055627
CREATED:20251003T205742Z
LAST-MODIFIED:20251003T211028Z
UID:15129-1763915400-1763924400@laskinsfest.com
SUMMARY:The Birth of the Crying Indian
DESCRIPTION:What do an AIM member\, a western stuntman and Iron Eyes Cody have in common? They are all up for the same monumental role. “The Birth of the Crying Indian” is a comedic retelling of how the famous crying Indian commercial came to be.
URL:https://laskinsfest.com/event/the-birth-of-the-crying-indian/
LOCATION:TCL Chinese 6 Theatres\, 6801 Hollywood Blvd 3rd Level\, Hollywood\, CA\, 90028\, United States
CATEGORIES:Screening
ATTACH;FMTTYPE=image/jpeg:https://laskinsfest.com/wp-content/uploads/2025/10/crying-indian2.jpg
END:VEVENT
BEGIN:VEVENT
DTSTART;TZID=America/Los_Angeles:20251123T163000
DTEND;TZID=America/Los_Angeles:20251123T190000
DTSTAMP:20260420T055627
CREATED:20251003T210024Z
LAST-MODIFIED:20251003T210024Z
UID:15134-1763915400-1763924400@laskinsfest.com
SUMMARY:Siren of the Wood
DESCRIPTION:“Siren of the Wood” is a Native American pre-contact period sci-fi/thriller short film based on my (Christopher Coursey) original story about deer woman.\n-shown entirely in CHEROKEE LANGUAGE DIALOGUE!\nWritten and Directed by Christopher Coursey
URL:https://laskinsfest.com/event/siren-of-the-wood/
LOCATION:TCL Chinese 6 Theatres\, 6801 Hollywood Blvd 3rd Level\, Hollywood\, CA\, 90028\, United States
CATEGORIES:Screening
ATTACH;FMTTYPE=image/jpeg:https://laskinsfest.com/wp-content/uploads/2025/10/siren2.jpg
END:VEVENT
BEGIN:VEVENT
DTSTART;TZID=America/Los_Angeles:20251123T163000
DTEND;TZID=America/Los_Angeles:20251123T190000
DTSTAMP:20260420T055627
CREATED:20251003T210422Z
LAST-MODIFIED:20251003T210422Z
UID:15123-1763915400-1763924400@laskinsfest.com
SUMMARY:Voluntarily Solitary
DESCRIPTION:When a solitary introvert\, a burned-out influencer\, and a socially awkward fan find each other in the wilderness\, a tense standoff turns into a fight for survival.
URL:https://laskinsfest.com/event/voluntarily-solitary/
LOCATION:TCL Chinese 6 Theatres\, 6801 Hollywood Blvd 3rd Level\, Hollywood\, CA\, 90028\, United States
CATEGORIES:Screening
ATTACH;FMTTYPE=image/jpeg:https://laskinsfest.com/wp-content/uploads/2025/10/soli.jpg
END:VEVENT
BEGIN:VEVENT
DTSTART;TZID=America/Los_Angeles:20251123T163000
DTEND;TZID=America/Los_Angeles:20251123T190000
DTSTAMP:20260420T055627
CREATED:20251003T210534Z
LAST-MODIFIED:20251003T210534Z
UID:15119-1763915400-1763924400@laskinsfest.com
SUMMARY:The Narrowz
DESCRIPTION:A hiker goes missing in an area known as\, The Narrowz. His mother reports him missing to the game warden. A search party sets out. They find the missing hiker but they were not prepared for what they would find next. The search party has not been heard from. The head game warden sets out to find them when he must face the supernatural.
URL:https://laskinsfest.com/event/the-narrowz/
LOCATION:TCL Chinese 6 Theatres\, 6801 Hollywood Blvd 3rd Level\, Hollywood\, CA\, 90028\, United States
CATEGORIES:Screening
ATTACH;FMTTYPE=image/jpeg:https://laskinsfest.com/wp-content/uploads/2025/10/narrowz.jpg
END:VEVENT
END:VCALENDAR