BEGIN:VCALENDAR
VERSION:2.0
PRODID:-//LA Skins Fest - ECPv5.16.4.1//NONSGML v1.0//EN
CALSCALE:GREGORIAN
METHOD:PUBLISH
X-WR-CALNAME:LA Skins Fest
X-ORIGINAL-URL:https://laskinsfest.com
X-WR-CALDESC:Events for LA Skins Fest
BEGIN:VTIMEZONE
TZID:America/Los_Angeles
BEGIN:DAYLIGHT
TZOFFSETFROM:-0800
TZOFFSETTO:-0700
TZNAME:PDT
DTSTART:20250309T100000
END:DAYLIGHT
BEGIN:STANDARD
TZOFFSETFROM:-0700
TZOFFSETTO:-0800
TZNAME:PST
DTSTART:20251102T090000
END:STANDARD
END:VTIMEZONE
BEGIN:VEVENT
DTSTART;TZID=America/Los_Angeles:20251121T140000
DTEND;TZID=America/Los_Angeles:20251121T163000
DTSTAMP:20260420T055017
CREATED:20251001T195658Z
LAST-MODIFIED:20251005T231615Z
UID:14997-1763733600-1763742600@laskinsfest.com
SUMMARY:Waabishki (White) Mashkode-Bizhiki( Bison )
DESCRIPTION:The Turtle Mountain Band of Chippewa Indians\, gifted not one\, but five white buffalo calves to area tribal nations around present day North Dakota. This is more than just a simple gesture. It’s the sharing of medicine\, which fulfills a spiritual prophecy among indigenous tribes on turtle island.
URL:https://laskinsfest.com/event/waabishki-white-mashkode-bizhiki-bison/
LOCATION:TCL Chinese 6 Theatres\, 6801 Hollywood Blvd 3rd Level\, Hollywood\, CA\, 90028\, United States
CATEGORIES:Screening
ATTACH;FMTTYPE=image/jpeg:https://laskinsfest.com/wp-content/uploads/2025/09/bison-long-1.jpg
END:VEVENT
BEGIN:VEVENT
DTSTART;TZID=America/Los_Angeles:20251121T140000
DTEND;TZID=America/Los_Angeles:20251121T163000
DTSTAMP:20260420T055017
CREATED:20251001T211712Z
LAST-MODIFIED:20251001T211712Z
UID:14692-1763733600-1763742600@laskinsfest.com
SUMMARY:Healing Journey: Comanche Academy
DESCRIPTION:Comanche Academy\, A Healing Journey\, follows a group of Comanche educators in Lawton\, OK as they open an Indigenous charter school to reclaim their nation. In doing so\, they confront the deep generational impact caused by boarding schools. With less than ten fluent Comanche speakers left\, the urgent challenge of securing a permanent home for the school has never been greater.
URL:https://laskinsfest.com/event/healing-journey-comanche-academy/
LOCATION:TCL Chinese 6 Theatres\, 6801 Hollywood Blvd 3rd Level\, Hollywood\, CA\, 90028\, United States
CATEGORIES:Screening
ATTACH;FMTTYPE=image/jpeg:https://laskinsfest.com/wp-content/uploads/2025/09/Healing-Journey-Comanche-Academy-2.jpg
END:VEVENT
BEGIN:VEVENT
DTSTART;TZID=America/Los_Angeles:20251121T163000
DTEND;TZID=America/Los_Angeles:20251121T183000
DTSTAMP:20260420T055017
CREATED:20250928T203306Z
LAST-MODIFIED:20251003T233436Z
UID:14835-1763742600-1763749800@laskinsfest.com
SUMMARY:Tahi
DESCRIPTION:Two Yaqui men venture into Arizona seeking aid for their people\, however after being tricked they are led through the desert by a sacred flame. Spoken in Yaqui.
URL:https://laskinsfest.com/event/tahi/
LOCATION:TCL Chinese 6 Theatres\, 6801 Hollywood Blvd 3rd Level\, Hollywood\, CA\, 90028\, United States
CATEGORIES:Screening
ATTACH;FMTTYPE=image/jpeg:https://laskinsfest.com/wp-content/uploads/2025/09/TAHi-1.jpg
END:VEVENT
BEGIN:VEVENT
DTSTART;TZID=America/Los_Angeles:20251121T163000
DTEND;TZID=America/Los_Angeles:20251121T183000
DTSTAMP:20260420T055017
CREATED:20251001T201911Z
LAST-MODIFIED:20251003T215324Z
UID:14796-1763742600-1763749800@laskinsfest.com
SUMMARY:Redbird
DESCRIPTION:Johnthony Redbird’s day of drinking gets interrupted by Sasquatch
URL:https://laskinsfest.com/event/redbird/
LOCATION:TCL Chinese 6 Theatres\, 6801 Hollywood Blvd 3rd Level\, Hollywood\, CA\, 90028\, United States
CATEGORIES:Screening
ATTACH;FMTTYPE=image/jpeg:https://laskinsfest.com/wp-content/uploads/2025/09/Redbird2.jpg
END:VEVENT
BEGIN:VEVENT
DTSTART;TZID=America/Los_Angeles:20251121T163000
DTEND;TZID=America/Los_Angeles:20251121T183000
DTSTAMP:20260420T055017
CREATED:20251001T202031Z
LAST-MODIFIED:20251003T214830Z
UID:14799-1763742600-1763749800@laskinsfest.com
SUMMARY:Poacher's Paradise
DESCRIPTION:A group of Poachers hunt on Indigenous lands where they unexpectedly are being hunted by an unknown threat.
URL:https://laskinsfest.com/event/poachers-paradise/
LOCATION:TCL Chinese 6 Theatres\, 6801 Hollywood Blvd 3rd Level\, Hollywood\, CA\, 90028\, United States
CATEGORIES:Screening
ATTACH;FMTTYPE=image/jpeg:https://laskinsfest.com/wp-content/uploads/2025/09/POACHERS-PARADISE-1.jpg
END:VEVENT
BEGIN:VEVENT
DTSTART;TZID=America/Los_Angeles:20251121T163000
DTEND;TZID=America/Los_Angeles:20251121T183000
DTSTAMP:20260420T055017
CREATED:20251001T202157Z
LAST-MODIFIED:20251003T221722Z
UID:14802-1763742600-1763749800@laskinsfest.com
SUMMARY:Missing Time
DESCRIPTION:Government Agent Blackwell must listen to a UFO abductee tell her fantastic story about a recent incident\, with a surprising result
URL:https://laskinsfest.com/event/missing-time/
LOCATION:TCL Chinese 6 Theatres\, 6801 Hollywood Blvd 3rd Level\, Hollywood\, CA\, 90028\, United States
CATEGORIES:Screening
ATTACH;FMTTYPE=image/jpeg:https://laskinsfest.com/wp-content/uploads/2025/09/missing-timee.jpg
END:VEVENT
BEGIN:VEVENT
DTSTART;TZID=America/Los_Angeles:20251121T163000
DTEND;TZID=America/Los_Angeles:20251121T183000
DTSTAMP:20260420T055017
CREATED:20251001T202339Z
LAST-MODIFIED:20251003T215447Z
UID:14806-1763742600-1763749800@laskinsfest.com
SUMMARY:Imperfect
DESCRIPTION:Perfect faces that the idea that society is not too accepting of creativity and has to be fixed
URL:https://laskinsfest.com/event/imperfect/
LOCATION:TCL Chinese 6 Theatres\, 6801 Hollywood Blvd 3rd Level\, Hollywood\, CA\, 90028\, United States
CATEGORIES:Screening
ATTACH;FMTTYPE=image/jpeg:https://laskinsfest.com/wp-content/uploads/2025/09/IMPERFECT2-1.jpg
END:VEVENT
BEGIN:VEVENT
DTSTART;TZID=America/Los_Angeles:20251121T163000
DTEND;TZID=America/Los_Angeles:20251121T183000
DTSTAMP:20260420T055017
CREATED:20251001T202419Z
LAST-MODIFIED:20251003T215548Z
UID:14809-1763742600-1763749800@laskinsfest.com
SUMMARY:Death Mask
DESCRIPTION:Death Mask follows a Medicine Man\, known as the “Native Exorcist\,” as he leads a paranormal investigation into a land of restless spirits\, using Indigenous knowledge to communicate with the unseen. When he encounters ancient beings and tormented souls\, he is called to perform a once-extinct ceremony to restore balance.
URL:https://laskinsfest.com/event/death-mask/
LOCATION:TCL Chinese 6 Theatres\, 6801 Hollywood Blvd 3rd Level\, Hollywood\, CA\, 90028\, United States
CATEGORIES:Screening
ATTACH;FMTTYPE=image/jpeg:https://laskinsfest.com/wp-content/uploads/2025/09/Death-Mask2.jpg
END:VEVENT
BEGIN:VEVENT
DTSTART;TZID=America/Los_Angeles:20251121T163000
DTEND;TZID=America/Los_Angeles:20251121T183000
DTSTAMP:20260420T055017
CREATED:20251001T202456Z
LAST-MODIFIED:20251003T215630Z
UID:14812-1763742600-1763749800@laskinsfest.com
SUMMARY:Midnight at the Lonely River
DESCRIPTION:When the lights go out at a seedy little motel bar\, at the crossroads of a seedy little town\, nefarious happenings are taking place and three predators are enacting their evil deeds. Enter Vicky\, a drifter who quickly realizes what’s happening right under everyone’s nose. After midnight\, In the shadows of this dim establishment\, evil begets evil\, and the predator becomes the prey.
URL:https://laskinsfest.com/event/midnight-at-the-lonely-river/
LOCATION:TCL Chinese 6 Theatres\, 6801 Hollywood Blvd 3rd Level\, Hollywood\, CA\, 90028\, United States
CATEGORIES:Screening
ATTACH;FMTTYPE=image/jpeg:https://laskinsfest.com/wp-content/uploads/2025/09/MIDNIGHT-AT-THE-LONELY-RIVER-2.jpg
END:VEVENT
BEGIN:VEVENT
DTSTART;TZID=America/Los_Angeles:20251121T163000
DTEND;TZID=America/Los_Angeles:20251121T183000
DTSTAMP:20260420T055017
CREATED:20251001T202548Z
LAST-MODIFIED:20251005T230923Z
UID:14815-1763742600-1763749800@laskinsfest.com
SUMMARY:Ancestral Beasts
DESCRIPTION:At the lowest point of her life\, a troubled woman finally commits to conquering the figurative demons in her past only to uncover a literal demon living within the bowls of her rural ancestral home\, threatening her very spirit and the spirits of those who love her.
URL:https://laskinsfest.com/event/ancestral-beasts/
LOCATION:TCL Chinese 6 Theatres\, 6801 Hollywood Blvd 3rd Level\, Hollywood\, CA\, 90028\, United States
CATEGORIES:Screening
ATTACH;FMTTYPE=image/jpeg:https://laskinsfest.com/wp-content/uploads/2025/09/Ancestral-beasts2.jpg
END:VEVENT
BEGIN:VEVENT
DTSTART;TZID=America/Los_Angeles:20251121T163000
DTEND;TZID=America/Los_Angeles:20251121T183000
DTSTAMP:20260420T055017
CREATED:20251001T202639Z
LAST-MODIFIED:20251003T222319Z
UID:15002-1763742600-1763749800@laskinsfest.com
SUMMARY:Rookie
DESCRIPTION:Rookie\, a fresh academy graduate\, is partnered with Inspector Singer\, a hardened investigator with nearly 30 years on the force and little patience for newcomers. When the pair responds to an anonymous tip\, the situation quickly spirals out of control. Rookie “accidentally” shoots a suspect\, forcing the partners into a harrowing choice: confess and face the consequences\, or cover it up. As Singer leans on his own uncompromising definition of justice\, Rookie is pushed to confront what theirs truly means.
URL:https://laskinsfest.com/event/rookie/
LOCATION:TCL Chinese 6 Theatres\, 6801 Hollywood Blvd 3rd Level\, Hollywood\, CA\, 90028\, United States
CATEGORIES:Screening
ATTACH;FMTTYPE=image/jpeg:https://laskinsfest.com/wp-content/uploads/2025/10/ROOKIE-22.jpg
END:VEVENT
BEGIN:VEVENT
DTSTART;TZID=America/Los_Angeles:20251121T190000
DTEND;TZID=America/Los_Angeles:20251121T220000
DTSTAMP:20260420T055017
CREATED:20251001T200247Z
LAST-MODIFIED:20251001T200247Z
UID:14717-1763751600-1763762400@laskinsfest.com
SUMMARY:Condomania
DESCRIPTION:A young\, quirky store clerk’s day takes a turn when she must assist a teenage boy in purchasing condoms for the first time.
URL:https://laskinsfest.com/event/condomania/
LOCATION:TCL Chinese 6 Theatres\, 6801 Hollywood Blvd 3rd Level\, Hollywood\, CA\, 90028\, United States
CATEGORIES:Screening
ATTACH;FMTTYPE=image/jpeg:https://laskinsfest.com/wp-content/uploads/2025/09/Condomania-copy.jpg
END:VEVENT
BEGIN:VEVENT
DTSTART;TZID=America/Los_Angeles:20251121T190000
DTEND;TZID=America/Los_Angeles:20251121T220000
DTSTAMP:20260420T055017
CREATED:20251001T200317Z
LAST-MODIFIED:20251001T210750Z
UID:14721-1763751600-1763762400@laskinsfest.com
SUMMARY:20 Pounds to Happiness
DESCRIPTION:20 Pounds to Happiness is about a full figured Latina who joins a Real Women Have Curves Support Group to cope with her critical mother\, who must decide whether to get gastric bypass surgery with her renegade friends from the support group or risk losing the man of her dreams who wants her to keep her curves and move in together.
URL:https://laskinsfest.com/event/20-pounds-to-happiness/
LOCATION:TCL Chinese 6 Theatres\, 6801 Hollywood Blvd 3rd Level\, Hollywood\, CA\, 90028\, United States
CATEGORIES:Screening
ATTACH;FMTTYPE=image/jpeg:https://laskinsfest.com/wp-content/uploads/2025/09/20-Pounds-to-Happiness-1.jpg
END:VEVENT
END:VCALENDAR