BEGIN:VCALENDAR
VERSION:2.0
PRODID:-//LA Skins Fest - ECPv5.16.4.1//NONSGML v1.0//EN
CALSCALE:GREGORIAN
METHOD:PUBLISH
X-WR-CALNAME:LA Skins Fest
X-ORIGINAL-URL:https://laskinsfest.com
X-WR-CALDESC:Events for LA Skins Fest
BEGIN:VTIMEZONE
TZID:America/Los_Angeles
BEGIN:DAYLIGHT
TZOFFSETFROM:-0800
TZOFFSETTO:-0700
TZNAME:PDT
DTSTART:20250309T100000
END:DAYLIGHT
BEGIN:STANDARD
TZOFFSETFROM:-0700
TZOFFSETTO:-0800
TZNAME:PST
DTSTART:20251102T090000
END:STANDARD
END:VTIMEZONE
BEGIN:VEVENT
DTSTART;TZID=America/Los_Angeles:20251120T140000
DTEND;TZID=America/Los_Angeles:20251120T160000
DTSTAMP:20260420T055155
CREATED:20251001T183624Z
LAST-MODIFIED:20251001T183624Z
UID:14640-1763647200-1763654400@laskinsfest.com
SUMMARY:This is Indian Country-Hollywood
DESCRIPTION:n this captivating episode of This is Indian Country\, we journey to Hollywood\, where we meet trailblazer Tantoo Cardinal\, who has shattered glass ceilings for Native actors. Tantoo shares her inspiring story of how her ancestors paved the way for her success as one of the most prominent women in film\, proudly opening doors for the next generation despite facing typecasting challenges.
URL:https://laskinsfest.com/event/this-is-indian-country-hollywood/
LOCATION:TCL Chinese 6 Theatres\, 6801 Hollywood Blvd 3rd Level\, Hollywood\, CA\, 90028\, United States
CATEGORIES:Screening
ATTACH;FMTTYPE=image/jpeg:https://laskinsfest.com/wp-content/uploads/2025/09/holly.jpg
END:VEVENT
BEGIN:VEVENT
DTSTART;TZID=America/Los_Angeles:20251120T140000
DTEND;TZID=America/Los_Angeles:20251120T160000
DTSTAMP:20260420T055155
CREATED:20251001T183719Z
LAST-MODIFIED:20251001T215312Z
UID:14642-1763647200-1763654400@laskinsfest.com
SUMMARY:Masali: To Begin to Heal
DESCRIPTION:Indigenous fashion is not just an image of headdresses and deerskin covers\, yet mainstream media continuously settles for these stereotypical presentations — in New York City though\, an Indigenous model strives to represent a tie between modern fashion and traditional wear\, bringing culture to the big stage of New York City fashion.
URL:https://laskinsfest.com/event/masali-to-begin-to-heal/
LOCATION:TCL Chinese 6 Theatres\, 6801 Hollywood Blvd 3rd Level\, Hollywood\, CA\, 90028\, United States
CATEGORIES:Screening
ATTACH;FMTTYPE=image/jpeg:https://laskinsfest.com/wp-content/uploads/2025/09/masali-new-2.jpg
END:VEVENT
BEGIN:VEVENT
DTSTART;TZID=America/Los_Angeles:20251120T140000
DTEND;TZID=America/Los_Angeles:20251120T160000
DTSTAMP:20260420T055155
CREATED:20251001T183759Z
LAST-MODIFIED:20251001T183759Z
UID:14646-1763647200-1763654400@laskinsfest.com
SUMMARY:The River That Untangles One's Mind
DESCRIPTION:Created as an educational resource for the Illuminating Worldviews project\, ‘The River That Untangles One’s Mind’ invites audiences on a reflective journey into the reciprocal and symbiotic relationship between language\, worldview\, and world-making. \nAlongside Yukon First Nations and Alaska Native language speakers\, artists\, and knowledge-keepers\, producers Skaydu.û Jules and Guná Jensen collaborate with filmmaker Douglas Joe to explore the profound and generational power of language. \nThis contemplative film gently slows the heartbeat\, guiding viewers down a river of thought—where language is more than a tool for communication; it is a waterway for identity\, culture\, story\, and a way of seeing the world that has been floated down through generations.
URL:https://laskinsfest.com/event/the-river-that-untangles-ones-mind/
LOCATION:TCL Chinese 6 Theatres\, 6801 Hollywood Blvd 3rd Level\, Hollywood\, CA\, 90028\, United States
CATEGORIES:Screening
ATTACH;FMTTYPE=image/jpeg:https://laskinsfest.com/wp-content/uploads/2025/09/The-River-That-Untangles-Ones-Mind2.jpg
END:VEVENT
BEGIN:VEVENT
DTSTART;TZID=America/Los_Angeles:20251120T140000
DTEND;TZID=America/Los_Angeles:20251120T160000
DTSTAMP:20260420T055155
CREATED:20251001T200452Z
LAST-MODIFIED:20251003T213550Z
UID:14730-1763647200-1763654400@laskinsfest.com
SUMMARY:Neah Bay: Restoring Ancestral Waters
DESCRIPTION:For thousands of years Makah Tribal fishermen like Robert Moss hunted for traditional foods in the waters of Washington’s Neah Bay. But today thousands of tons of marine debris literally loom over the Makah Tribe’s ancestral waters\, threatening to choke the waters that sustained these self-described ocean hunters’ families for generations – including a dystopian 3\,000-ton piece of concrete-and-steel highway bridge abandoned decades ago. It’s a daily reminder of the potentially toxic waters plaguing this small fishing community. In this story of environmental and social justice\, a coalition of motivated Tribal leaders and organizations works together in a spectacle of mechanical and human determination to demolish\, remove\, and recycle the massive decaying highway fragment and abandoned vessels of Neah Bay\, to restore healthy waters and traditional foods to the Makah community.
URL:https://laskinsfest.com/event/neah-bay-restoring-ancestral-waters/
LOCATION:TCL Chinese 6 Theatres\, 6801 Hollywood Blvd 3rd Level\, Hollywood\, CA\, 90028\, United States
CATEGORIES:Screening
ATTACH;FMTTYPE=image/jpeg:https://laskinsfest.com/wp-content/uploads/2025/09/Neah-Bay-Restoring-Ancestral-Waters-2.jpg
END:VEVENT
BEGIN:VEVENT
DTSTART;TZID=America/Los_Angeles:20251120T140000
DTEND;TZID=America/Los_Angeles:20251120T160000
DTSTAMP:20260420T055155
CREATED:20251002T184244Z
LAST-MODIFIED:20251002T184244Z
UID:15092-1763647200-1763654400@laskinsfest.com
SUMMARY:My Grandfather & Me
DESCRIPTION:My Grandfather is George Manuel\, a very prominent\, and prolific Indigenous leader. The film explores how my Grandfather’s values transferred over to me even though I never met him. It’s a personal journey on discovering who I am as an Indigenous person through an actual journey from North Vancouver to Chase BC.
URL:https://laskinsfest.com/event/my-grandfather-me/
LOCATION:TCL Chinese 6 Theatres\, 6801 Hollywood Blvd 3rd Level\, Hollywood\, CA\, 90028\, United States
CATEGORIES:Screening
ATTACH;FMTTYPE=image/jpeg:https://laskinsfest.com/wp-content/uploads/2025/10/grandfather-and-me-2.jpg
END:VEVENT
BEGIN:VEVENT
DTSTART;TZID=America/Los_Angeles:20251120T160000
DTEND;TZID=America/Los_Angeles:20251120T173000
DTSTAMP:20260420T055155
CREATED:20251001T024250Z
LAST-MODIFIED:20251001T215435Z
UID:14654-1763654400-1763659800@laskinsfest.com
SUMMARY:From the Heart of a Monster
DESCRIPTION:A Nimiipuu filmmaker reflects on their relationship to their homeland.
URL:https://laskinsfest.com/event/from-the-heart-of-a-monster/
LOCATION:TCL Chinese 6 Theatres\, 6801 Hollywood Blvd 3rd Level\, Hollywood\, CA\, 90028\, United States
CATEGORIES:Screening
ATTACH;FMTTYPE=image/jpeg:https://laskinsfest.com/wp-content/uploads/2025/09/From-the-heart-of-a-monster-2-long.jpg
END:VEVENT
BEGIN:VEVENT
DTSTART;TZID=America/Los_Angeles:20251120T160000
DTEND;TZID=America/Los_Angeles:20251120T173000
DTSTAMP:20260420T055155
CREATED:20251001T183933Z
LAST-MODIFIED:20251001T183933Z
UID:14652-1763654400-1763659800@laskinsfest.com
SUMMARY:Stop Doubting Yourself
DESCRIPTION:When you stop doubting yourself\, life truly begins.
URL:https://laskinsfest.com/event/stop-doubting-yourself/
LOCATION:TCL Chinese 6 Theatres\, 6801 Hollywood Blvd 3rd Level\, Hollywood\, CA\, 90028\, United States
CATEGORIES:Screening
ATTACH;FMTTYPE=image/jpeg:https://laskinsfest.com/wp-content/uploads/2025/09/stop-doubting.jpg
END:VEVENT
BEGIN:VEVENT
DTSTART;TZID=America/Los_Angeles:20251120T160000
DTEND;TZID=America/Los_Angeles:20251120T173000
DTSTAMP:20260420T055155
CREATED:20251002T184503Z
LAST-MODIFIED:20251002T184503Z
UID:15095-1763654400-1763659800@laskinsfest.com
SUMMARY:Scare of the Night
DESCRIPTION:In the first ever brickfilm done in the Cherokee language\, a Cherokee couple hears noises coming from around their property\, and they confront what ought to be a real scare of their night.
URL:https://laskinsfest.com/event/scare-of-the-night/
LOCATION:TCL Chinese 6 Theatres\, 6801 Hollywood Blvd 3rd Level\, Hollywood\, CA\, 90028\, United States
CATEGORIES:Screening
ATTACH;FMTTYPE=image/jpeg:https://laskinsfest.com/wp-content/uploads/2025/09/scareddd.jpg
END:VEVENT
BEGIN:VEVENT
DTSTART;TZID=America/Los_Angeles:20251120T160000
DTEND;TZID=America/Los_Angeles:20251120T173000
DTSTAMP:20260420T055155
CREATED:20251006T184049Z
LAST-MODIFIED:20251019T223639Z
UID:14657-1763654400-1763659800@laskinsfest.com
SUMMARY:Basket Lady
DESCRIPTION:Three young Indigenous women must contest with a power beyond their own worst nightmares\, in this fictional depiction of a traditional Ute legend.
URL:https://laskinsfest.com/event/basket-lady/
LOCATION:TCL Chinese 6 Theatres\, 6801 Hollywood Blvd 3rd Level\, Hollywood\, CA\, 90028\, United States
CATEGORIES:Screening
ATTACH;FMTTYPE=image/jpeg:https://laskinsfest.com/wp-content/uploads/2025/09/basketlady.jpg
END:VEVENT
BEGIN:VEVENT
DTSTART;TZID=America/Los_Angeles:20251120T160000
DTEND;TZID=America/Los_Angeles:20251120T173000
DTSTAMP:20260420T055155
CREATED:20251006T210502Z
LAST-MODIFIED:20251006T221839Z
UID:15260-1763654400-1763659800@laskinsfest.com
SUMMARY:Welcome To Hoopa Valley
DESCRIPTION:Hoopa youth produce three documentaries about the ancient tradition of basket making\, their tribal customs in the form of cultural buring and new artistic murals added to the community.
URL:https://laskinsfest.com/event/welcome-to-hoopa-valley/
LOCATION:TCL Chinese 6 Theatres\, 6801 Hollywood Blvd 3rd Level\, Hollywood\, CA\, 90028\, United States
CATEGORIES:Screening
ATTACH;FMTTYPE=image/jpeg:https://laskinsfest.com/wp-content/uploads/2025/10/hoopa2.jpg
END:VEVENT
BEGIN:VEVENT
DTSTART;TZID=America/Los_Angeles:20251120T160000
DTEND;TZID=America/Los_Angeles:20251120T173000
DTSTAMP:20260420T055155
CREATED:20251006T212822Z
LAST-MODIFIED:20251006T214400Z
UID:15154-1763654400-1763659800@laskinsfest.com
SUMMARY:Native 10 News
DESCRIPTION:Native youth journalists tackle hard hitting in their community and around the world.
URL:https://laskinsfest.com/event/native-10-news-2/
LOCATION:TCL Chinese 6 Theatres\, 6801 Hollywood Blvd 3rd Level\, Hollywood\, CA\, 90028\, United States
CATEGORIES:Screening
ATTACH;FMTTYPE=image/jpeg:https://laskinsfest.com/wp-content/uploads/2025/10/native10-2.jpg
END:VEVENT
BEGIN:VEVENT
DTSTART;TZID=America/Los_Angeles:20251120T174500
DTEND;TZID=America/Los_Angeles:20251120T200000
DTSTAMP:20260420T055155
CREATED:20250901T184128Z
LAST-MODIFIED:20251003T231851Z
UID:14671-1763660700-1763668800@laskinsfest.com
SUMMARY:Abby Scott: The Rezball Legacy
DESCRIPTION:Abby Scott: A Rezball Legacy is a short documentary produced by youth from the Warm Springs Community Action Team\, led by filmmakers LaRonn Katchia and Brutis Baez. The film offers an intimate portrait of Abby Scott (Warm Springs)\, a coach whose passion for mentorship goes beyond the game. From elementary to high school athletes\, she guides with a focus on mental\, physical\, and spiritual growth. Rooted deeply in her tribe\, Abby shares how knowing where she comes from gives her strength—and how seeing the younger generation look up to her affirms she’s on the right path. This documentary is a powerful reflection on identity\, leadership\, and the legacy of giving back to community.
URL:https://laskinsfest.com/event/abby-scott-the-rezball-legacy/
LOCATION:TCL Chinese 6 Theatres\, 6801 Hollywood Blvd 3rd Level\, Hollywood\, CA\, 90028\, United States
CATEGORIES:Screening
ATTACH;FMTTYPE=image/jpeg:https://laskinsfest.com/wp-content/uploads/2025/09/The-Rezball-Legacy-2.jpg
END:VEVENT
BEGIN:VEVENT
DTSTART;TZID=America/Los_Angeles:20251120T174500
DTEND;TZID=America/Los_Angeles:20251120T200000
DTSTAMP:20260420T055155
CREATED:20251003T184218Z
LAST-MODIFIED:20251003T231933Z
UID:14674-1763660700-1763668800@laskinsfest.com
SUMMARY:Generation Warrior
DESCRIPTION:Generation Warrior is a deep and intimate film about a group of young Native Americans and their stories\, told in their own words\, of the challenges they face becoming warriors in a violent and changing world. Although they have grown up surrounded by their tribes and families on the Wind River Indian Reservation in Wyoming\, as the film unfolds\, they come to understand that many must first leave their beloved land in order to return and save their people. Starting in high school and extending over five years\, we see them navigate a warrior’s path to adulthood. The result is a rare look inside a hidden world that reveals the strengt
URL:https://laskinsfest.com/event/generation-warrior/
LOCATION:TCL Chinese 6 Theatres\, 6801 Hollywood Blvd 3rd Level\, Hollywood\, CA\, 90028\, United States
CATEGORIES:Screening
ATTACH;FMTTYPE=image/jpeg:https://laskinsfest.com/wp-content/uploads/2025/09/Generation-Warrior-2.jpg
END:VEVENT
BEGIN:VEVENT
DTSTART;TZID=America/Los_Angeles:20251120T200000
DTEND;TZID=America/Los_Angeles:20251120T200000
DTSTAMP:20260420T055155
CREATED:20250928T195205Z
LAST-MODIFIED:20251003T234555Z
UID:14686-1763668800-1763668800@laskinsfest.com
SUMMARY:Just One Bite
DESCRIPTION:A man experiences his childhood memories by making his mom’s soup recipe.
URL:https://laskinsfest.com/event/just-one-bite/
LOCATION:TCL Chinese 6 Theatres\, 6801 Hollywood Blvd 3rd Level\, Hollywood\, CA\, 90028\, United States
CATEGORIES:Screening
ATTACH;FMTTYPE=image/jpeg:https://laskinsfest.com/wp-content/uploads/2025/09/JUST-ONE-BITE-2.jpg
END:VEVENT
BEGIN:VEVENT
DTSTART;TZID=America/Los_Angeles:20251120T200000
DTEND;TZID=America/Los_Angeles:20251120T200000
DTSTAMP:20260420T055155
CREATED:20250929T184654Z
LAST-MODIFIED:20251003T234632Z
UID:14684-1763668800-1763668800@laskinsfest.com
SUMMARY:W7éyle (Moon's Wife)
DESCRIPTION:In a near future where a pill for immortality exists\, a Secwépemc woman must choose between living forever or having a child. But to choose immortality means to never return to her ancestors in the afterlife.
URL:https://laskinsfest.com/event/w7eyle-moons-wife/
LOCATION:TCL Chinese 6 Theatres\, 6801 Hollywood Blvd 3rd Level\, Hollywood\, CA\, 90028\, United States
CATEGORIES:Screening
ATTACH;FMTTYPE=image/jpeg:https://laskinsfest.com/wp-content/uploads/2025/09/W7eyle-moons-wife-2.jpg
END:VEVENT
BEGIN:VEVENT
DTSTART;TZID=America/Los_Angeles:20251120T200000
DTEND;TZID=America/Los_Angeles:20251120T220000
DTSTAMP:20260420T055155
CREATED:20250929T195330Z
LAST-MODIFIED:20251003T232005Z
UID:14768-1763668800-1763676000@laskinsfest.com
SUMMARY:Choices
DESCRIPTION:After a devastating family emergency\, Elly is faced with the difficult decision to follow her dreams or leave the love of her life behind.
URL:https://laskinsfest.com/event/choices/
LOCATION:TCL Chinese 6 Theatres\, 6801 Hollywood Blvd 3rd Level\, Hollywood\, CA\, 90028\, United States
CATEGORIES:Screening
ATTACH;FMTTYPE=image/jpeg:https://laskinsfest.com/wp-content/uploads/2025/09/choices.jpg
END:VEVENT
BEGIN:VEVENT
DTSTART;TZID=America/Los_Angeles:20251120T200000
DTEND;TZID=America/Los_Angeles:20251120T200000
DTSTAMP:20260420T055155
CREATED:20251001T184457Z
LAST-MODIFIED:20251003T233635Z
UID:14761-1763668800-1763668800@laskinsfest.com
SUMMARY:Eyes Twirl Rounds
DESCRIPTION:Singular musician Laura Ortman takes us on a journey through 3 songs in EYES TWIRL ROUNDS as she reconvenes with legendary dancer Jock Soto on a wintery mountaintop.
URL:https://laskinsfest.com/event/eyes-twirl-rounds/
LOCATION:TCL Chinese 6 Theatres\, 6801 Hollywood Blvd 3rd Level\, Hollywood\, CA\, 90028\, United States
CATEGORIES:Screening
ATTACH;FMTTYPE=image/jpeg:https://laskinsfest.com/wp-content/uploads/2025/09/eyes-long.jpg
END:VEVENT
BEGIN:VEVENT
DTSTART;TZID=America/Los_Angeles:20251120T200000
DTEND;TZID=America/Los_Angeles:20251120T200000
DTSTAMP:20260420T055155
CREATED:20251001T184519Z
LAST-MODIFIED:20251019T224123Z
UID:14681-1763668800-1763668800@laskinsfest.com
SUMMARY:Wind Rabbit
DESCRIPTION:Wind Rabbit is a video poem in the experimental genre inspired by train poetry written on a long three-day train ride from Niagara Ontario to Miami Florida in 2024. Original poetry by January Rogers. Soundscape by January Rogers. As a train rider enthusiast\, and Haudenosaunee person\, January remains in conflict with herself knowing the laying of train tracks displaced Indigenous people from their traditional lands\, and often times were never compensated for this grave colonial disruption.
URL:https://laskinsfest.com/event/wind-rabbit/
LOCATION:TCL Chinese 6 Theatres\, 6801 Hollywood Blvd 3rd Level\, Hollywood\, CA\, 90028\, United States
CATEGORIES:Screening
ATTACH;FMTTYPE=image/jpeg:https://laskinsfest.com/wp-content/uploads/2025/09/Wind-Rabbit-2.jpg
END:VEVENT
BEGIN:VEVENT
DTSTART;TZID=America/Los_Angeles:20251120T200000
DTEND;TZID=America/Los_Angeles:20251120T200000
DTSTAMP:20260420T055155
CREATED:20251001T184615Z
LAST-MODIFIED:20251001T184615Z
UID:14763-1763668800-1763668800@laskinsfest.com
SUMMARY:Yáamay: An Ode to Blooming
DESCRIPTION:Using original poetry as the foundation\, we are taken through a journey examining what it means to be a contemporary California Indigenous woman. With a montage of modern\, archival\, and animatic visuals\, this film becomes as dynamic and alive as the women telling their stories. These highs and lows\, histories and dreams\, questions and answers\, all come together to pay homage to Indigenous women of the past\, present\, and future.
URL:https://laskinsfest.com/event/yaamay-an-ode-to-blooming/
LOCATION:TCL Chinese 6 Theatres\, 6801 Hollywood Blvd 3rd Level\, Hollywood\, CA\, 90028\, United States
CATEGORIES:Screening
ATTACH;FMTTYPE=image/jpeg:https://laskinsfest.com/wp-content/uploads/2025/09/An-Ode-to-Blooming-2.jpg
END:VEVENT
BEGIN:VEVENT
DTSTART;TZID=America/Los_Angeles:20251120T200000
DTEND;TZID=America/Los_Angeles:20251120T200000
DTSTAMP:20260420T055155
CREATED:20251003T184311Z
LAST-MODIFIED:20251003T234802Z
UID:14677-1763668800-1763668800@laskinsfest.com
SUMMARY:Grey
DESCRIPTION:‘Grey’ is an experimental hybrid about a Native American woman grappling with aging\, identity\, and generational trauma. Finding a grey hair in her long\, dark hair unsettles her\, symbolizing more than aging—it connects her to a violent lineage personified by a haunting male figure from her past. She confronts dualities: vanity and wisdom\, performance and truth\, erasure and survival. \n‘Grey’ uses symbolic imagery to explore bloodlines\, beauty standards\, and the quiet power of reclaiming one’s voice.
URL:https://laskinsfest.com/event/grey/
LOCATION:TCL Chinese 6 Theatres\, 6801 Hollywood Blvd 3rd Level\, Hollywood\, CA\, 90028\, United States
CATEGORIES:Screening
ATTACH;FMTTYPE=image/jpeg:https://laskinsfest.com/wp-content/uploads/2025/09/Grey-2.jpg
END:VEVENT
END:VCALENDAR