BEGIN:VCALENDAR
VERSION:2.0
PRODID:-//LA Skins Fest - ECPv5.16.4.1//NONSGML v1.0//EN
CALSCALE:GREGORIAN
METHOD:PUBLISH
X-WR-CALNAME:LA Skins Fest
X-ORIGINAL-URL:https://laskinsfest.com
X-WR-CALDESC:Events for LA Skins Fest
BEGIN:VTIMEZONE
TZID:America/Los_Angeles
BEGIN:DAYLIGHT
TZOFFSETFROM:-0800
TZOFFSETTO:-0700
TZNAME:PDT
DTSTART:20240310T100000
END:DAYLIGHT
BEGIN:STANDARD
TZOFFSETFROM:-0700
TZOFFSETTO:-0800
TZNAME:PST
DTSTART:20241103T090000
END:STANDARD
END:VTIMEZONE
BEGIN:VEVENT
DTSTART;TZID=America/Los_Angeles:20241122T170000
DTEND;TZID=America/Los_Angeles:20241122T180000
DTSTAMP:20260421T025222
CREATED:20240930T083627Z
LAST-MODIFIED:20241027T031206Z
UID:13925-1732294800-1732298400@laskinsfest.com
SUMMARY:The People’s Home: Five Decades of UAII
DESCRIPTION:The People’s Home: Five Decades of UAII traces the inspiring journey of United American Indian Involvement\, Inc. (UAII) from its humble beginnings on Skid Row in 1974 to its current status as a leading provider of human and health services for American Indians/Alaskan Natives in Los Angeles County. Founded by visionary American Indian women\, Babba Cooper and Marian Zucco\, the film highlights UAII’s dedication to empowerment and resilience. It explores the organization’s pivotal moments\, challenges\, and triumphs over five decades\, focusing on its fight against cultural insensitivity in healthcare. The film also highlights the history of the American Indian community in urban Los Angeles during the Relocation Act. Through its evolution\, UAII’s enduring legacy and its future impact on Indigenous communities are brought to light.
URL:https://laskinsfest.com/event/the-peoples-home-five-decades-of-uaii/
LOCATION:TCL Chinese 6 Theatres\, 6801 Hollywood Blvd 3rd Level\, Hollywood\, CA\, 90028\, United States
CATEGORIES:Screening
ATTACH;FMTTYPE=image/jpeg:https://laskinsfest.com/wp-content/uploads/2024/09/The-Peoples-Home-1-1.jpg
END:VEVENT
BEGIN:VEVENT
DTSTART;TZID=America/Los_Angeles:20241122T170000
DTEND;TZID=America/Los_Angeles:20241122T180000
DTSTAMP:20260421T025222
CREATED:20240930T090022Z
LAST-MODIFIED:20241027T034538Z
UID:14116-1732294800-1732298400@laskinsfest.com
SUMMARY:Henry Project
DESCRIPTION:Henry is troubled youth with behavior health issues and in need of support\, guidance and love from his community.
URL:https://laskinsfest.com/event/henry/
LOCATION:TCL Chinese 6 Theatres\, 6801 Hollywood Blvd 3rd Level\, Hollywood\, CA\, 90028\, United States
CATEGORIES:Screening
ATTACH;FMTTYPE=image/jpeg:https://laskinsfest.com/wp-content/uploads/2024/10/Henry.jpg
END:VEVENT
BEGIN:VEVENT
DTSTART;TZID=America/Los_Angeles:20241122T170000
DTEND;TZID=America/Los_Angeles:20241122T180000
DTSTAMP:20260421T025222
CREATED:20240930T100103Z
LAST-MODIFIED:20241027T031337Z
UID:14118-1732294800-1732298400@laskinsfest.com
SUMMARY:Native 10 News
DESCRIPTION:Follow groundbreaking news from the youth at United American Indian Involvement Inc.
URL:https://laskinsfest.com/event/native-10-news/
LOCATION:TCL Chinese 6 Theatres\, 6801 Hollywood Blvd 3rd Level\, Hollywood\, CA\, 90028\, United States
CATEGORIES:Screening
ATTACH;FMTTYPE=image/jpeg:https://laskinsfest.com/wp-content/uploads/2024/10/Native-10-News.jpg
END:VEVENT
BEGIN:VEVENT
DTSTART;TZID=America/Los_Angeles:20241122T170000
DTEND;TZID=America/Los_Angeles:20241122T180000
DTSTAMP:20260421T025222
CREATED:20240930T111703Z
LAST-MODIFIED:20241027T031404Z
UID:14038-1732294800-1732298400@laskinsfest.com
SUMMARY:Mógúán : A Journey To Mental Health
DESCRIPTION:Youth from the Ute Mountain Ute Reservation in Towaoc\, Colorado visit the sites of Los Angeles to embrace new places and bolster their wellness. This piece is a short documentary that highlights their desire to see the world\, experience new things and become leaders in their community.
URL:https://laskinsfest.com/event/moguan-a-journey-to-mental-health/
LOCATION:TCL Chinese 6 Theatres\, 6801 Hollywood Blvd 3rd Level\, Hollywood\, CA\, 90028\, United States
CATEGORIES:Screening
ATTACH;FMTTYPE=image/jpeg:https://laskinsfest.com/wp-content/uploads/2024/09/Moguan-Behavioral-Health-Services-copy.jpg
END:VEVENT
BEGIN:VEVENT
DTSTART;TZID=America/Los_Angeles:20241122T170000
DTEND;TZID=America/Los_Angeles:20241122T180000
DTSTAMP:20260421T025222
CREATED:20240930T204658Z
LAST-MODIFIED:20241002T050616Z
UID:13848-1732294800-1732298400@laskinsfest.com
SUMMARY:The Recipe
DESCRIPTION:Three thieves pose as a tour group to steal a mysterious woven basket from the Warm Springs Museum. As they execute their heist\, blending in with visitors and evading suspicion\, the basket’s true significance begins to unfold.
URL:https://laskinsfest.com/event/the-recipe/
LOCATION:TCL Chinese 6 Theatres\, 6801 Hollywood Blvd 3rd Level\, Hollywood\, CA\, 90028\, United States
CATEGORIES:Screening
ATTACH;FMTTYPE=image/jpeg:https://laskinsfest.com/wp-content/uploads/2024/09/The-Recipe-copy.jpg
END:VEVENT
BEGIN:VEVENT
DTSTART;TZID=America/Los_Angeles:20241122T170000
DTEND;TZID=America/Los_Angeles:20241122T180000
DTSTAMP:20260421T025222
CREATED:20240930T204720Z
LAST-MODIFIED:20241002T050639Z
UID:13845-1732294800-1732298400@laskinsfest.com
SUMMARY:The Bear Dance
DESCRIPTION:Native Ute Mountain Ute kids produced a film that describes the Bear Dance and its origins and meanings.
URL:https://laskinsfest.com/event/the-bear-dance/
LOCATION:TCL Chinese 6 Theatres\, 6801 Hollywood Blvd 3rd Level\, Hollywood\, CA\, 90028\, United States
CATEGORIES:Screening
ATTACH;FMTTYPE=image/jpeg:https://laskinsfest.com/wp-content/uploads/2024/09/The-Bear-Dance.jpg
END:VEVENT
BEGIN:VEVENT
DTSTART;TZID=America/Los_Angeles:20241122T180000
DTEND;TZID=America/Los_Angeles:20241122T190000
DTSTAMP:20260421T025222
CREATED:20240928T084620Z
LAST-MODIFIED:20241027T031458Z
UID:13850-1732298400-1732302000@laskinsfest.com
SUMMARY:Baah The Perfect Bread
DESCRIPTION:A young trans-Navajo man named Tristan tries to make the perfect bread for an upcoming family reunion. However\, he listens to a gatekeep podcast host that makes him question his abilities. Will he succeed in creating the perfect bread or will his bread not live up to his nali’s expectations?
URL:https://laskinsfest.com/event/baah-the-perfect-bread/
LOCATION:TCL Chinese 6 Theatres\, 6801 Hollywood Blvd 3rd Level\, Hollywood\, CA\, 90028\, United States
CATEGORIES:Screening
ATTACH;FMTTYPE=image/jpeg:https://laskinsfest.com/wp-content/uploads/2024/09/Bahh-The-Perfect-Bread.jpg
END:VEVENT
BEGIN:VEVENT
DTSTART;TZID=America/Los_Angeles:20241122T180000
DTEND;TZID=America/Los_Angeles:20241122T190000
DTSTAMP:20260421T025222
CREATED:20240928T090000Z
LAST-MODIFIED:20241027T031547Z
UID:13870-1732298400-1732302000@laskinsfest.com
SUMMARY:Chums
DESCRIPTION:A rag tag group of furry friends on Turtle Island are discovering their relationship with the animals and their environment on Mother Earth
URL:https://laskinsfest.com/event/chums/
LOCATION:TCL Chinese 6 Theatres\, 6801 Hollywood Blvd 3rd Level\, Hollywood\, CA\, 90028\, United States
CATEGORIES:Screening
ATTACH;FMTTYPE=image/jpeg:https://laskinsfest.com/wp-content/uploads/2024/09/Chums.jpg
END:VEVENT
BEGIN:VEVENT
DTSTART;TZID=America/Los_Angeles:20241122T180000
DTEND;TZID=America/Los_Angeles:20241122T190000
DTSTAMP:20260421T025222
CREATED:20240928T100032Z
LAST-MODIFIED:20241027T031711Z
UID:14073-1732298400-1732302000@laskinsfest.com
SUMMARY:Grow With Me
DESCRIPTION:An old hound dog who likes to invent things\, and an old cat who likes to garden\, are happily married and live together. But when the cat goes blind and can’t garden\, the hound dog tries to invent things to help her garden again.
URL:https://laskinsfest.com/event/grow-with-me/
LOCATION:TCL Chinese 6 Theatres\, 6801 Hollywood Blvd 3rd Level\, Hollywood\, CA\, 90028\, United States
CATEGORIES:Screening
ATTACH;FMTTYPE=image/jpeg:https://laskinsfest.com/wp-content/uploads/2024/09/Grow-With-Me.jpg
END:VEVENT
BEGIN:VEVENT
DTSTART;TZID=America/Los_Angeles:20241122T180000
DTEND;TZID=America/Los_Angeles:20241122T190000
DTSTAMP:20260421T025222
CREATED:20240928T110039Z
LAST-MODIFIED:20241027T031740Z
UID:13867-1732298400-1732302000@laskinsfest.com
SUMMARY:Tule
DESCRIPTION:Tule is a poetic 2D animated mixed media short film championing awareness and hope. A young Pomo girl serves as the narrator of our project. Her poetic contemplations ring true with convictions shared by her Pomo community at Clear Lake\, California. She revels in the local nature’s glory\, but dread strikes when she faces today’s careless pollution damage that impedes cultural practices.
URL:https://laskinsfest.com/event/tule/
LOCATION:TCL Chinese 6 Theatres\, 6801 Hollywood Blvd 3rd Level\, Hollywood\, CA\, 90028\, United States
CATEGORIES:Screening
ATTACH;FMTTYPE=image/jpeg:https://laskinsfest.com/wp-content/uploads/2024/09/Tule.jpg
END:VEVENT
BEGIN:VEVENT
DTSTART;TZID=America/Los_Angeles:20241122T180000
DTEND;TZID=America/Los_Angeles:20241122T190000
DTSTAMP:20260421T025222
CREATED:20240930T204510Z
LAST-MODIFIED:20241002T051239Z
UID:13872-1732298400-1732302000@laskinsfest.com
SUMMARY:Cut Knife Creek
DESCRIPTION:Seven Tsuut’ina men refuse to turn back despite 3 dark omens urging them to\, they come upon a Cree camp which leads to battle and death in a supernatural way.
URL:https://laskinsfest.com/event/cut-knife-creek/
LOCATION:TCL Chinese 6 Theatres\, 6801 Hollywood Blvd 3rd Level\, Hollywood\, CA\, 90028\, United States
CATEGORIES:Screening
ATTACH;FMTTYPE=image/jpeg:https://laskinsfest.com/wp-content/uploads/2024/09/Cut-Knife-Creek.jpg
END:VEVENT
BEGIN:VEVENT
DTSTART;TZID=America/Los_Angeles:20241122T180000
DTEND;TZID=America/Los_Angeles:20241122T190000
DTSTAMP:20260421T025222
CREATED:20241008T222542Z
LAST-MODIFIED:20241008T222615Z
UID:14100-1732298400-1732302000@laskinsfest.com
SUMMARY:The Band Shandiin "Stadium Walk"
DESCRIPTION:Small time Indigenous band “The Band Shandiin” prepare for their first and biggest stadium concert. Sundance ponders on the bands difficult journey and how they got there.
URL:https://laskinsfest.com/event/the-band-shandiin-stadium-walk/
LOCATION:TCL Chinese 6 Theatres\, 6801 Hollywood Blvd 3rd Level\, Hollywood\, CA\, 90028\, United States
CATEGORIES:Screening
ATTACH;FMTTYPE=image/jpeg:https://laskinsfest.com/wp-content/uploads/2024/10/The-Band-Shandiin.jpg
END:VEVENT
BEGIN:VEVENT
DTSTART;TZID=America/Los_Angeles:20241122T193000
DTEND;TZID=America/Los_Angeles:20241122T220000
DTSTAMP:20260421T025222
CREATED:20240928T080118Z
LAST-MODIFIED:20241027T031819Z
UID:13757-1732303800-1732312800@laskinsfest.com
SUMMARY:Uncommon Ground
DESCRIPTION:Set in the Coast Salish region of the Pacific Northwest\, 150 years in the future\, the true history of North America has been swept under the rug\, the stories of Indigenous peoples have been silenced\, and religion and culture are criminalized. Indigenous people\, like Tawni and her aunt\, were driven out of the cities\, living on the land where they fight to keep their culture and histories alive against all odds.
URL:https://laskinsfest.com/event/uncommon-ground/
LOCATION:TCL Chinese 6 Theatres\, 6801 Hollywood Blvd 3rd Level\, Hollywood\, CA\, 90028\, United States
CATEGORIES:Screening
ATTACH;FMTTYPE=image/jpeg:https://laskinsfest.com/wp-content/uploads/2024/09/Uncommon-Ground.jpg
END:VEVENT
BEGIN:VEVENT
DTSTART;TZID=America/Los_Angeles:20241122T193000
DTEND;TZID=America/Los_Angeles:20241122T220000
DTSTAMP:20260421T025222
CREATED:20240928T090100Z
LAST-MODIFIED:20241027T031913Z
UID:13759-1732303800-1732312800@laskinsfest.com
SUMMARY:The Inherited
DESCRIPTION:A grieving young woman returns to her childhood home to settle her parents’ affairs\, only to encounter her long-forgotten imaginary friend lurking in the shadows.
URL:https://laskinsfest.com/event/the-inherited/
LOCATION:TCL Chinese 6 Theatres\, 6801 Hollywood Blvd 3rd Level\, Hollywood\, CA\, 90028\, United States
CATEGORIES:Screening
ATTACH;FMTTYPE=image/jpeg:https://laskinsfest.com/wp-content/uploads/2024/09/The-Inherited.jpg
END:VEVENT
BEGIN:VEVENT
DTSTART;TZID=America/Los_Angeles:20241122T193000
DTEND;TZID=America/Los_Angeles:20241122T220000
DTSTAMP:20260421T025222
CREATED:20240928T100040Z
LAST-MODIFIED:20241027T031943Z
UID:13761-1732303800-1732312800@laskinsfest.com
SUMMARY:Pendleton Man
DESCRIPTION:In ‘Pendleton Man\,’ three young Blackfoot cousins\, left home alone\, encounter the spooky Pendleton Man\, in a night of terror.
URL:https://laskinsfest.com/event/pendleton-man/
LOCATION:CA
CATEGORIES:Screening
ATTACH;FMTTYPE=image/jpeg:https://laskinsfest.com/wp-content/uploads/2024/09/Pendleton-Man.jpg
END:VEVENT
BEGIN:VEVENT
DTSTART;TZID=America/Los_Angeles:20241122T193000
DTEND;TZID=America/Los_Angeles:20241122T220000
DTSTAMP:20260421T025222
CREATED:20240928T115313Z
LAST-MODIFIED:20241027T032046Z
UID:13763-1732303800-1732312800@laskinsfest.com
SUMMARY:Tales From the Rez
DESCRIPTION:Come listen as The Rez Keeper Uncle Randolf brings forth the terribly twisted and delightfully creepy Tales From The Rez. 
URL:https://laskinsfest.com/event/tales-from-the-rez-2/
LOCATION:TCL Chinese 6 Theatres\, 6801 Hollywood Blvd 3rd Level\, Hollywood\, CA\, 90028\, United States
CATEGORIES:Screening
ATTACH;FMTTYPE=image/jpeg:https://laskinsfest.com/wp-content/uploads/2024/09/Tales-from-the-Rez.jpg
END:VEVENT
BEGIN:VEVENT
DTSTART;TZID=America/Los_Angeles:20241122T193000
DTEND;TZID=America/Los_Angeles:20241122T220000
DTSTAMP:20260421T025222
CREATED:20240928T120014Z
LAST-MODIFIED:20241027T032114Z
UID:13766-1732303800-1732312800@laskinsfest.com
SUMMARY:Forest Echoes
DESCRIPTION:A love story set against the backdrop of the climate crisis and the opioid epidemic\, Forest Echoe follows Echo and Wild\, two urban Indigenous land defenders. On the one-year anniversary of their arrest on the front lines\, a death in their community opens old wounds but also offers them a chance to heal.
URL:https://laskinsfest.com/event/forest-echoes/
LOCATION:TCL Chinese 6 Theatres\, 6801 Hollywood Blvd 3rd Level\, Hollywood\, CA\, 90028\, United States
CATEGORIES:Screening
ATTACH;FMTTYPE=image/jpeg:https://laskinsfest.com/wp-content/uploads/2024/09/Forest-Echoes.jpg
END:VEVENT
BEGIN:VEVENT
DTSTART;TZID=America/Los_Angeles:20241122T193000
DTEND;TZID=America/Los_Angeles:20241122T220000
DTSTAMP:20260421T025222
CREATED:20240930T205956Z
LAST-MODIFIED:20241008T221406Z
UID:13768-1732303800-1732312800@laskinsfest.com
SUMMARY:Hell Throne - King of Death
DESCRIPTION:In the shadows of his pulpit\, Pastor Leyton Thompson leads a double life\, using his charm and title to seduce vulnerable women. His next target is Grace\, a seemingly innocent parishioner. But as Leyton’s dark obsession grows\, Grace reveals a hidden agenda\, threatening to destroy his carefully crafted facade. As their twisted game of cat and mouse unfolds\, Leyton’s grip on reality begins to slip\, and the true extent of his depravity is exposed. Will Grace’s secret be enough to bring him down\, or will Leyton’s power and manipulation silence her forever?
URL:https://laskinsfest.com/event/hell-throne-king-of-death/
LOCATION:TCL Chinese 6 Theatres\, 6801 Hollywood Blvd 3rd Level\, Hollywood\, CA\, 90028\, United States
CATEGORIES:Screening
ATTACH;FMTTYPE=image/jpeg:https://laskinsfest.com/wp-content/uploads/2024/09/Hell-Throne-King-of-Death.jpg
END:VEVENT
END:VCALENDAR