BEGIN:VCALENDAR
VERSION:2.0
PRODID:-//LA Skins Fest - ECPv5.16.4.1//NONSGML v1.0//EN
CALSCALE:GREGORIAN
METHOD:PUBLISH
X-WR-CALNAME:LA Skins Fest
X-ORIGINAL-URL:https://laskinsfest.com
X-WR-CALDESC:Events for LA Skins Fest
BEGIN:VTIMEZONE
TZID:America/Los_Angeles
BEGIN:DAYLIGHT
TZOFFSETFROM:-0800
TZOFFSETTO:-0700
TZNAME:PDT
DTSTART:20230312T100000
END:DAYLIGHT
BEGIN:STANDARD
TZOFFSETFROM:-0700
TZOFFSETTO:-0800
TZNAME:PST
DTSTART:20231105T090000
END:STANDARD
END:VTIMEZONE
BEGIN:VEVENT
DTSTART;TZID=America/Los_Angeles:20231119T110000
DTEND;TZID=America/Los_Angeles:20231119T130000
DTSTAMP:20260421T200356
CREATED:20231003T230645Z
LAST-MODIFIED:20231003T230645Z
UID:12650-1700391600-1700398800@laskinsfest.com
SUMMARY:Living Weaving
DESCRIPTION:A celebratory 10-minute documentary on Musqueam weaver Debra Sparrow\, her reclamation journey\, her family\, and her identity.
URL:https://laskinsfest.com/event/living-weaving/
LOCATION:TCL Chinese 6 Theatres\, 6801 Hollywood Blvd 3rd Level\, Hollywood\, CA\, 90028\, United States
CATEGORIES:Screening
ATTACH;FMTTYPE=image/jpeg:https://laskinsfest.com/wp-content/uploads/2023/10/Living-Weaving-copy.jpg
END:VEVENT
BEGIN:VEVENT
DTSTART;TZID=America/Los_Angeles:20231119T110000
DTEND;TZID=America/Los_Angeles:20231119T130000
DTSTAMP:20260421T200356
CREATED:20231003T230727Z
LAST-MODIFIED:20231003T230727Z
UID:12653-1700391600-1700398800@laskinsfest.com
SUMMARY:Indigenous Resistance: Now and Then
DESCRIPTION:We explore how it was for our people to go through statehood\, blood quantum\, ANCSA\, boarding schools\, stripping our language and dance away\, and all that has done to our mental health. With that\, we try to have a hopeful spin on this narrative and show how resilient our people are.
URL:https://laskinsfest.com/event/indigenous-resistance-now-and-then/
LOCATION:TCL Chinese 6 Theatres\, 6801 Hollywood Blvd 3rd Level\, Hollywood\, CA\, 90028\, United States
CATEGORIES:Screening
ATTACH;FMTTYPE=image/jpeg:https://laskinsfest.com/wp-content/uploads/2023/10/ndigenous-Resistance-Now-and-Then-copy.jpg
END:VEVENT
BEGIN:VEVENT
DTSTART;TZID=America/Los_Angeles:20231119T110000
DTEND;TZID=America/Los_Angeles:20231119T130000
DTSTAMP:20260421T200356
CREATED:20231003T230750Z
LAST-MODIFIED:20231005T192754Z
UID:12656-1700391600-1700398800@laskinsfest.com
SUMMARY:Chubby Cree: PiMahCiHoWin
DESCRIPTION:A young boy uplifts his community with the powerful medicine in his voice.
URL:https://laskinsfest.com/event/chubby-cree-pimahcihowin/
LOCATION:TCL Chinese 6 Theatres\, 6801 Hollywood Blvd 3rd Level\, Hollywood\, CA\, 90028\, United States
CATEGORIES:Screening
ATTACH;FMTTYPE=image/jpeg:https://laskinsfest.com/wp-content/uploads/2023/10/Chubby-Cree-PiMahCiHoWin-copy.jpg
END:VEVENT
BEGIN:VEVENT
DTSTART;TZID=America/Los_Angeles:20231119T110000
DTEND;TZID=America/Los_Angeles:20231119T130000
DTSTAMP:20260421T200356
CREATED:20231003T230830Z
LAST-MODIFIED:20231003T230830Z
UID:12659-1700391600-1700398800@laskinsfest.com
SUMMARY:Broadcasting Native Voices: Mary Jean Robertson
DESCRIPTION:Mary Jean Robertson has been a native voice on the airwaves in San Francisco for 50 years. Mary Jean shares why it is important for Native people to have space and how she works to amplify native voices through her radio show.
URL:https://laskinsfest.com/event/broadcasting-native-voices-mary-jean-robertson/
LOCATION:TCL Chinese 6 Theatres\, 6801 Hollywood Blvd 3rd Level\, Hollywood\, CA\, 90028\, United States
CATEGORIES:Screening
ATTACH;FMTTYPE=image/jpeg:https://laskinsfest.com/wp-content/uploads/2023/10/Broadcasting-Native-Voices-Mary-Jean-Robertson-copy.jpg
END:VEVENT
BEGIN:VEVENT
DTSTART;TZID=America/Los_Angeles:20231119T110000
DTEND;TZID=America/Los_Angeles:20231119T130000
DTSTAMP:20260421T200356
CREATED:20231003T230926Z
LAST-MODIFIED:20231003T230926Z
UID:12662-1700391600-1700398800@laskinsfest.com
SUMMARY:Through My Eyes
DESCRIPTION:A Navajo man reflects on his cultural identity while interacting at the Bosque Redondo Memorial–a Navajo incarceration camp in Fort Sumner\, New Mexico. \nDavid Henderson is a full blood Navajo man who was raised by a loving white family after his biological mother died giving birth to his younger brother. Even though raised in the Four Corners area of Northwest New Mexico and in close contact with his own people\, he was not raised as a Navajo person. Upon visiting the Bosque Redondo Memorial dedication in 2018\, he finally felt he could address a question he had suppressed for decades…Who am I as a Navajo man? As a Diné elder? This is the beginning of that search in self-reflection.
URL:https://laskinsfest.com/event/through-my-eyes/
LOCATION:TCL Chinese 6 Theatres\, 6801 Hollywood Blvd 3rd Level\, Hollywood\, CA\, 90028\, United States
CATEGORIES:Screening
ATTACH;FMTTYPE=image/jpeg:https://laskinsfest.com/wp-content/uploads/2023/10/Through-My-Eyes.jpg
END:VEVENT
BEGIN:VEVENT
DTSTART;TZID=America/Los_Angeles:20231119T110000
DTEND;TZID=America/Los_Angeles:20231119T130000
DTSTAMP:20260421T200356
CREATED:20231009T221620Z
LAST-MODIFIED:20231009T222112Z
UID:12956-1700391600-1700398800@laskinsfest.com
SUMMARY:Letters to our Ancestors
DESCRIPTION:In the heart of downtown Los Angeles (Gabrielino-Tongva land)\, “Letters to our Ancestors” details how American Indian and Alaska Native organizations are working to preserve and restore Indigenous cultural identity as the foundation of well-being and healthy development. We witness the amazing impact that Indigenous cultural values\, customs and traditions have on the next generation of children and youths growing up in a diverse urban community.
URL:https://laskinsfest.com/event/letters-to-our-ancestors/
LOCATION:TCL Chinese 6 Theatres\, 6801 Hollywood Blvd 3rd Level\, Hollywood\, CA\, 90028\, United States
CATEGORIES:Screening
ATTACH;FMTTYPE=image/jpeg:https://laskinsfest.com/wp-content/uploads/2023/10/Letters-to-our-Ancestors-copy.jpg
END:VEVENT
BEGIN:VEVENT
DTSTART;TZID=America/Los_Angeles:20231119T130000
DTEND;TZID=America/Los_Angeles:20231119T150000
DTSTAMP:20260421T200356
CREATED:20231004T230609Z
LAST-MODIFIED:20231005T193732Z
UID:12800-1700398800-1700406000@laskinsfest.com
SUMMARY:Frybread Face and Me
DESCRIPTION:It’s 1990. Benny is a Native American boy growing up in San Diego who plays with dolls and listens to Fleetwood Mac. Everything Benny thinks he knows about himself and his family is turned upside down when his parents force him to spend the summer at his Grandma Lorraine’s sheep ranch on the reservation in Arizona. There he meets his cousin Dawn— AKA Frybread Face\, a pudgy 11-year-old vagabond\, tough-as-nails tomboy. Benny has never met anyone like her\, and he is equally intimidated and impressed by her knowledge of Navajo language and tradition. Benny is introduced to Navajo life on the Rez\, and his unruly uncle Marvin. Together\, Benny and Fry create a memorable summer.
URL:https://laskinsfest.com/event/frybread-face-and-me/
LOCATION:TCL Chinese 6 Theatres\, 6801 Hollywood Blvd 3rd Level\, Hollywood\, CA\, 90028\, United States
CATEGORIES:Screening
ATTACH;FMTTYPE=image/jpeg:https://laskinsfest.com/wp-content/uploads/2023/10/FRYBREAD-FACE-copy.jpg
END:VEVENT
BEGIN:VEVENT
DTSTART;TZID=America/Los_Angeles:20231119T160000
DTEND;TZID=America/Los_Angeles:20231119T183000
DTSTAMP:20260421T200356
CREATED:20231003T231330Z
LAST-MODIFIED:20231005T194046Z
UID:12588-1700409600-1700418600@laskinsfest.com
SUMMARY:Nihtâwikihew / ᓂᐦᑖᐃᐧᑭᐦᐁᐤ / she gives birth
DESCRIPTION:Sâkowêw is a young woman in a remote community who just wants to welcome her new baby safely into the world. She trusts Auntie Mary to honour her family’s traditions. \nWhen something goes wrong\, she’s snatched from warmth and safety\, and spirited away to a disorienting place she never wanted to go. \nTold from her perspective\, Sâkowêw’s story of giving birth lays bare the anti-Indigenous racism entrenched in health systems across Canada. Through intimate conversations with family and harrowing experiences at the local health centre\, the film plunges audiences headlong into the deep impacts of colonialism\, poor communication\, and personal bias that Indigenous communities face.
URL:https://laskinsfest.com/event/nihtawikihew-%e1%93%82%e1%90%a6%e1%91%96%e1%90%83%e1%90%a7%e1%91%ad%e1%90%a6%e1%90%81%e1%90%a4-she-gives-birth/
LOCATION:CA
CATEGORIES:Screening
ATTACH;FMTTYPE=image/jpeg:https://laskinsfest.com/wp-content/uploads/2023/10/she-gives-birth-2-.jpg
END:VEVENT
BEGIN:VEVENT
DTSTART;TZID=America/Los_Angeles:20231119T160000
DTEND;TZID=America/Los_Angeles:20231119T183000
DTSTAMP:20260421T200356
CREATED:20231003T231353Z
LAST-MODIFIED:20231003T231353Z
UID:12591-1700409600-1700418600@laskinsfest.com
SUMMARY:Latina Book Club
DESCRIPTION:A group of Latinas come together to create a space of their own only to find they discover more about themselves.
URL:https://laskinsfest.com/event/latina-book-club/
LOCATION:TCL Chinese 6 Theatres\, 6801 Hollywood Blvd 3rd Level\, Hollywood\, CA\, 90028\, United States
CATEGORIES:Screening
ATTACH;FMTTYPE=image/jpeg:https://laskinsfest.com/wp-content/uploads/2023/10/The-Latina-Book-Club-copy.jpg
END:VEVENT
BEGIN:VEVENT
DTSTART;TZID=America/Los_Angeles:20231119T160000
DTEND;TZID=America/Los_Angeles:20231119T183000
DTSTAMP:20260421T200356
CREATED:20231003T231409Z
LAST-MODIFIED:20231003T231409Z
UID:12594-1700409600-1700418600@laskinsfest.com
SUMMARY:Be Good\, Stay Safe
DESCRIPTION:An Indigenous college student who shows up at her best friend Molly’s house for a study session turned Halloween house party of which Lucille wasn’t aware. As she enters the house\, Lucille sees the Deer Lady standing in the midst of the party\, but she quickly vanishes. The Deer Lady warns Lucille of danger at the party and Lucille is forced to reckon with her own desire to get her work done while she tries to understand what the Deer Lady could mean.
URL:https://laskinsfest.com/event/be-good-stay-safe/
LOCATION:TCL Chinese 6 Theatres\, 6801 Hollywood Blvd 3rd Level\, Hollywood\, CA\, 90028\, United States
CATEGORIES:Screening
ATTACH;FMTTYPE=image/jpeg:https://laskinsfest.com/wp-content/uploads/2023/10/Be-Good-Stay-Safe-copy.jpg
END:VEVENT
BEGIN:VEVENT
DTSTART;TZID=America/Los_Angeles:20231119T160000
DTEND;TZID=America/Los_Angeles:20231119T183000
DTSTAMP:20260421T200356
CREATED:20231003T231423Z
LAST-MODIFIED:20231006T155635Z
UID:12597-1700409600-1700418600@laskinsfest.com
SUMMARY:Temperance (A Virtue)
DESCRIPTION:Frank\, a couple months sober\, attends his friends going-away party.
URL:https://laskinsfest.com/event/temperance/
LOCATION:TCL Chinese 6 Theatres\, 6801 Hollywood Blvd 3rd Level\, Hollywood\, CA\, 90028\, United States
CATEGORIES:Screening
ATTACH;FMTTYPE=image/jpeg:https://laskinsfest.com/wp-content/uploads/2023/10/Temperance-copy-1.jpg
END:VEVENT
BEGIN:VEVENT
DTSTART;TZID=America/Los_Angeles:20231119T160000
DTEND;TZID=America/Los_Angeles:20231119T183000
DTSTAMP:20260421T200356
CREATED:20231003T231504Z
LAST-MODIFIED:20231003T231504Z
UID:12604-1700409600-1700418600@laskinsfest.com
SUMMARY:Dear John
DESCRIPTION:An indigenous woman pitches her song\, “Dear John” for the live action Pocahontas.
URL:https://laskinsfest.com/event/dear-john/
LOCATION:TCL Chinese 6 Theatres\, 6801 Hollywood Blvd 3rd Level\, Hollywood\, CA\, 90028\, United States
CATEGORIES:Screening
ATTACH;FMTTYPE=image/jpeg:https://laskinsfest.com/wp-content/uploads/2023/10/Dear-John-copy.jpg
END:VEVENT
BEGIN:VEVENT
DTSTART;TZID=America/Los_Angeles:20231119T160000
DTEND;TZID=America/Los_Angeles:20231119T183000
DTSTAMP:20260421T200356
CREATED:20231005T221300Z
LAST-MODIFIED:20231006T012856Z
UID:12585-1700409600-1700418600@laskinsfest.com
SUMMARY:Dating Indian
DESCRIPTION:Tara is happy she can finally bring a Native boyfriend home to her family\, only to find out the night before that he’s not really Native.
URL:https://laskinsfest.com/event/dating-indian/
LOCATION:TCL Chinese 6 Theatres\, 6801 Hollywood Blvd 3rd Level\, Hollywood\, CA\, 90028\, United States
CATEGORIES:Screening
ATTACH;FMTTYPE=image/jpeg:https://laskinsfest.com/wp-content/uploads/2023/10/Dating-Indian-copy.jpg
END:VEVENT
BEGIN:VEVENT
DTSTART;TZID=America/Los_Angeles:20231119T160000
DTEND;TZID=America/Los_Angeles:20231119T183000
DTSTAMP:20260421T200356
CREATED:20231005T231117Z
LAST-MODIFIED:20231009T165826Z
UID:12582-1700409600-1700418600@laskinsfest.com
SUMMARY:MY BROTHER
DESCRIPTION:Stunning Hawai’i backdrops frame this touching drama about a Tongan brother and sister at rugby practice. Recovering from a recent injury and rejected from another University\, Alofa is ready to give up. Meanwhile\, her brother Malu races against time to encourage his sister and pass on valuable life lessons before it’s too late.
URL:https://laskinsfest.com/event/my-brother/
LOCATION:TCL Chinese 6 Theatres\, 6801 Hollywood Blvd 3rd Level\, Hollywood\, CA\, 90028\, United States
CATEGORIES:Screening
ATTACH;FMTTYPE=image/jpeg:https://laskinsfest.com/wp-content/uploads/2023/10/MY-BROTHER-copy.jpg
END:VEVENT
BEGIN:VEVENT
DTSTART;TZID=America/Los_Angeles:20231119T160000
DTEND;TZID=America/Los_Angeles:20231119T180000
DTSTAMP:20260421T200356
CREATED:20231009T221422Z
LAST-MODIFIED:20231009T221422Z
UID:12953-1700409600-1700416800@laskinsfest.com
SUMMARY:Nahual
DESCRIPTION:When Victoria\, a young and immature artist\, assumes guardianship of her little sister after the death of their mother\, she must fend off a mysterious creature during a CPS visit or risk losing her sister forever.
URL:https://laskinsfest.com/event/nahual/
LOCATION:TCL Chinese 6 Theatres\, 6801 Hollywood Blvd 3rd Level\, Hollywood\, CA\, 90028\, United States
CATEGORIES:Screening
ATTACH;FMTTYPE=image/jpeg:https://laskinsfest.com/wp-content/uploads/2023/10/Nahual-copy.jpg
END:VEVENT
END:VCALENDAR