BEGIN:VCALENDAR
VERSION:2.0
PRODID:-//LA Skins Fest - ECPv5.16.4.1//NONSGML v1.0//EN
CALSCALE:GREGORIAN
METHOD:PUBLISH
X-WR-CALNAME:LA Skins Fest
X-ORIGINAL-URL:https://laskinsfest.com
X-WR-CALDESC:Events for LA Skins Fest
BEGIN:VTIMEZONE
TZID:America/Los_Angeles
BEGIN:DAYLIGHT
TZOFFSETFROM:-0800
TZOFFSETTO:-0700
TZNAME:PDT
DTSTART:20230312T100000
END:DAYLIGHT
BEGIN:STANDARD
TZOFFSETFROM:-0700
TZOFFSETTO:-0800
TZNAME:PST
DTSTART:20231105T090000
END:STANDARD
END:VTIMEZONE
BEGIN:VEVENT
DTSTART;TZID=America/Los_Angeles:20231118T120000
DTEND;TZID=America/Los_Angeles:20231118T140000
DTSTAMP:20260421T195715
CREATED:20231003T203847Z
LAST-MODIFIED:20231006T011058Z
UID:12701-1700308800-1700316000@laskinsfest.com
SUMMARY:Kachinas in Space
DESCRIPTION:A Native man on a distant plane finds a mysterious helmet.
URL:https://laskinsfest.com/event/kachinas-in-space/
LOCATION:TCL Chinese 6 Theatres\, 6801 Hollywood Blvd 3rd Level\, Hollywood\, CA\, 90028\, United States
CATEGORIES:Screening
ATTACH;FMTTYPE=image/jpeg:https://laskinsfest.com/wp-content/uploads/2023/10/Kachinas-in-Space-copy.jpg
END:VEVENT
BEGIN:VEVENT
DTSTART;TZID=America/Los_Angeles:20231118T120000
DTEND;TZID=America/Los_Angeles:20231118T140000
DTSTAMP:20260421T195715
CREATED:20231003T223659Z
LAST-MODIFIED:20231005T184908Z
UID:12689-1700308800-1700316000@laskinsfest.com
SUMMARY:Tala's Bedtime Story
DESCRIPTION:After having a nightmare about his grandfather\, Tala looks to his mother for answers. She recounts a tale about Tala’s grandfather and how he got his name. In this tale\, she tells him about his grandfather’s friend\, a monkey named Susie\, and their journey to Pulotu\, a place without light.
URL:https://laskinsfest.com/event/talas-bedtime/
LOCATION:TCL Chinese 6 Theatres\, 6801 Hollywood Blvd 3rd Level\, Hollywood\, CA\, 90028\, United States
CATEGORIES:Screening
ATTACH;FMTTYPE=image/jpeg:https://laskinsfest.com/wp-content/uploads/2023/10/Talas-Bedtime-.jpg
END:VEVENT
BEGIN:VEVENT
DTSTART;TZID=America/Los_Angeles:20231118T120000
DTEND;TZID=America/Los_Angeles:20231118T140000
DTSTAMP:20260421T195715
CREATED:20231003T223744Z
LAST-MODIFIED:20231003T223744Z
UID:12692-1700308800-1700316000@laskinsfest.com
SUMMARY:Meneath: The Hidden Island of Ethics
DESCRIPTION:Meneath: The Hidden Island of Ethics dives deeply into the innate contrast between the Seven Deadly Sins (Lust\, Gluttony\, Greed\, Sloth\, Wrath\, Pride and Envy) and the Seven Sacred Teachings (Love\, Respect\, Wisdom\, Courage\, Truth\, Honesty and Humility)\, as embodied in the life of a precocious Métis baby. Brought to life by Terril Calder’s darkly beautiful stop-motion animation\, Baby Girl’s inner turmoil is laid bare with unflinching honesty. Convinced she’s soiled and destined for Hell\, Baby Girl receives Anishinaabe Teachings from Nokomis that fill her with strength and pride\, and affirm a path towards healing. Calder’s tour-de-force unearths a hauntingly familiar yet hopeful world that illuminates the bias of colonial systems.
URL:https://laskinsfest.com/event/meneath-the-hidden-island-of-ethics/
LOCATION:TCL Chinese 6 Theatres\, 6801 Hollywood Blvd 3rd Level\, Hollywood\, CA\, 90028\, United States
CATEGORIES:Screening
ATTACH;FMTTYPE=image/jpeg:https://laskinsfest.com/wp-content/uploads/2023/10/Meneath-The-Hidden-Island-of-Ethics-.jpg
END:VEVENT
BEGIN:VEVENT
DTSTART;TZID=America/Los_Angeles:20231118T120000
DTEND;TZID=America/Los_Angeles:20231118T140000
DTSTAMP:20260421T195715
CREATED:20231003T223758Z
LAST-MODIFIED:20231003T223804Z
UID:12695-1700308800-1700316000@laskinsfest.com
SUMMARY:Decolonizing Data
DESCRIPTION:An animation project created in collaboration with the Seattle Indian Health Board\, to raise awareness of utilizing digital data to preserve cultural knowledge and information.
URL:https://laskinsfest.com/event/decolonizing-data/
LOCATION:TCL Chinese 6 Theatres\, 6801 Hollywood Blvd 3rd Level\, Hollywood\, CA\, 90028\, United States
CATEGORIES:Screening
ATTACH;FMTTYPE=image/jpeg:https://laskinsfest.com/wp-content/uploads/2023/10/Decolonizing-Data-.jpg
END:VEVENT
BEGIN:VEVENT
DTSTART;TZID=America/Los_Angeles:20231118T120000
DTEND;TZID=America/Los_Angeles:20231118T140000
DTSTAMP:20260421T195715
CREATED:20231003T223833Z
LAST-MODIFIED:20231006T192223Z
UID:12698-1700308800-1700316000@laskinsfest.com
SUMMARY:Rabbit Stories - ᏥᏍᏚ ᏗᎧᏃᎮᏢᏅ
DESCRIPTION:Rabbit Stories is a Cherokee series that captures the essence of Cherokee culture and entirely in the Cherokee Language. This show is made possible by the Cherokee Nation\, and the talented Cherokee cast\, which includes the renowned academy award winning Wes Studi\, who is nothing short of exceptional. The director\, Joseph Erb\, brings his unique vision to life\, creating a show about the Cherokee community.
URL:https://laskinsfest.com/event/rabbit-stories-%ea%ae%b5%ea%ae%9d%ea%ae%aa-%ea%ae%a7%ea%ad%b7%ea%ae%93%ea%ad%be%ea%ae%b2%ea%ae%95/
LOCATION:TCL Chinese 6 Theatres\, 6801 Hollywood Blvd 3rd Level\, Hollywood\, CA\, 90028\, United States
CATEGORIES:Screening
ATTACH;FMTTYPE=image/jpeg:https://laskinsfest.com/wp-content/uploads/2023/10/Rabbit-Stories-ᏥᏍᏚ-ᏗᎧᏃᎮᏢᏅ.jpg
END:VEVENT
BEGIN:VEVENT
DTSTART;TZID=America/Los_Angeles:20231118T140000
DTEND;TZID=America/Los_Angeles:20231118T153000
DTSTAMP:20260421T195715
CREATED:20231003T224230Z
LAST-MODIFIED:20231006T131116Z
UID:12607-1700316000-1700321400@laskinsfest.com
SUMMARY:Starbound
DESCRIPTION:Starbound is a short sci-fi/ family drama that explores the return of eight year old Billy Campbell after being abducted by aliens four years earlier.
URL:https://laskinsfest.com/event/starbound/
LOCATION:TCL Chinese 6 Theatres\, 6801 Hollywood Blvd 3rd Level\, Hollywood\, CA\, 90028\, United States
CATEGORIES:Screening
ATTACH;FMTTYPE=image/jpeg:https://laskinsfest.com/wp-content/uploads/2023/10/Starbound.jpg
END:VEVENT
BEGIN:VEVENT
DTSTART;TZID=America/Los_Angeles:20231118T140000
DTEND;TZID=America/Los_Angeles:20231118T153000
DTSTAMP:20260421T195715
CREATED:20231003T224318Z
LAST-MODIFIED:20231003T224318Z
UID:12610-1700316000-1700321400@laskinsfest.com
SUMMARY:The Tomahawk
DESCRIPTION:An indigenous Canadian scout meets a young German soldier in the snowy forests of Europe during the Second World War.
URL:https://laskinsfest.com/event/the-tomahawk/
LOCATION:TCL Chinese 6 Theatres\, 6801 Hollywood Blvd 3rd Level\, Hollywood\, CA\, 90028\, United States
CATEGORIES:Screening
ATTACH;FMTTYPE=image/jpeg:https://laskinsfest.com/wp-content/uploads/2023/10/The-Tomahawk.jpg
END:VEVENT
BEGIN:VEVENT
DTSTART;TZID=America/Los_Angeles:20231118T140000
DTEND;TZID=America/Los_Angeles:20231118T153000
DTSTAMP:20260421T195715
CREATED:20231003T224356Z
LAST-MODIFIED:20231006T131335Z
UID:12613-1700316000-1700321400@laskinsfest.com
SUMMARY:Zombies Don't Eat Stupid People
DESCRIPTION:In a world with Zombies\, a dysfunctional zombie control task force is the last line of defence. Let by the well-intentioned Captain Chris\, his bumbling team is charged with investigating and containing zombie outbreaks.
URL:https://laskinsfest.com/event/zombies-dont-eat-stupid-people/
LOCATION:TCL Chinese 6 Theatres\, 6801 Hollywood Blvd 3rd Level\, Hollywood\, CA\, 90028\, United States
CATEGORIES:Screening
ATTACH;FMTTYPE=image/jpeg:https://laskinsfest.com/wp-content/uploads/2023/10/Zombies-Dont-Eat-Stupid-People-.jpg
END:VEVENT
BEGIN:VEVENT
DTSTART;TZID=America/Los_Angeles:20231118T140000
DTEND;TZID=America/Los_Angeles:20231118T153000
DTSTAMP:20260421T195715
CREATED:20231003T224414Z
LAST-MODIFIED:20231008T140548Z
UID:12616-1700316000-1700321400@laskinsfest.com
SUMMARY:EPHEMERA
DESCRIPTION:A two-spirit male cruises a hook-up app as he looks for companionship for the night. A welcomed familiar person invites him over as he contemplates his existence\, the future and what it means to be who he is in this day in age.
URL:https://laskinsfest.com/event/ephemera/
LOCATION:TCL Chinese 6 Theatres\, 6801 Hollywood Blvd 3rd Level\, Hollywood\, CA\, 90028\, United States
CATEGORIES:Screening
ATTACH;FMTTYPE=image/jpeg:https://laskinsfest.com/wp-content/uploads/2023/10/EPHEMERA.jpg
END:VEVENT
BEGIN:VEVENT
DTSTART;TZID=America/Los_Angeles:20231118T140000
DTEND;TZID=America/Los_Angeles:20231118T153000
DTSTAMP:20260421T195715
CREATED:20231003T224445Z
LAST-MODIFIED:20231008T140612Z
UID:12619-1700316000-1700321400@laskinsfest.com
SUMMARY:Mémère
DESCRIPTION:Mémère follows the story of a devoted grandson’s fluke opportunity to take his Grandmother on a trip down memory lane.
URL:https://laskinsfest.com/event/memere/
LOCATION:TCL Chinese 6 Theatres\, 6801 Hollywood Blvd 3rd Level\, Hollywood\, CA\, 90028\, United States
CATEGORIES:Screening
ATTACH;FMTTYPE=image/jpeg:https://laskinsfest.com/wp-content/uploads/2023/10/Mémère.jpg
END:VEVENT
BEGIN:VEVENT
DTSTART;TZID=America/Los_Angeles:20231118T140000
DTEND;TZID=America/Los_Angeles:20231118T153000
DTSTAMP:20260421T195715
CREATED:20231003T224626Z
LAST-MODIFIED:20231008T140917Z
UID:12622-1700316000-1700321400@laskinsfest.com
SUMMARY:Unless You Have Been There
DESCRIPTION:Kristen and Gabe share the same home yet live on opposite ends of security and oppression.
URL:https://laskinsfest.com/event/unless-you-have-been-there/
LOCATION:TCL Chinese 6 Theatres\, 6801 Hollywood Blvd 3rd Level\, Hollywood\, CA\, 90028\, United States
CATEGORIES:Screening
ATTACH;FMTTYPE=image/jpeg:https://laskinsfest.com/wp-content/uploads/2023/10/Unless-You-Have-Been-There.jpg
END:VEVENT
BEGIN:VEVENT
DTSTART;TZID=America/Los_Angeles:20231118T140000
DTEND;TZID=America/Los_Angeles:20231118T160000
DTSTAMP:20260421T195715
CREATED:20231010T164927Z
LAST-MODIFIED:20231010T165122Z
UID:12963-1700316000-1700323200@laskinsfest.com
SUMMARY:Lucky Man
DESCRIPTION:Highs and lows\, snapshot tragedy. A look into the life of a man on the edge. 
URL:https://laskinsfest.com/event/lucky-many/
LOCATION:TCL Chinese 6 Theatres\, 6801 Hollywood Blvd 3rd Level\, Hollywood\, CA\, 90028\, United States
CATEGORIES:Screening
ATTACH;FMTTYPE=image/jpeg:https://laskinsfest.com/wp-content/uploads/2023/10/Lucky-Man-copy.jpg
END:VEVENT
BEGIN:VEVENT
DTSTART;TZID=America/Los_Angeles:20231118T160000
DTEND;TZID=America/Los_Angeles:20231118T190000
DTSTAMP:20260421T195715
CREATED:20231003T224955Z
LAST-MODIFIED:20231003T232911Z
UID:12623-1700323200-1700334000@laskinsfest.com
SUMMARY:Ooxono (From Here)
DESCRIPTION:This film by Isaac Michael Ybarra (Tongva\, Chumash\, Chicano)\, juxtaposes visual themes of decolonial cultural preservation and urban/invasive infrastructure. Ooxono (From Here) is a short poem pushing back against the use of the term Urban Native within the context of Tovaangar (Los Angeles) and the erasure it creates against First Peoples. \nOoxono (O’o-ha-ono) translates/refers to the english term “Land”.
URL:https://laskinsfest.com/event/ooxono-from-here/
LOCATION:TCL Chinese 6 Theatres\, 6801 Hollywood Blvd 3rd Level\, Hollywood\, CA\, 90028\, United States
CATEGORIES:Screening
ATTACH;FMTTYPE=image/jpeg:https://laskinsfest.com/wp-content/uploads/2023/10/Ooxono-From-Here-copy.jpg
END:VEVENT
BEGIN:VEVENT
DTSTART;TZID=America/Los_Angeles:20231118T160000
DTEND;TZID=America/Los_Angeles:20231118T190000
DTSTAMP:20260421T195715
CREATED:20231003T225017Z
LAST-MODIFIED:20231003T225312Z
UID:12626-1700323200-1700334000@laskinsfest.com
SUMMARY:Sahnish Survival Camp
DESCRIPTION:This is a story about Whirlwind Bull Yellow Bear\, and his quest to reconnect young boys and girls to their indigenous roots of living off the land. While relearning what it is to be independent in today’s society of fast paced living and technology.
URL:https://laskinsfest.com/event/sahnish-survival-camp/
LOCATION:TCL Chinese 6 Theatres\, 6801 Hollywood Blvd 3rd Level\, Hollywood\, CA\, 90028\, United States
CATEGORIES:Screening
ATTACH;FMTTYPE=image/jpeg:https://laskinsfest.com/wp-content/uploads/2023/10/Sahnish-Survival-Camp.jpg
END:VEVENT
BEGIN:VEVENT
DTSTART;TZID=America/Los_Angeles:20231118T160000
DTEND;TZID=America/Los_Angeles:20231118T190000
DTSTAMP:20260421T195715
CREATED:20231003T225429Z
LAST-MODIFIED:20231005T185649Z
UID:12629-1700323200-1700334000@laskinsfest.com
SUMMARY:My Whole Healthy Life - Meet Wa.Sta.Tse
DESCRIPTION:Meet Wa.Sta.Tse and her family! Within their Native American community\, they do many things to care for and support each other in being healthy\, relaxed\, and centered. Staying healthy isn’t just about going to the doctor!
URL:https://laskinsfest.com/event/my-whole-healthy-life-meet-wa-sta-tse/
LOCATION:TCL Chinese 6 Theatres\, 6801 Hollywood Blvd 3rd Level\, Hollywood\, CA\, 90028\, United States
CATEGORIES:Screening
ATTACH;FMTTYPE=image/jpeg:https://laskinsfest.com/wp-content/uploads/2023/10/My-Whole-Healthy-Life-Meet-Wa.Sta_.Tse_.jpg
END:VEVENT
BEGIN:VEVENT
DTSTART;TZID=America/Los_Angeles:20231118T160000
DTEND;TZID=America/Los_Angeles:20231118T190000
DTSTAMP:20260421T195715
CREATED:20231003T225448Z
LAST-MODIFIED:20231003T225448Z
UID:12632-1700323200-1700334000@laskinsfest.com
SUMMARY:Weaving A Legacy: Ella Mae Blackbear
DESCRIPTION:Ella Mae Blackbear was named a Cherokee National Treasure in 1990 in basketry. We explore how her legacy lives on in the lives of those who knew her and others who are still studying her work today.
URL:https://laskinsfest.com/event/weaving-a-legacy-ella-mae-blackbear/
LOCATION:TCL Chinese 6 Theatres\, 6801 Hollywood Blvd 3rd Level\, Hollywood\, CA\, 90028\, United States
CATEGORIES:Screening
ATTACH;FMTTYPE=image/jpeg:https://laskinsfest.com/wp-content/uploads/2023/10/Rescuing-Tar-Creek-Water-Protector-Rebecca-Jim-copy.jpg
END:VEVENT
BEGIN:VEVENT
DTSTART;TZID=America/Los_Angeles:20231118T160000
DTEND;TZID=America/Los_Angeles:20231118T190000
DTSTAMP:20260421T195715
CREATED:20231003T225521Z
LAST-MODIFIED:20231003T234537Z
UID:12635-1700323200-1700334000@laskinsfest.com
SUMMARY:Figure It Out: AFP and Depression
DESCRIPTION:In this short documentary\, award-winning indie filmmaker Mike J. Marin (Navajo/Laguna Pueblo/Washoe) invites us into his struggle with trauma and depression and how the growing art of action figure photography saved his life in the early days of the Covid-19 pandemic and how this new medium continues to serve as an artistic and creative therapy.
URL:https://laskinsfest.com/event/figure-it-out-afp-and-depression/
LOCATION:TCL Chinese 6 Theatres\, 6801 Hollywood Blvd 3rd Level\, Hollywood\, CA\, 90028\, United States
CATEGORIES:Screening
ATTACH;FMTTYPE=image/jpeg:https://laskinsfest.com/wp-content/uploads/2023/10/Figure-It-Out-AFP-and-Depression-copy.jpg
END:VEVENT
BEGIN:VEVENT
DTSTART;TZID=America/Los_Angeles:20231118T160000
DTEND;TZID=America/Los_Angeles:20231118T190000
DTSTAMP:20260421T195715
CREATED:20231003T225545Z
LAST-MODIFIED:20231005T185930Z
UID:12638-1700323200-1700334000@laskinsfest.com
SUMMARY:HEALING OF THE DRAGONFLY
DESCRIPTION:Meet Joe Pulliam\, an Oglala Lakota Sioux artist living in Rapid City in the state of South Dakota. Father of 4\, Joe Pulliam opened an art gallery exclusively with his work\, painting on ledgers inspired by his culture and traditional life. This documentary tells his story\, and his artistic journey from Pine Ridge reservation\, to his last exhibition in Rapid City\, SD.
URL:https://laskinsfest.com/event/healing-of-the-dragonfly/
LOCATION:TCL Chinese 6 Theatres\, 6801 Hollywood Blvd 3rd Level\, Hollywood\, CA\, 90028\, United States
CATEGORIES:Screening
ATTACH;FMTTYPE=image/jpeg:https://laskinsfest.com/wp-content/uploads/2023/10/HEALING-OF-THE-DRAGONFLY-copy.jpg
END:VEVENT
BEGIN:VEVENT
DTSTART;TZID=America/Los_Angeles:20231118T160000
DTEND;TZID=America/Los_Angeles:20231118T190000
DTSTAMP:20260421T195715
CREATED:20231003T225704Z
LAST-MODIFIED:20231005T190000Z
UID:12641-1700323200-1700334000@laskinsfest.com
SUMMARY:MORE BOUNCE
DESCRIPTION:More Bounce documents three Samoan men as they retell their journey of being bouncers in Southern California. As the men reflect on their experiences\, they recall the ways in which the job often confronted them with violence\, but also made way for them to forge relationships with other Samoans on the job.
URL:https://laskinsfest.com/event/more-bounce/
LOCATION:TCL Chinese 6 Theatres\, 6801 Hollywood Blvd 3rd Level\, Hollywood\, CA\, 90028\, United States
CATEGORIES:Screening
ATTACH;FMTTYPE=image/jpeg:https://laskinsfest.com/wp-content/uploads/2023/10/MORE-BOUNCE-copy.jpg
END:VEVENT
BEGIN:VEVENT
DTSTART;TZID=America/Los_Angeles:20231118T160000
DTEND;TZID=America/Los_Angeles:20231118T190000
DTSTAMP:20260421T195715
CREATED:20231003T225721Z
LAST-MODIFIED:20231003T225721Z
UID:12644-1700323200-1700334000@laskinsfest.com
SUMMARY:Radio Bingo
DESCRIPTION:To help revitalize the Mohawk language\, a local reservation radio station incorporates the Mohawk language into a game of Radio Bingo.
URL:https://laskinsfest.com/event/radio-bingo/
LOCATION:TCL Chinese 6 Theatres\, 6801 Hollywood Blvd 3rd Level\, Hollywood\, CA\, 90028\, United States
CATEGORIES:Screening
ATTACH;FMTTYPE=image/jpeg:https://laskinsfest.com/wp-content/uploads/2023/10/Radio-Bingo-copy.jpg
END:VEVENT
BEGIN:VEVENT
DTSTART;TZID=America/Los_Angeles:20231118T160000
DTEND;TZID=America/Los_Angeles:20231118T190000
DTSTAMP:20260421T195715
CREATED:20231003T225740Z
LAST-MODIFIED:20231003T225740Z
UID:12647-1700323200-1700334000@laskinsfest.com
SUMMARY:Rescuing Tar Creek: Water Protector Rebecca Jim
DESCRIPTION:Tar Creek\, located in Northeastern Oklahoma\, is one of the most heavily-polluted waterways in the United States. As a lifelong environmentalist\, Cherokee Nation citizen Rebecca Jim has devoted her life to cleaning up Tar Creek by holding Cherokee values and her kinship with the land at the forefront of her battle to save our precious waterways.
URL:https://laskinsfest.com/event/rescuing-tar-creek-water-protector-rebecca-jim/
LOCATION:TCL Chinese 6 Theatres\, 6801 Hollywood Blvd 3rd Level\, Hollywood\, CA\, 90028\, United States
CATEGORIES:Screening
ATTACH;FMTTYPE=image/jpeg:https://laskinsfest.com/wp-content/uploads/2023/10/Rescuing-Tar-Creek-Water-Protector-Rebecca-Jim-copy-1.jpg
END:VEVENT
BEGIN:VEVENT
DTSTART;TZID=America/Los_Angeles:20231118T160000
DTEND;TZID=America/Los_Angeles:20231118T190000
DTSTAMP:20260421T195715
CREATED:20231009T221917Z
LAST-MODIFIED:20231009T221917Z
UID:12959-1700323200-1700334000@laskinsfest.com
SUMMARY:KA ʻĀʻUMEʻUME: NAVIGATING HOME
DESCRIPTION:Six Kānaka ʻŌiwi (Native Hawaiians) share their voyages in and out of diaspora. Their collective moʻolelo (story) wades through hope\, grief\, wisdom\, and the effects of the illegal occupation of their homeland. They share the pull they have felt to return to Hawaiʻi and ka ʻāʻumeʻume (the struggle) to stay.
URL:https://laskinsfest.com/event/ka-%ca%bba%ca%bbume%ca%bbume-navigating-home/
LOCATION:TCL Chinese 6 Theatres\, 6801 Hollywood Blvd 3rd Level\, Hollywood\, CA\, 90028\, United States
CATEGORIES:Screening
ATTACH;FMTTYPE=image/jpeg:https://laskinsfest.com/wp-content/uploads/2023/10/KA-ʻĀʻUMEʻUME-NAVIGATING-HOME-copy.jpg
END:VEVENT
BEGIN:VEVENT
DTSTART;TZID=America/Los_Angeles:20231118T190000
DTEND;TZID=America/Los_Angeles:20231118T220000
DTSTAMP:20260421T195715
CREATED:20231003T230028Z
LAST-MODIFIED:20231003T232300Z
UID:12558-1700334000-1700344800@laskinsfest.com
SUMMARY:Work is Ceremony
DESCRIPTION:A short dance film exploring the love of Rick Bartow and Julie Swan.
URL:https://laskinsfest.com/event/work-is-ceremony/
LOCATION:TCL Chinese 6 Theatres\, 6801 Hollywood Blvd 3rd Level\, Hollywood\, CA\, 90028\, United States
CATEGORIES:Screening
ATTACH;FMTTYPE=image/jpeg:https://laskinsfest.com/wp-content/uploads/2023/10/Work-is-Ceremony.jpg
END:VEVENT
BEGIN:VEVENT
DTSTART;TZID=America/Los_Angeles:20231118T190000
DTEND;TZID=America/Los_Angeles:20231118T220000
DTSTAMP:20260421T195715
CREATED:20231003T230124Z
LAST-MODIFIED:20231003T232549Z
UID:12561-1700334000-1700344800@laskinsfest.com
SUMMARY:If I Ever Get Out of Here
DESCRIPTION:After waking up alone in a forest and determined to find a way out\, a young Native artist finds company in a mysterious voice on the other end of a walkie-talkie as she is tormented by an ominous hooded monster.
URL:https://laskinsfest.com/event/if-i-ever-get-out-of-here/
LOCATION:TCL Chinese 6 Theatres\, 6801 Hollywood Blvd 3rd Level\, Hollywood\, CA\, 90028\, United States
CATEGORIES:Screening
ATTACH;FMTTYPE=image/jpeg:https://laskinsfest.com/wp-content/uploads/2023/10/If-I-Ever-Get-Out-of-Here.jpg
END:VEVENT
BEGIN:VEVENT
DTSTART;TZID=America/Los_Angeles:20231118T190000
DTEND;TZID=America/Los_Angeles:20231118T220000
DTSTAMP:20260421T195715
CREATED:20231003T230145Z
LAST-MODIFIED:20231003T230145Z
UID:12564-1700334000-1700344800@laskinsfest.com
SUMMARY:Not Afraid
DESCRIPTION:After a blow-up during basketball practice\, Olivia struggles to face a deeper devastating reality in rural Montana.
URL:https://laskinsfest.com/event/not-afraid/
LOCATION:TCL Chinese 6 Theatres\, 6801 Hollywood Blvd 3rd Level\, Hollywood\, CA\, 90028\, United States
CATEGORIES:Screening
ATTACH;FMTTYPE=image/jpeg:https://laskinsfest.com/wp-content/uploads/2023/10/Not-Afraid-copy.jpg
END:VEVENT
BEGIN:VEVENT
DTSTART;TZID=America/Los_Angeles:20231118T190000
DTEND;TZID=America/Los_Angeles:20231118T220000
DTSTAMP:20260421T195715
CREATED:20231003T230202Z
LAST-MODIFIED:20231003T230202Z
UID:12567-1700334000-1700344800@laskinsfest.com
SUMMARY:Redlights
DESCRIPTION:An evening out takes a dramatic turn for two Indigenous women\, Tina and Amber\, when Amber is suddenly taken into police custody. Fearing the worst\, Tina tails the cruiser outside city limits and makes a courageous choice to free her friend.
URL:https://laskinsfest.com/event/redlights/
LOCATION:TCL Chinese 6 Theatres\, 6801 Hollywood Blvd 3rd Level\, Hollywood\, CA\, 90028\, United States
CATEGORIES:Screening
ATTACH;FMTTYPE=image/jpeg:https://laskinsfest.com/wp-content/uploads/2023/10/Redlights-copy.jpg
END:VEVENT
BEGIN:VEVENT
DTSTART;TZID=America/Los_Angeles:20231118T190000
DTEND;TZID=America/Los_Angeles:20231118T220000
DTSTAMP:20260421T195715
CREATED:20231003T230216Z
LAST-MODIFIED:20231009T014140Z
UID:12570-1700334000-1700344800@laskinsfest.com
SUMMARY:SNACK
DESCRIPTION:On a night out with friends\, Jess briefly opens up about the grief she’s continuing to process in the aftermath of her grandfather’s death. She decides to go home early and while rummaging around in the kitchen for something to eat\, startles her grandmother and the two share a sweet moment through food and song\, remembering the man they’ve both lost.
URL:https://laskinsfest.com/event/snack/
LOCATION:TCL Chinese 6 Theatres\, 6801 Hollywood Blvd 3rd Level\, Hollywood\, CA\, 90028\, United States
CATEGORIES:Screening
ATTACH;FMTTYPE=image/jpeg:https://laskinsfest.com/wp-content/uploads/2023/10/SNACK-copy.jpg
END:VEVENT
BEGIN:VEVENT
DTSTART;TZID=America/Los_Angeles:20231118T190000
DTEND;TZID=America/Los_Angeles:20231118T220000
DTSTAMP:20260421T195715
CREATED:20231003T230232Z
LAST-MODIFIED:20231003T230232Z
UID:12573-1700334000-1700344800@laskinsfest.com
SUMMARY:Terror/Forming
DESCRIPTION:Set over the course of one evening\, Parker and his boyfriend\, Darren\, find themselves detoured on their trip and going towards Parker’s late kokum’s cabin. The men make a disturbing discovery which creates tension within the pairs already unhealthy relationship. Shot in one continuous take\, Terror/Forming\, will show paranoia\, anxiety and tension bubbling to the surface in real time as the situation escalates and devolves into chaos.
URL:https://laskinsfest.com/event/terror-forming/
LOCATION:TCL Chinese 6 Theatres\, 6801 Hollywood Blvd 3rd Level\, Hollywood\, CA\, 90028\, United States
CATEGORIES:Screening
ATTACH;FMTTYPE=image/jpeg:https://laskinsfest.com/wp-content/uploads/2023/10/Forming-2-copy.jpg
END:VEVENT
BEGIN:VEVENT
DTSTART;TZID=America/Los_Angeles:20231118T190000
DTEND;TZID=America/Los_Angeles:20231118T220000
DTSTAMP:20260421T195715
CREATED:20231003T231440Z
LAST-MODIFIED:20231006T012334Z
UID:12600-1700334000-1700344800@laskinsfest.com
SUMMARY:Two Worlds
DESCRIPTION:A father and daughter search for their missing loved one on the Salt River Indian Reservation.
URL:https://laskinsfest.com/event/two-worlds/
LOCATION:TCL Chinese 6 Theatres\, 6801 Hollywood Blvd 3rd Level\, Hollywood\, CA\, 90028\, United States
CATEGORIES:Screening
ATTACH;FMTTYPE=image/jpeg:https://laskinsfest.com/wp-content/uploads/2023/10/Two-Worlds-copy.jpg
END:VEVENT
BEGIN:VEVENT
DTSTART;TZID=America/Los_Angeles:20231118T190000
DTEND;TZID=America/Los_Angeles:20231118T220000
DTSTAMP:20260421T195715
CREATED:20231005T155926Z
LAST-MODIFIED:20231009T210415Z
UID:12834-1700334000-1700344800@laskinsfest.com
SUMMARY:Burning of the Gods
DESCRIPTION:An airplane lands. A massive cruise boat anchors off the reef\, disgorging tourists for tropical island vacations. This postcard paradise depends on petroleum imports to fuel its cars\, motorbikes\, boats\, hotels\, pumps and machinery. Yet if the tourists stopped coming\, what then? \nThe film opens with the prophetic words of Niuean artist John Pule and continues as a visual tone poem\, without dialogue or narration\, moving forward into the past to ask questions about the future. A young man travels back in time\, from luxury resorts and lagoon tours through pandemic and population exodus\, to early Christianity when missionaries incinerated his island’s atua and marae. Finally he reconnects with his tīpuna who settled the island a thousand years ago. \n“A return to Gods of long ago\, cryptic in beauty and honest in perspective.” — CF
URL:https://laskinsfest.com/event/burning-of-the-gods/
LOCATION:TCL Chinese 6 Theatres\, 6801 Hollywood Blvd 3rd Level\, Hollywood\, CA\, 90028\, United States
CATEGORIES:Screening
ATTACH;FMTTYPE=image/jpeg:https://laskinsfest.com/wp-content/uploads/2023/10/Burning-of-the-Gods-copy.jpg
END:VEVENT
END:VCALENDAR