BEGIN:VCALENDAR
VERSION:2.0
PRODID:-//LA Skins Fest - ECPv5.16.4.1//NONSGML v1.0//EN
CALSCALE:GREGORIAN
METHOD:PUBLISH
X-WR-CALNAME:LA Skins Fest
X-ORIGINAL-URL:https://laskinsfest.com
X-WR-CALDESC:Events for LA Skins Fest
BEGIN:VTIMEZONE
TZID:America/Los_Angeles
BEGIN:DAYLIGHT
TZOFFSETFROM:-0800
TZOFFSETTO:-0700
TZNAME:PDT
DTSTART:20220313T100000
END:DAYLIGHT
BEGIN:STANDARD
TZOFFSETFROM:-0700
TZOFFSETTO:-0800
TZNAME:PST
DTSTART:20221106T090000
END:STANDARD
END:VTIMEZONE
BEGIN:VEVENT
DTSTART;TZID=America/Los_Angeles:20221118T193000
DTEND;TZID=America/Los_Angeles:20221118T220000
DTSTAMP:20260422T152016
CREATED:20221019T180427Z
LAST-MODIFIED:20221019T235354Z
UID:11583-1668799800-1668808800@laskinsfest.com
SUMMARY:Cotanka Calling
DESCRIPTION:A would be couple have an instant connection and live out their love story in two different time lines or two different life times. The environment around them will play a factor in their ability to connect.
URL:https://laskinsfest.com/event/cotanka-calling/
LOCATION:TCL Chinese 6 Theatres\, 6801 Hollywood Blvd 3rd Level\, Hollywood\, CA\, 90028\, United States
CATEGORIES:Screening
ATTACH;FMTTYPE=image/jpeg:https://laskinsfest.com/wp-content/uploads/2022/10/Cotanka-Calling-1-2.jpg
END:VEVENT
BEGIN:VEVENT
DTSTART;TZID=America/Los_Angeles:20221118T193000
DTEND;TZID=America/Los_Angeles:20221118T220000
DTSTAMP:20260422T152016
CREATED:20221019T180800Z
LAST-MODIFIED:20221019T180800Z
UID:11575-1668799800-1668808800@laskinsfest.com
SUMMARY:Ellay
DESCRIPTION:Ellay is a short about how expensive it is to be poor. A day in the life of Aidan Alvarez shows how\ndifficult juggling multiple aspects of life can be. It depicts the complexity of love and what it means to\ntruly be there for someone even when the payoff isn’t what you expect. From image to reality\, Ellay\nexplores what it means to look like something vs what it means to be something.
URL:https://laskinsfest.com/event/ellay/
LOCATION:TCL Chinese 6 Theatres\, 6801 Hollywood Blvd 3rd Level\, Hollywood\, CA\, 90028\, United States
CATEGORIES:Screening
ATTACH;FMTTYPE=image/jpeg:https://laskinsfest.com/wp-content/uploads/2022/10/Ellay-wide.jpg
END:VEVENT
BEGIN:VEVENT
DTSTART;TZID=America/Los_Angeles:20221118T193000
DTEND;TZID=America/Los_Angeles:20221118T220000
DTSTAMP:20260422T152016
CREATED:20221019T180833Z
LAST-MODIFIED:20221019T213609Z
UID:11578-1668799800-1668808800@laskinsfest.com
SUMMARY:Stripper
DESCRIPTION:When 13-year-old Cricket walks past the local strip club with his friends\, nothing can prepare him for who they see walking into work: his mom. With rumors starting to spread\, Cricket must take matters into his own hands to clear his mom’s name and prove that she isn’t a stripper. https://mostbet-games.net/uz/
URL:https://laskinsfest.com/event/stripper/
LOCATION:TCL Chinese 6 Theatres\, 6801 Hollywood Blvd 3rd Level\, Hollywood\, CA\, 90028\, United States
CATEGORIES:Screening
ATTACH;FMTTYPE=image/jpeg:https://laskinsfest.com/wp-content/uploads/2022/10/Cotanka-Calling-wide-1-1.jpg
END:VEVENT
BEGIN:VEVENT
DTSTART;TZID=America/Los_Angeles:20221118T193000
DTEND;TZID=America/Los_Angeles:20221118T220000
DTSTAMP:20260422T152016
CREATED:20221019T180839Z
LAST-MODIFIED:20221019T213742Z
UID:11572-1668799800-1668808800@laskinsfest.com
SUMMARY:Commodity
DESCRIPTION:Commodity is a Modern Native American folktale about one man’s trials and tribulation to get an indian taco.
URL:https://laskinsfest.com/event/commodity/
LOCATION:TCL Chinese 6 Theatres\, 6801 Hollywood Blvd 3rd Level\, Hollywood\, CA\, 90028\, United States
CATEGORIES:Screening
ATTACH;FMTTYPE=image/jpeg:https://laskinsfest.com/wp-content/uploads/2022/10/Commodity-wide.jpg
END:VEVENT
BEGIN:VEVENT
DTSTART;TZID=America/Los_Angeles:20221118T193000
DTEND;TZID=America/Los_Angeles:20221118T220000
DTSTAMP:20260422T152016
CREATED:20221019T180846Z
LAST-MODIFIED:20221019T213835Z
UID:11569-1668799800-1668808800@laskinsfest.com
SUMMARY:Seeds
DESCRIPTION:Without parents to guide them\, Loretta and Raven reflect on the love their parents modeled and the grief of their loss. While one finds catharsis in their mother’s old VHS camera the other struggles with a potential pregnancy.
URL:https://laskinsfest.com/event/seeds/
LOCATION:TCL Chinese 6 Theatres\, 6801 Hollywood Blvd 3rd Level\, Hollywood\, CA\, 90028\, United States
CATEGORIES:Screening
ATTACH;FMTTYPE=image/jpeg:https://laskinsfest.com/wp-content/uploads/2022/10/Seeds-wide-copy.jpg
END:VEVENT
BEGIN:VEVENT
DTSTART;TZID=America/Los_Angeles:20221118T193000
DTEND;TZID=America/Los_Angeles:20221118T220000
DTSTAMP:20260422T152016
CREATED:20221019T180852Z
LAST-MODIFIED:20221019T213907Z
UID:11566-1668799800-1668808800@laskinsfest.com
SUMMARY:The Original Shareholder Experience
DESCRIPTION:THE ORIGINAL SHAREHOLDER EXPERIENCE is a short satire-thriller set in the high-elevation boardrooms of corporate conglomerate THE FREEDOM COMPANY\, following true-believer REBECCA\, an Indigenous telepresenter nearing the top of her class through selling “authentic” Native memorabilia to her audience on her show\, a mix between QVC\, Mad Money\, and The History Channel.
URL:https://laskinsfest.com/event/the-original-shareholder-experience/
LOCATION:TCL Chinese 6 Theatres\, 6801 Hollywood Blvd 3rd Level\, Hollywood\, CA\, 90028\, United States
CATEGORIES:Screening
ATTACH;FMTTYPE=image/jpeg:https://laskinsfest.com/wp-content/uploads/2022/10/The-Original-Shareholder-Experience-wide.jpg
END:VEVENT
END:VCALENDAR