BEGIN:VCALENDAR
VERSION:2.0
PRODID:-//LA Skins Fest - ECPv5.16.4.1//NONSGML v1.0//EN
CALSCALE:GREGORIAN
METHOD:PUBLISH
X-WR-CALNAME:LA Skins Fest
X-ORIGINAL-URL:https://laskinsfest.com
X-WR-CALDESC:Events for LA Skins Fest
BEGIN:VTIMEZONE
TZID:America/Los_Angeles
BEGIN:DAYLIGHT
TZOFFSETFROM:-0800
TZOFFSETTO:-0700
TZNAME:PDT
DTSTART:20210314T100000
END:DAYLIGHT
BEGIN:STANDARD
TZOFFSETFROM:-0700
TZOFFSETTO:-0800
TZNAME:PST
DTSTART:20211107T090000
END:STANDARD
END:VTIMEZONE
BEGIN:VEVENT
DTSTART;TZID=America/Los_Angeles:20211121T090000
DTEND;TZID=America/Los_Angeles:20211121T103000
DTSTAMP:20260423T095028
CREATED:20211021T201838Z
LAST-MODIFIED:20211021T202110Z
UID:10219-1637485200-1637490600@laskinsfest.com
SUMMARY:Mary Two-Axe Earley: I Am Indian Again
DESCRIPTION:Mary Two-Axe Earley: I Am Indian Again shares the powerful story of Mary Two-Axe Earley\, who fought for more than two decades to challenge the discrimination against Indigenous women embedded in Canada’s Indian Act and became a key figure in Canada’s women’s rights movement.
URL:https://laskinsfest.com/event/mary-two-axe-earley-i-am-indian-again/
CATEGORIES:Screening
ATTACH;FMTTYPE=image/jpeg:https://laskinsfest.com/wp-content/uploads/2021/10/mary-two-axe-earley-wide.jpg
END:VEVENT
BEGIN:VEVENT
DTSTART;TZID=America/Los_Angeles:20211121T090000
DTEND;TZID=America/Los_Angeles:20211121T103000
DTSTAMP:20260423T095028
CREATED:20211021T202250Z
LAST-MODIFIED:20211021T202414Z
UID:10224-1637485200-1637490600@laskinsfest.com
SUMMARY:Evan’s Drum
DESCRIPTION:An adventurous young boy and his determined mother share a passion for Inuit drum dancing in Happy Valley-Goose Bay. Evan’s Drum is a joyful visit to a family’s loving home\, and an uplifting story of cultural pride. After generations of silence\, the rhythm of the traditional Inuit drum has returned to Labrador\, and seven-year-old Evan is part of the new generation that will keep its heartbeat strong.
URL:https://laskinsfest.com/event/evans-drum/
CATEGORIES:Screening
ATTACH;FMTTYPE=image/jpeg:https://laskinsfest.com/wp-content/uploads/2021/10/evans-drum-wide.jpg
END:VEVENT
BEGIN:VEVENT
DTSTART;TZID=America/Los_Angeles:20211121T090000
DTEND;TZID=America/Los_Angeles:20211121T103000
DTSTAMP:20260423T095028
CREATED:20211021T203237Z
LAST-MODIFIED:20211021T203336Z
UID:10228-1637485200-1637490600@laskinsfest.com
SUMMARY:Adrian Sutherland - Politician Man
DESCRIPTION:Politician Man\, the debut single from Adrian Sutherland\, is a protest song for Canada. The seeds were planted in July 2019 when his Cree community of Attawapiskat declared a state of emergency over contaminated water. At the same moment\, insensitive comments from a politician in Ottawa sparked massive public outcry\, a spontaneous response from Sutherland himself\, and national media coverage. \nJump ahead to August\, when co-writing sessions with musical brothers sparked a song that was important\, timely\, and totally kickass. One day in September\, that song came to life in a recording studio. By the first week of October\, a filmmaker was adding his keen artistic eye to the message behind the music. \nPolitician Man was released October 17\, 2019\, with accompanying video by Justin Stephenson (director of animation and editor\, The Secret Path). It speaks to Canada’s troubled relationship with First Nations. Growing up in an isolated place like Attawapiskat has given Sutherland a unique perspective\, while his growing profile as an artist is now giving him a voice. This is his way of taking action\, doing something\, about the ongoing struggle that Indigenous people face in Canada\, while the country takes growing steps toward reconciliation. \n“Sometimes reconciliation sounds like an empty word\, and it’s frustrating. You keep trying to get ahead\, but there are ongoing challenges\, one obstacle after another. I have to wonder what I’m doing still living in Attawapiskat\, and if anything is ever going to make a difference\,” says Sutherland.
URL:https://laskinsfest.com/event/adrian-sutherland-politician-man/
CATEGORIES:Screening
ATTACH;FMTTYPE=image/jpeg:https://laskinsfest.com/wp-content/uploads/2021/10/politician-man-wide.jpg
END:VEVENT
BEGIN:VEVENT
DTSTART;TZID=America/Los_Angeles:20211121T103000
DTEND;TZID=America/Los_Angeles:20211121T120000
DTSTAMP:20260423T095028
CREATED:20211024T203036Z
LAST-MODIFIED:20211024T203036Z
UID:10349-1637490600-1637496000@laskinsfest.com
SUMMARY:However Wide the Sky: Places of Power
DESCRIPTION:The history and spirituality of the Indigenous People of the American Southwest are deeply rooted in the Land. Since the beginning of time\, they have been stewards and protectors of their home lands\, past and present. These places intimately connect the People and their beliefs to the natural world. No place is ever abandoned\, the landscape is forever living. This is their story\, of the Land and who they are. \n“HOWEVER WIDE THE SKY: Places of Power:” documents the rich history and significance of the Land\, as told by Tribal Leaders\, scientists\, historians and educators. Each place: Chaco Canyon\, Bears Ears\, Zuni Salt Lake\, Mount Taylor\, Pueblo of Santa Ana\, Taos Blue Lake\, Mesa Prieta and Santa Fe – tells a story of cultural strength and sustained connection\, through the continuous fight to protect the integrity and existence of these places of power.
URL:https://laskinsfest.com/event/however-wide-the-sky-places-of-power/
CATEGORIES:Screening
ATTACH;FMTTYPE=image/jpeg:https://laskinsfest.com/wp-content/uploads/2021/10/however-wide-the-sky-wide.jpg
END:VEVENT
BEGIN:VEVENT
DTSTART;TZID=America/Los_Angeles:20211121T120000
DTEND;TZID=America/Los_Angeles:20211121T140000
DTSTAMP:20260423T095028
CREATED:20211021T204202Z
LAST-MODIFIED:20211021T204202Z
UID:10233-1637496000-1637503200@laskinsfest.com
SUMMARY:Into the Circle
DESCRIPTION:Into the Circle tells the story of a resilient Indigenous family\, their journey through life-altering tragedy\, and the community that helped them reconnect with their Lakota heritage.
URL:https://laskinsfest.com/event/into-the-circle/
CATEGORIES:Screening
ATTACH;FMTTYPE=image/jpeg:https://laskinsfest.com/wp-content/uploads/2021/10/into-the-circle-wide.jpg
END:VEVENT
BEGIN:VEVENT
DTSTART;TZID=America/Los_Angeles:20211121T120000
DTEND;TZID=America/Los_Angeles:20211121T140000
DTSTAMP:20260423T095028
CREATED:20211021T204653Z
LAST-MODIFIED:20211021T204653Z
UID:10237-1637496000-1637503200@laskinsfest.com
SUMMARY:ᏣᎳᎩ ᎠᏂᏬᏂᏍᎩ ᏚᎾᏙᎥ ᏗᎪᏪᎵ: The Cherokee Speakers Roll
DESCRIPTION:The Cherokee language is sacred to our people and unfortunately it’s endangered. How will the next generation ensure the language survives? A book. The Cherokee Speakers Roll is at the heart of language preservation efforts. Learn how it how it’s brought Cherokee language warriors together.
URL:https://laskinsfest.com/event/%ea%ae%b3%ea%ae%83%ea%ad%b9-%ea%ad%b0%ea%ae%92%ea%ae%bc%ea%ae%92%ea%ae%9d%ea%ad%b9-%ea%ae%aa%ea%ae%8e%ea%ae%a9%ea%ad%b5-%ea%ae%a7%ea%ad%ba%ea%ae%ba%ea%ae%85-the-cherokee-speakers-roll/
CATEGORIES:Screening
ATTACH;FMTTYPE=image/jpeg:https://laskinsfest.com/wp-content/uploads/2021/10/cherokee-speaker-roll-wide.jpg
END:VEVENT
BEGIN:VEVENT
DTSTART;TZID=America/Los_Angeles:20211121T120000
DTEND;TZID=America/Los_Angeles:20211121T140000
DTSTAMP:20260423T095028
CREATED:20211021T205013Z
LAST-MODIFIED:20211021T205014Z
UID:10240-1637496000-1637503200@laskinsfest.com
SUMMARY:Bella's Story
DESCRIPTION:On July 20\, 2013 Bella Laboucan-McLean\, a bright and beautiful 25-year-old Cree woman plummets to her death from the 31st floor of a downtown Toronto high-rise. Today the mystery of her death remains unsolved. Bella’s Story explores the tragedy\, the mystery and the aftermath one Indigenous family endures in their fight for answers\, justice and closure.
URL:https://laskinsfest.com/event/bellas-story/
CATEGORIES:Screening
ATTACH;FMTTYPE=image/jpeg:https://laskinsfest.com/wp-content/uploads/2021/10/bells-story-wide.jpg
END:VEVENT
BEGIN:VEVENT
DTSTART;TZID=America/Los_Angeles:20211121T140000
DTEND;TZID=America/Los_Angeles:20211121T170000
DTSTAMP:20260423T095028
CREATED:20211021T205924Z
LAST-MODIFIED:20211021T205924Z
UID:10248-1637503200-1637514000@laskinsfest.com
SUMMARY:No. 5
DESCRIPTION:A man who is stuck in a depressive loop is awoken by the spirits of the past.
URL:https://laskinsfest.com/event/no-5/
CATEGORIES:Screening
ATTACH;FMTTYPE=image/jpeg:https://laskinsfest.com/wp-content/uploads/2021/10/no-5-wide.jpg
END:VEVENT
BEGIN:VEVENT
DTSTART;TZID=America/Los_Angeles:20211121T140000
DTEND;TZID=America/Los_Angeles:20211121T170000
DTSTAMP:20260423T095028
CREATED:20211021T210332Z
LAST-MODIFIED:20211026T023304Z
UID:10254-1637503200-1637514000@laskinsfest.com
SUMMARY:Together
DESCRIPTION:Somewhere in the city\, Mason lures his boyfriend Kelly off his seat to dance\, leading them to create a happy memory. Jump forward to present day\, Kelly is attending a late AA meeting while Mason is drinking at a party\, elsewhere in the city. Mason receives a phone call with some distressing news. Back at the AA meeting\, Kelly listens to Mason’s voicemail\, in which he claims to have been drugged and needs help. Kelly leaves the AA meeting to go find Mason despite it being late in the evening. \nYet\, when Kelly locates Mason at the party\, he finds him in an upstairs bedroom with another man\, looking far from needing help. Kelly storms out of the party and onto the streets of the city\, with Mason chasing after him. They argue yet Mason does appear to be a little out of it. Out of concern\, Kelly takes Mason to a late night coffee shop\, in attempts to sober him up. The pair stroll down memory lane over coffee. A little less angry though still concerned\, Kelly decides Mason still cannot make it home on his own. \nKelly walks Mason back to his place\, where they used to live together\, to find an eviction notice posted on the door. Once inside\, Kelly tries to provide comfort but Mason makes a horrific confession that not only is he HIV+ but he knew for a while back when they were together. The pair eventually fall asleep from mental exhaustion. The next morning\, Mason finds an empty bed with Kelly nowhere to be found. After a brief search\, Mason finds Kelly sitting in the backyard intoxicated. Emotional chaos ensues as Kelly blames Mason for everything. All Mason can do is wrap his arms around Kelly\, who has reached his lowest point.
URL:https://laskinsfest.com/event/together/
CATEGORIES:Screening
ATTACH;FMTTYPE=image/jpeg:https://laskinsfest.com/wp-content/uploads/2021/10/Together-wide.jpg
END:VEVENT
BEGIN:VEVENT
DTSTART;TZID=America/Los_Angeles:20211121T140000
DTEND;TZID=America/Los_Angeles:20211121T170000
DTSTAMP:20260423T095028
CREATED:20211021T210631Z
LAST-MODIFIED:20211021T210631Z
UID:10257-1637503200-1637514000@laskinsfest.com
SUMMARY:Chipisala'Cho (See You Later)
DESCRIPTION:One night\, twin brothers gather over a campfire and reminisce on their childhood and wonder if they made the right decisions in life.
URL:https://laskinsfest.com/event/chipisalacho-see-you-later/
CATEGORIES:Screening
ATTACH;FMTTYPE=image/jpeg:https://laskinsfest.com/wp-content/uploads/2021/10/see-you-later-wide.jpg
END:VEVENT
BEGIN:VEVENT
DTSTART;TZID=America/Los_Angeles:20211121T140000
DTEND;TZID=America/Los_Angeles:20211121T170000
DTSTAMP:20260423T095028
CREATED:20211021T210757Z
LAST-MODIFIED:20211021T210757Z
UID:10260-1637503200-1637514000@laskinsfest.com
SUMMARY:Familiar
DESCRIPTION:A witch botches a spell that possesses her dog\, making her try to undo it before something worse happens.
URL:https://laskinsfest.com/event/familiar/
CATEGORIES:Screening
ATTACH;FMTTYPE=image/jpeg:https://laskinsfest.com/wp-content/uploads/2021/10/familiar-wide.jpg
END:VEVENT
BEGIN:VEVENT
DTSTART;TZID=America/Los_Angeles:20211121T140000
DTEND;TZID=America/Los_Angeles:20211121T170000
DTSTAMP:20260423T095028
CREATED:20211021T222956Z
LAST-MODIFIED:20211021T222956Z
UID:10311-1637503200-1637514000@laskinsfest.com
SUMMARY:A1-S2: Scene from Hamlet
DESCRIPTION:Hamlet heads home after learning of his mother’s remarriage. Hamlet is re-imagined as a contemporary crime story\, with a full-Native American cast.
URL:https://laskinsfest.com/event/a1-s2-scene-from-hamlet/
CATEGORIES:Screening
ATTACH;FMTTYPE=image/jpeg:https://laskinsfest.com/wp-content/uploads/2021/10/hamlet-wide.jpg
END:VEVENT
BEGIN:VEVENT
DTSTART;TZID=America/Los_Angeles:20211121T140000
DTEND;TZID=America/Los_Angeles:20211121T170000
DTSTAMP:20260423T095028
CREATED:20211022T031213Z
LAST-MODIFIED:20211022T031213Z
UID:10317-1637503200-1637514000@laskinsfest.com
SUMMARY:Wal-aks: Coming Out as 2-Spirit
DESCRIPTION:Wal-aks Keane talking about their identity as a two-spirit Nisga’a person and leading Nisga’a Cultural Dance Groups. They came out in 2004 and started identifying as two-spirit around 2014/2015.
URL:https://laskinsfest.com/event/wal-aks-coming-out-as-2-spirit/
CATEGORIES:Screening
ATTACH;FMTTYPE=image/jpeg:https://laskinsfest.com/wp-content/uploads/2021/10/Wal-aks-Coming-Out-as-2-Spirit-wide.jpg
END:VEVENT
BEGIN:VEVENT
DTSTART;TZID=America/Los_Angeles:20211121T140000
DTEND;TZID=America/Los_Angeles:20211121T160000
DTSTAMP:20260423T095028
CREATED:20211104T020204Z
LAST-MODIFIED:20211104T162424Z
UID:10505-1637503200-1637510400@laskinsfest.com
SUMMARY:Candyface II - A Rocky Road
DESCRIPTION:The long awaited sequel to the critically acclaimed cult classic Candyface. \nCandyface and her gang of Candypunks rally together to try to defeat the Candyfather in an epic battle for street notoriety. \nThe answer to who is the most powerful Candylord is finally revealed after an ultimate showdown & fight for reign.
URL:https://laskinsfest.com/event/candyface-ii-a-rocky-road/
LOCATION:TCL Chinese 6 Theatres\, 6801 Hollywood Blvd 3rd Level\, Hollywood\, CA\, 90028\, United States
CATEGORIES:Screening
ATTACH;FMTTYPE=image/jpeg:https://laskinsfest.com/wp-content/uploads/2021/11/candyface-wide.jpg
END:VEVENT
BEGIN:VEVENT
DTSTART;TZID=America/Los_Angeles:20211121T170000
DTEND;TZID=America/Los_Angeles:20211121T190000
DTSTAMP:20260423T095028
CREATED:20211021T211005Z
LAST-MODIFIED:20211021T211005Z
UID:10263-1637514000-1637521200@laskinsfest.com
SUMMARY:Disappearing Moon
DESCRIPTION:Disappearing Moon is a pre-contact short film that follows the journey of Red Cloud\, a father who sets out to find his twelve-year-old daughter Morning Star who vanishes without a trace. Along his search he meets Kozano a being from another dimension who might know what happened but only answers in riddles.
URL:https://laskinsfest.com/event/disappearing-moon/
CATEGORIES:Screening
ATTACH;FMTTYPE=image/jpeg:https://laskinsfest.com/wp-content/uploads/2021/10/disappearing-moon-wide.jpg
END:VEVENT
BEGIN:VEVENT
DTSTART;TZID=America/Los_Angeles:20211121T170000
DTEND;TZID=America/Los_Angeles:20211121T190000
DTSTAMP:20260423T095028
CREATED:20211021T211247Z
LAST-MODIFIED:20211021T211247Z
UID:10266-1637514000-1637521200@laskinsfest.com
SUMMARY:Stand Up!
DESCRIPTION:“Stand Up!” – El Plan de Nuestro “Mural de la Raza” \nIn 1985\, Juanita Meza Velasquez organized to paint a 16’ x 82’ Chicano mural on the wall of Payless ShoeSource at 2048 Story Rd\, San José\, CA 95122 near King and Story Roads. Juanita organized what muralist\, José Meza Velasquez would later title “Mural de La Raza” as a tool to end barrio warfare\, empower grafitti artists and barrio youth. \nThe “Mural de La Raza” depicted the history and culture of precolumbian lore\, the Mexican Revolution\, the Chicano Movement\, local figures\, as well as the very youth who assisted in painting the mural. \nAfter more than three decades of “Mural de La Raza” being a central fabric of San José’s Eastside\, the mural was unlawfyully removed without notice to the artist or members of the public who took interest in its preservation prior to the removal. Not only was nuestro Mural de La Raza removed\, but so was our history and culture\, and one of the only means of public access to Chicano Studies. During the past 15 years in particular we have witnessed a pattern of Chicano murals being removed largley due to gentrification.
URL:https://laskinsfest.com/event/stand-up/
CATEGORIES:Screening
ATTACH;FMTTYPE=image/jpeg:https://laskinsfest.com/wp-content/uploads/2021/10/stand-up-wide.jpg
END:VEVENT
BEGIN:VEVENT
DTSTART;TZID=America/Los_Angeles:20211121T170000
DTEND;TZID=America/Los_Angeles:20211121T190000
DTSTAMP:20260423T095028
CREATED:20211021T211733Z
LAST-MODIFIED:20211021T211752Z
UID:10269-1637514000-1637521200@laskinsfest.com
SUMMARY:The Boys
DESCRIPTION:How can we ever know how someone keeps going after a tragedy? That question is in the loving broken heart of this film. Follow this ever brief conversation that is deeper then the actual words between the two woman and their families. set with the landscape of Iqaluit\, a conversation at the airport’s baggage carousel and a woman’s slow drive home all tell the story in this gentle searing story of grief.
URL:https://laskinsfest.com/event/the-boys/
CATEGORIES:Screening
ATTACH;FMTTYPE=image/jpeg:https://laskinsfest.com/wp-content/uploads/2021/10/The-Boys-wide.jpg
END:VEVENT
BEGIN:VEVENT
DTSTART;TZID=America/Los_Angeles:20211121T170000
DTEND;TZID=America/Los_Angeles:20211121T190000
DTSTAMP:20260423T095028
CREATED:20211021T212000Z
LAST-MODIFIED:20211021T212000Z
UID:10275-1637514000-1637521200@laskinsfest.com
SUMMARY:Seconds – An MMIWG Art Film
DESCRIPTION:Artist\, Safiuchi\, draws much needed attention to Murdered and Missing Indigenous Women through this compelling artisan tale. A young indigenous woman is making her way home from a day out\, only to be abducted on by strangers in an unmarked van. We can only hope she’s able to find her way out.
URL:https://laskinsfest.com/event/seconds-an-mmiwg-art-film/
CATEGORIES:Screening
ATTACH;FMTTYPE=image/jpeg:https://laskinsfest.com/wp-content/uploads/2021/10/seconds-wide.jpg
END:VEVENT
BEGIN:VEVENT
DTSTART;TZID=America/Los_Angeles:20211121T170000
DTEND;TZID=America/Los_Angeles:20211121T190000
DTSTAMP:20260423T095028
CREATED:20211021T212148Z
LAST-MODIFIED:20211021T212148Z
UID:10278-1637514000-1637521200@laskinsfest.com
SUMMARY:Red Button
DESCRIPTION:A young man struggles to pay attention during a Job interview.
URL:https://laskinsfest.com/event/red-button/
CATEGORIES:Screening
ATTACH;FMTTYPE=image/jpeg:https://laskinsfest.com/wp-content/uploads/2021/10/red-button-wide.jpg
END:VEVENT
BEGIN:VEVENT
DTSTART;TZID=America/Los_Angeles:20211121T170000
DTEND;TZID=America/Los_Angeles:20211121T190000
DTSTAMP:20260423T095028
CREATED:20211021T212359Z
LAST-MODIFIED:20211021T212359Z
UID:10281-1637514000-1637521200@laskinsfest.com
SUMMARY:Forest Of Cards
DESCRIPTION:A protagonist finds a mysterious object in the woods before being confronted by two antagonists seeking the same object and not taking no for an answer.
URL:https://laskinsfest.com/event/forest-of-cards/
CATEGORIES:Screening
ATTACH;FMTTYPE=image/jpeg:https://laskinsfest.com/wp-content/uploads/2021/10/forest-of-cards-wide.jpg
END:VEVENT
BEGIN:VEVENT
DTSTART;TZID=America/Los_Angeles:20211121T170000
DTEND;TZID=America/Los_Angeles:20211121T190000
DTSTAMP:20260423T095028
CREATED:20211021T212533Z
LAST-MODIFIED:20211021T212533Z
UID:10285-1637514000-1637521200@laskinsfest.com
SUMMARY:Nalí
DESCRIPTION:A student is struggling in college. He is feeling down on his luck. Feels hopeless until he gets a call from his grandfather.
URL:https://laskinsfest.com/event/nali/
CATEGORIES:Screening
ATTACH;FMTTYPE=image/jpeg:https://laskinsfest.com/wp-content/uploads/2021/10/nali-wide.jpg
END:VEVENT
BEGIN:VEVENT
DTSTART;TZID=America/Los_Angeles:20211121T170000
DTEND;TZID=America/Los_Angeles:20211121T190000
DTSTAMP:20260423T095028
CREATED:20211021T212840Z
LAST-MODIFIED:20211021T212840Z
UID:10288-1637514000-1637521200@laskinsfest.com
SUMMARY:Monologue Harmonic
DESCRIPTION:Monologue Harmonics is a seemingly paradoxical visual and sonic offering speaking in part from legend\, despotic visions\, collective cultural analysis and individual repeal. Featuring two distinct and intrinsically connected worlds we witness a spiritual journey so thinly tethered to life familiar\, being lured by dark matters towards total disconnect. This journey mirrors a reality not unlike Indigenous current experience with respect to constant colonial resistance; where coming to terms with lost cultural distinction is fast becoming the new culture\, of today/tomorrow.
URL:https://laskinsfest.com/event/monologue-harmonic/
CATEGORIES:Screening
ATTACH;FMTTYPE=image/jpeg:https://laskinsfest.com/wp-content/uploads/2021/10/monologue-harmonic-wide.jpg
END:VEVENT
BEGIN:VEVENT
DTSTART;TZID=America/Los_Angeles:20211121T170000
DTEND;TZID=America/Los_Angeles:20211121T190000
DTSTAMP:20260423T095029
CREATED:20211021T212958Z
LAST-MODIFIED:20211021T212958Z
UID:10291-1637514000-1637521200@laskinsfest.com
SUMMARY:In Our Own Hands
DESCRIPTION:A group of women plan rescue efforts when one of their own goes missing from their reservation.
URL:https://laskinsfest.com/event/in-our-own-hands/
CATEGORIES:Screening
ATTACH;FMTTYPE=image/jpeg:https://laskinsfest.com/wp-content/uploads/2021/10/in-our-own-hands-wide.jpg
END:VEVENT
BEGIN:VEVENT
DTSTART;TZID=America/Los_Angeles:20211121T170000
DTEND;TZID=America/Los_Angeles:20211121T190000
DTSTAMP:20260423T095029
CREATED:20211021T213143Z
LAST-MODIFIED:20211021T213143Z
UID:10294-1637514000-1637521200@laskinsfest.com
SUMMARY:Apocalypse ... Then
DESCRIPTION:A young man in quarantine holds a prisoner in his basement and questions what is real and what isn’t.
URL:https://laskinsfest.com/event/apocalypse-then/
CATEGORIES:Screening
ATTACH;FMTTYPE=image/jpeg:https://laskinsfest.com/wp-content/uploads/2021/10/apocalypse-then-wide.jpg
END:VEVENT
BEGIN:VEVENT
DTSTART;TZID=America/Los_Angeles:20211121T170000
DTEND;TZID=America/Los_Angeles:20211121T190000
DTSTAMP:20260423T095029
CREATED:20211026T010414Z
LAST-MODIFIED:20211026T185945Z
UID:10379-1637514000-1637521200@laskinsfest.com
SUMMARY:808
DESCRIPTION:“808” is an emotional rollercoaster of a film which has won the “Best Thriller Short” award in the Marina Del Rey film Festival and Semi-Finalist in both the Burbank International Film Festival and the Colorado Activist Film Festival. \nThe Hawaiian culture\, land\, and its exploitation resonate throughout the story as Kai\, a lonely Hawaiian woman\, returns home in hopes of reconnecting with friends and family. We meet a colorful cast of characters as she resolutely seeks answers to murder and corruption\, while somehow hoping for redemption. \n808 is an extremely diverse project with a variety of Minority actors cast across the board and nearly every age group represented. \nThe film also seeks to raise environmental awareness with its themes of connection with nature and the people involved in destroying it.
URL:https://laskinsfest.com/event/808/
CATEGORIES:Screening
ATTACH;FMTTYPE=image/jpeg:https://laskinsfest.com/wp-content/uploads/2021/10/808-wide-1.jpg
END:VEVENT
BEGIN:VEVENT
DTSTART;TZID=America/Los_Angeles:20211121T190000
DTEND;TZID=America/Los_Angeles:20211121T210000
DTSTAMP:20260423T095029
CREATED:20211021T213311Z
LAST-MODIFIED:20211025T015800Z
UID:10297-1637521200-1637528400@laskinsfest.com
SUMMARY:Stephen King's "Grey Matter"
DESCRIPTION:A day at the local beer store is thrown for a loop when a young boy tells the shop owners his drunk dad has turned into a cat eating mold monster.
URL:https://laskinsfest.com/event/stephen-kings-grey-matter/
CATEGORIES:Screening
ATTACH;FMTTYPE=image/jpeg:https://laskinsfest.com/wp-content/uploads/2021/10/Stephen-King’s-“Grey-Matter”.jpg
END:VEVENT
BEGIN:VEVENT
DTSTART;TZID=America/Los_Angeles:20211121T190000
DTEND;TZID=America/Los_Angeles:20211121T210000
DTSTAMP:20260423T095029
CREATED:20211021T213427Z
LAST-MODIFIED:20211025T014614Z
UID:10300-1637521200-1637528400@laskinsfest.com
SUMMARY:The Corruption Of Divine Providence
DESCRIPTION:Division and discontent roil beneath the surface of the seemingly peaceful bilingual farm community of St-Michel\, Manitoba. When the troubled teenager Jeanne Séraphin is nearly killed by mysterious bleeding\, the news triggers a frenzy of worship from people looking for a miracle. The Catholic Church\, Dakota elders\, and an American Pentecostal preacher all vie for access to the young woman\, seizing on her suffering to validate their beliefs. For Jeanne’s father Louis -a Métis bar owner ashamed of his heritage – her ordeal is an opportunity to cash in and gain the town’s respect. Jeanne’s mother Danielle questions her marriage\, her choices\, and the existence of God altogether\, plunging further into despair when the teen is abducted. But a sage mystic appears\, rescues Jeanne from a fallen angel\, and makes sense of the strange phenomena that surround her. Jeanne’s message that divinity can coexist with mortal sins quickly separates true believers from false prophets. It will be up to each individual to choose their righteous path.
URL:https://laskinsfest.com/event/the-corruption-of-divine-providence/
CATEGORIES:Screening
ATTACH;FMTTYPE=image/jpeg:https://laskinsfest.com/wp-content/uploads/2021/10/The-Corruption-Of-Divine-Providence-wide.jpg
END:VEVENT
END:VCALENDAR