BEGIN:VCALENDAR
VERSION:2.0
PRODID:-//LA Skins Fest - ECPv5.16.4.1//NONSGML v1.0//EN
CALSCALE:GREGORIAN
METHOD:PUBLISH
X-WR-CALNAME:LA Skins Fest
X-ORIGINAL-URL:https://laskinsfest.com
X-WR-CALDESC:Events for LA Skins Fest
BEGIN:VTIMEZONE
TZID:America/Los_Angeles
BEGIN:DAYLIGHT
TZOFFSETFROM:-0800
TZOFFSETTO:-0700
TZNAME:PDT
DTSTART:20210314T100000
END:DAYLIGHT
BEGIN:STANDARD
TZOFFSETFROM:-0700
TZOFFSETTO:-0800
TZNAME:PST
DTSTART:20211107T090000
END:STANDARD
END:VTIMEZONE
BEGIN:VEVENT
DTSTART;TZID=America/Los_Angeles:20211120T090000
DTEND;TZID=America/Los_Angeles:20211120T100000
DTSTAMP:20260423T095152
CREATED:20211021T210200Z
LAST-MODIFIED:20211101T192953Z
UID:10251-1637398800-1637402400@laskinsfest.com
SUMMARY:Looking Back and Moving Forward With Music in Our Hearts
DESCRIPTION:Students at Sherman Indian High School examine what role music plays in their lives\, their history and interview two contemporary Native music groups\, The Miracle Dolls and Jessa Calderon who use their music for activism and run music and poetry programs with Sherman students. This video was produced part of the Indigitize Youth Media Arts and Activism workshop\, a collaboration between Sherman Indian High School and Pitzer College students.
URL:https://laskinsfest.com/event/looking-back-and-moving-forward-with-music-in-our-hearts/
CATEGORIES:Screening
ATTACH;FMTTYPE=image/jpeg:https://laskinsfest.com/wp-content/uploads/2021/10/looking-wide.jpg
END:VEVENT
BEGIN:VEVENT
DTSTART;TZID=America/Los_Angeles:20211120T090000
DTEND;TZID=America/Los_Angeles:20211120T100000
DTSTAMP:20260423T095152
CREATED:20211028T222128Z
LAST-MODIFIED:20211101T193045Z
UID:10439-1637398800-1637402400@laskinsfest.com
SUMMARY:THE TRAIN
DESCRIPTION:In the year 3050\, the Little One and a group of kids are separated from their parents and sent to live on a train that orbits outer space. There they don’t age and must keep emotionally balanced through dance in order to keep the train fueled up.\n\nWhen the Little One goes missing without a trace\, they must all work together to figure out what happened to her all while keeping their emotions balanced\, otherwise they risk a catastrophic event.
URL:https://laskinsfest.com/event/the-train/
CATEGORIES:Screening
ATTACH;FMTTYPE=image/jpeg:https://laskinsfest.com/wp-content/uploads/2021/10/THE-TRAIN-wide-.jpg
END:VEVENT
BEGIN:VEVENT
DTSTART;TZID=America/Los_Angeles:20211120T100000
DTEND;TZID=America/Los_Angeles:20211120T113000
DTSTAMP:20260423T095152
CREATED:20211021T190205Z
LAST-MODIFIED:20211021T190706Z
UID:10152-1637402400-1637407800@laskinsfest.com
SUMMARY:The Strength Of My Spirit
DESCRIPTION:An Anishinaabe man’s journey to embracing his identity through the relationship with his hair.
URL:https://laskinsfest.com/event/the-strength-of-my-spirit/
CATEGORIES:Screening
ATTACH;FMTTYPE=image/jpeg:https://laskinsfest.com/wp-content/uploads/2021/10/strength-wide.jpg
END:VEVENT
BEGIN:VEVENT
DTSTART;TZID=America/Los_Angeles:20211120T100000
DTEND;TZID=America/Los_Angeles:20211120T113000
DTSTAMP:20260423T095152
CREATED:20211021T190443Z
LAST-MODIFIED:20211025T021129Z
UID:10155-1637402400-1637407800@laskinsfest.com
SUMMARY:The Unforgotten
DESCRIPTION:Most Canadians hold their health care system in great reverence. Yet beneath the veneer of respectability lies a dark history that has largely remained untold; that in Canada health service has been used as a tool to buttress racist stereotypes\, and repress and assimilate Indigenous people. In five interlocking vignettes that cover the stages of life; birth\, childhood\, adolescence\, adulthood and elderhood\, The Unforgotten explores Canadian healthcare through the shared experience of Inuit\, Metis and First Nations people. Across the broad sweep of the land we hear stories of those who have been forcibly sterilized\, abused in hospital\, displaced\, ignored to death\, starved and forced from their homes and land under the guise of healthcare. From confederation\, when colonial health policies were common and acceptable\, to the present day where intolerance persists as culture and race-based bias in care\, The Unforgotten explores the history of Canadian Healthcare through an Indigenous lens. The final word in the film is left to the wisdom of Elders\, who provide a moment of reflection and a potential path to a new relationship. With intimate stories imaginatively told through a rich fabric of visuals and poetry\, and cradled by a moving sound palate that features many of Canada’s most accomplished Indigenous musicians\, The Unforgotten reveals a history hidden to most Canadians. Clenbuterol can be found in many different forms including tablets\, injectable solutions\, or inhalers. Although there are both positive and negative effects of using clenbuterol during an athletic event or workout routine\, people who are considering taking this drug should consult with their doctor first before trying it out themselves. The effects when buy Clenbuterol online in pharmacy are similar to those of ephedrine and amphetamine with the major difference being its effect duration. Clenbuterol is structurally related to adrenaline but it does not stimulate the heart like epinephrine does.
URL:https://laskinsfest.com/event/the-unforgotten/
CATEGORIES:Screening
ATTACH;FMTTYPE=image/jpeg:https://laskinsfest.com/wp-content/uploads/2021/10/unforgotten-wide.jpg
END:VEVENT
BEGIN:VEVENT
DTSTART;TZID=America/Los_Angeles:20211120T100000
DTEND;TZID=America/Los_Angeles:20211120T113000
DTSTAMP:20260423T095152
CREATED:20211021T191039Z
LAST-MODIFIED:20211021T191143Z
UID:10159-1637402400-1637407800@laskinsfest.com
SUMMARY:The Lake Winnipeg Project- Matheson Island
DESCRIPTION:This film shares the story of the Whiteways of Matheson Island\, their devotion to a fishing lifestyle and the various challenges they experience\, including issues related to health\, government policy and the threatened future of the fishing industry.
URL:https://laskinsfest.com/event/the-lake-winnipeg-project-matheson-island/
CATEGORIES:Screening
ATTACH;FMTTYPE=image/jpeg:https://laskinsfest.com/wp-content/uploads/2021/10/Lake-Winnipeg-wide.jpg
END:VEVENT
BEGIN:VEVENT
DTSTART;TZID=America/Los_Angeles:20211120T100000
DTEND;TZID=America/Los_Angeles:20211120T113000
DTSTAMP:20260423T095152
CREATED:20211021T192115Z
LAST-MODIFIED:20211021T193824Z
UID:10166-1637402400-1637407800@laskinsfest.com
SUMMARY:Restoring Néške'emāne
DESCRIPTION:Since the 19th century\, Native American children were sent to boarding schools designed to “Kill the Indian… Save the Man”\, destroying Tribal languages\, cultural values\, practices\, and traditions through assimilation. In Oklahoma\, generations of Natives were educated through the Concho Indian School from 1871 to 1984. The abandoned school buildings have remained for 40 years\, riddled with toxins that have leached into the community. Restoring Néške’emāne follows environmentalist Damon Dunbar who has a dream of restoring the land\, preserving tribal history\, and honoring the attendees of the Concho Indian School in order to speak truth to history.
URL:https://laskinsfest.com/event/restoring-neskeemane/
CATEGORIES:Screening
ATTACH;FMTTYPE=image/jpeg:https://laskinsfest.com/wp-content/uploads/2021/10/restoring-wide.jpg
END:VEVENT
BEGIN:VEVENT
DTSTART;TZID=America/Los_Angeles:20211120T113000
DTEND;TZID=America/Los_Angeles:20211120T133000
DTSTAMP:20260423T095152
CREATED:20211021T194016Z
LAST-MODIFIED:20211115T215057Z
UID:10170-1637407800-1637415000@laskinsfest.com
SUMMARY:Indian Alley
DESCRIPTION:Indian Alley has become an iconic area in Downtown Los Angeles for Native American murals. This short documentary shares the stories and artistic visuals of six Native American artist that are using their art to share the history of American Indians in DTLA skidrow district a area known as Yaangna to the traditional Tongva people.
URL:https://laskinsfest.com/event/indian-alley/
CATEGORIES:Screening
ATTACH;FMTTYPE=image/jpeg:https://laskinsfest.com/wp-content/uploads/2021/10/Indian-Alley-wide.jpg
END:VEVENT
BEGIN:VEVENT
DTSTART;TZID=America/Los_Angeles:20211120T113000
DTEND;TZID=America/Los_Angeles:20211120T133000
DTSTAMP:20260423T095152
CREATED:20211021T194356Z
LAST-MODIFIED:20211025T180735Z
UID:10173-1637407800-1637415000@laskinsfest.com
SUMMARY:The Long Game
DESCRIPTION:The making of the Mandan\, Hidatsa\, & Arikara Nation interpretive center. The first historical museum in North Dakota told through the lens and narrative by indigenous people.
URL:https://laskinsfest.com/event/the-long-game/
CATEGORIES:Screening
ATTACH;FMTTYPE=image/jpeg:https://laskinsfest.com/wp-content/uploads/2021/10/The-Long-Game-wide.jpg
END:VEVENT
BEGIN:VEVENT
DTSTART;TZID=America/Los_Angeles:20211120T113000
DTEND;TZID=America/Los_Angeles:20211120T133000
DTSTAMP:20260423T095152
CREATED:20211021T194911Z
LAST-MODIFIED:20211021T194944Z
UID:10177-1637407800-1637415000@laskinsfest.com
SUMMARY:Archival Odyssey
DESCRIPTION:An experimental film that utilizes archival materials to twist the arm of the historical timelines of Pueblo accounts in New Mexico. By changing the point of view with the use of archival materials\, this story uses a mix of spoken word\, contemporary film and other mediums to illustrate a personal connection to history and the connection to this point in time.
URL:https://laskinsfest.com/event/archival-odyssey/
CATEGORIES:Screening
ATTACH;FMTTYPE=image/jpeg:https://laskinsfest.com/wp-content/uploads/2021/10/Archival-Odyssey-wide.jpg
END:VEVENT
BEGIN:VEVENT
DTSTART;TZID=America/Los_Angeles:20211120T140000
DTEND;TZID=America/Los_Angeles:20211120T160000
DTSTAMP:20260423T095152
CREATED:20211021T195148Z
LAST-MODIFIED:20211021T195242Z
UID:10185-1637416800-1637424000@laskinsfest.com
SUMMARY:Brother\, I Cry
DESCRIPTION:“Brother\, I Cry is a dramatic peek into the life of Jon –- a young First Nations man trapped in a world of addiction and cultural displacement. While living a high-risk lifestyle as a wanted car thief and drug addict\, Jon finds himself in trouble with his “friend” Martin\, a well-known drug dealer after his sister Ava turns both Jon and Martin into the police.”
URL:https://laskinsfest.com/event/brother-i-cry/
CATEGORIES:Screening
ATTACH;FMTTYPE=image/jpeg:https://laskinsfest.com/wp-content/uploads/2021/10/brother-i-cry-wide.jpg
END:VEVENT
BEGIN:VEVENT
DTSTART;TZID=America/Los_Angeles:20211120T140000
DTEND;TZID=America/Los_Angeles:20211120T160000
DTSTAMP:20260423T095152
CREATED:20211021T195448Z
LAST-MODIFIED:20211021T195448Z
UID:10190-1637416800-1637424000@laskinsfest.com
SUMMARY:Stardust
DESCRIPTION:In July 2020 my older brother Robert died of a Fentanyl overdose. Given the challenges of gathering family together during the height of the Covid-19 pandemic\, I chronicled the process of creating a memorial blanket to send home to our mom.
URL:https://laskinsfest.com/event/stardust/
CATEGORIES:Screening
ATTACH;FMTTYPE=image/jpeg:https://laskinsfest.com/wp-content/uploads/2021/10/stardust-wide.jpg
END:VEVENT
BEGIN:VEVENT
DTSTART;TZID=America/Los_Angeles:20211120T160000
DTEND;TZID=America/Los_Angeles:20211120T183000
DTSTAMP:20260423T095152
CREATED:20211021T195709Z
LAST-MODIFIED:20211021T195709Z
UID:10194-1637424000-1637433000@laskinsfest.com
SUMMARY:Warrior Spirit
DESCRIPTION:Warrior Spirit is a feature length documentary film about the first native american UFC champion Nicco Montano. Montano is on a quest to defend her UFC title. The film lifts the veil on the dark world of extreme weight cutting in the UFC and how the multi billion dollar UFC company exploits their fighters for millions of dollars.
URL:https://laskinsfest.com/event/warrior-spirit/
CATEGORIES:Screening
ATTACH;FMTTYPE=image/jpeg:https://laskinsfest.com/wp-content/uploads/2021/10/warrior-spirit-wide.jpg
END:VEVENT
BEGIN:VEVENT
DTSTART;TZID=America/Los_Angeles:20211120T160000
DTEND;TZID=America/Los_Angeles:20211120T183000
DTSTAMP:20260423T095152
CREATED:20211021T200100Z
LAST-MODIFIED:20211021T200100Z
UID:10197-1637424000-1637433000@laskinsfest.com
SUMMARY:Roots Of Lacrosse
DESCRIPTION:Many lacrosse players and coaches often don’t know that the origins of the game of lacrosse has it’s roots in North American Indigenous nations.This short documentary provides a brief history of the sacred and cultural aspects of this sport\, originally played for the Creator\, as well as for the health and welfare of the people. The movie also defines the three types of North American\, Indigenous lacrosse: Iroquois\, Great Lakes\, and Southeastern.
URL:https://laskinsfest.com/event/roots-of-lacrosse/
CATEGORIES:Screening
ATTACH;FMTTYPE=image/jpeg:https://laskinsfest.com/wp-content/uploads/2021/10/roots-wide.jpg
END:VEVENT
BEGIN:VEVENT
DTSTART;TZID=America/Los_Angeles:20211120T183000
DTEND;TZID=America/Los_Angeles:20211120T203000
DTSTAMP:20260423T095152
CREATED:20211021T200401Z
LAST-MODIFIED:20211021T200401Z
UID:10201-1637433000-1637440200@laskinsfest.com
SUMMARY:Respected by Her People
DESCRIPTION:Respected by Her People is a documentary short that explores the political and community roles of women on the New Perce Reservation in Idaho.
URL:https://laskinsfest.com/event/respected-by-her-people/
CATEGORIES:Screening
ATTACH;FMTTYPE=image/jpeg:https://laskinsfest.com/wp-content/uploads/2021/10/resepcted-wide.jpg
END:VEVENT
BEGIN:VEVENT
DTSTART;TZID=America/Los_Angeles:20211120T183000
DTEND;TZID=America/Los_Angeles:20211120T203000
DTSTAMP:20260423T095152
CREATED:20211021T200602Z
LAST-MODIFIED:20211026T013229Z
UID:10204-1637433000-1637440200@laskinsfest.com
SUMMARY:Ikhaiyana la chi (I Will Remember)
DESCRIPTION:Produced by the Choctaw Nation of Oklahoma. “Ikaiyana la chi” tells the unknown stories of the last Choctaw removal to Oklahoma in 1903 by train\, the cultural impact it had on the Choctaw people and a certain Oklahoma community.
URL:https://laskinsfest.com/event/ikhaiyana-la-chi-i-will-remember/
CATEGORIES:Screening
ATTACH;FMTTYPE=image/jpeg:https://laskinsfest.com/wp-content/uploads/2021/10/Ikhaiyana-la-chi-I-Will-Remember-wide.jpg
END:VEVENT
BEGIN:VEVENT
DTSTART;TZID=America/Los_Angeles:20211120T183000
DTEND;TZID=America/Los_Angeles:20211120T203000
DTSTAMP:20260423T095152
CREATED:20211021T201105Z
LAST-MODIFIED:20211021T201105Z
UID:10208-1637433000-1637440200@laskinsfest.com
SUMMARY:5420 How the Colorado River Indian Tribes Tackled a Pandemic
DESCRIPTION:As a pandemic swept the globe like never before in the modern world\, the Colorado River Indian Tribes Council braced itself while hearing bad news from around the world. Headline after headline told the story of how bad it could get. This short documentary tells the story – for people today and into the far future – of the actions taken by CRIT to protect its people. In the past\, the Tribes could defend themselves from threats using protests\, attorneys\, and by asserting themselves culturally. But this was different: the threat was invisible\, and deadly. A major council resolution – “54-20” – ordered people to stay at home and wear masks. It was a new reality for CRIT people\, but the film’s interviews with key decision-makers proves their resilience\, proactiveness and optimism for the future. Dedicated to those who were lost.
URL:https://laskinsfest.com/event/5420-how-the-colorado-river-indian-tribes-tackled-a-pandemic/
CATEGORIES:Screening
ATTACH;FMTTYPE=image/jpeg:https://laskinsfest.com/wp-content/uploads/2021/10/5420-wide.jpg
END:VEVENT
BEGIN:VEVENT
DTSTART;TZID=America/Los_Angeles:20211120T203000
DTEND;TZID=America/Los_Angeles:20211120T223000
DTSTAMP:20260423T095152
CREATED:20211021T201347Z
LAST-MODIFIED:20211021T201347Z
UID:10211-1637440200-1637447400@laskinsfest.com
SUMMARY:A Winter Love
DESCRIPTION:Blue\, a 35 year old\, Navajo\, singer-songwriter has lost her creative spark to a series of bad relationships and to the harsh Minneapolis winter. But when she meets a younger guy\, Eddie\, a 25 year-old\, Lakota\, law school dropout\, she feels like she’s regained her edge only to find it slip away from her again when she discovers Eddie’s love was never his to give in the first place. A WINTER LOVE is modern day\, inter-tribal\, love story that shows true love is found in the season you love yourself.
URL:https://laskinsfest.com/event/a-winter-love/
CATEGORIES:Screening
ATTACH;FMTTYPE=image/jpeg:https://laskinsfest.com/wp-content/uploads/2021/10/a-winter-love-wide.jpg
END:VEVENT
BEGIN:VEVENT
DTSTART;TZID=America/Los_Angeles:20211120T203000
DTEND;TZID=America/Los_Angeles:20211120T223000
DTSTAMP:20260423T095152
CREATED:20211021T201532Z
LAST-MODIFIED:20211021T201610Z
UID:10215-1637440200-1637447400@laskinsfest.com
SUMMARY:Chocolate
DESCRIPTION:Grappling with the paralyzing effects of capitalization and colonialism\, Ember finds herself struggling with her responsibility to the next seven generations. Raging against confinement and dispossession she finds her uncompromising power within societal imbalance. Poisoning the ever-hungry belly of corporatization\, she explores themes of righteousness\, balance\, and ethics. Symbolizing the imperfections of society and Indigenous resistance\, this poetic reflection of fractured identity and posture is shot in one take on 8mm film.
URL:https://laskinsfest.com/event/chocolate/
CATEGORIES:Screening
ATTACH;FMTTYPE=image/jpeg:https://laskinsfest.com/wp-content/uploads/2021/10/chocolate-wide.jpg
END:VEVENT
END:VCALENDAR