BEGIN:VCALENDAR
VERSION:2.0
PRODID:-//LA Skins Fest - ECPv5.16.4.1//NONSGML v1.0//EN
CALSCALE:GREGORIAN
METHOD:PUBLISH
X-WR-CALNAME:LA Skins Fest
X-ORIGINAL-URL:https://laskinsfest.com
X-WR-CALDESC:Events for LA Skins Fest
BEGIN:VTIMEZONE
TZID:America/Los_Angeles
BEGIN:DAYLIGHT
TZOFFSETFROM:-0800
TZOFFSETTO:-0700
TZNAME:PDT
DTSTART:20210314T100000
END:DAYLIGHT
BEGIN:STANDARD
TZOFFSETFROM:-0700
TZOFFSETTO:-0800
TZNAME:PST
DTSTART:20211107T090000
END:STANDARD
END:VTIMEZONE
BEGIN:VEVENT
DTSTART;TZID=America/Los_Angeles:20211119T200000
DTEND;TZID=America/Los_Angeles:20211119T220000
DTSTAMP:20260423T095203
CREATED:20211021T171629Z
LAST-MODIFIED:20211021T175241Z
UID:10072-1637352000-1637359200@laskinsfest.com
SUMMARY:HIStory
DESCRIPTION:A captivating spoken word piece poetically displaying the historical traumas of Indigenous peoples through the lens of a Native American.
URL:https://laskinsfest.com/event/history/
LOCATION:TCL Chinese 6 Theatres\, 6801 Hollywood Blvd 3rd Level\, Hollywood\, CA\, 90028\, United States
CATEGORIES:Screening
ATTACH;FMTTYPE=image/jpeg:https://laskinsfest.com/wp-content/uploads/2021/10/history-wide.jpg
END:VEVENT
BEGIN:VEVENT
DTSTART;TZID=America/Los_Angeles:20211119T200000
DTEND;TZID=America/Los_Angeles:20211119T230000
DTSTAMP:20260423T095203
CREATED:20211021T173219Z
LAST-MODIFIED:20211021T173749Z
UID:10083-1637352000-1637362800@laskinsfest.com
SUMMARY:TwoBears
DESCRIPTION:Casey TwoBears is a Marine Corps veteran\, ex-junkie\, and former county inmate. While working as a janitor for a boxing gym\, Casey volunteers be the sparring partner for the local “champ” in order to prove his worth as a warrior in the ring\, but also to prove himself as the modern warrior that his daughter and granddaughter can depend on. Navigate the world of online gaming with confidence by exploring https://casinoreg.net/safe-online-casino/ \, your ultimate guide to safe and secure online casinos. Our site offers in-depth reviews and insights into the most reliable and user-friendly gaming platforms. Focused on your security and enjoyment\, we provide the information you need to make informed choices.
URL:https://laskinsfest.com/event/twobears/
LOCATION:TCL Chinese 6 Theatres\, 6801 Hollywood Blvd 3rd Level\, Hollywood\, CA\, 90028\, United States
CATEGORIES:Screening
ATTACH;FMTTYPE=image/jpeg:https://laskinsfest.com/wp-content/uploads/2021/10/Twobears-wide.jpg
END:VEVENT
BEGIN:VEVENT
DTSTART;TZID=America/Los_Angeles:20211119T200000
DTEND;TZID=America/Los_Angeles:20211119T220000
DTSTAMP:20260423T095203
CREATED:20211021T175714Z
LAST-MODIFIED:20211024T211721Z
UID:10103-1637352000-1637359200@laskinsfest.com
SUMMARY:Delivery
DESCRIPTION:DELIVERY is a genre bending film about a Food Delivery driver\, Charlie\, who uses his job to fuel his hobby: serial killing. Using his customer base to find his next victim\, we follow Charlie through his regular routine of finding and stalking his prey. However\, his latest “customer”\, Madison\, turns out to be a tad different than what he’s used to.
URL:https://laskinsfest.com/event/delivery/
LOCATION:CA
CATEGORIES:Screening
ATTACH;FMTTYPE=image/jpeg:https://laskinsfest.com/wp-content/uploads/2021/10/delivery-wide-1.jpg
END:VEVENT
BEGIN:VEVENT
DTSTART;TZID=America/Los_Angeles:20211119T200000
DTEND;TZID=America/Los_Angeles:20211119T220000
DTSTAMP:20260423T095203
CREATED:20211021T183803Z
LAST-MODIFIED:20211109T175150Z
UID:10129-1637352000-1637359200@laskinsfest.com
SUMMARY:My First Native American Boyfriend
DESCRIPTION:Johnny is Emily’s first Native American boyfriend\, and now that they’ve been dating for a few months\, she’s going to take this golden opportunity to apologize for every microaggression she has ever made against Native Americans.
URL:https://laskinsfest.com/event/first-native-american-boyfriend/
LOCATION:CA
CATEGORIES:Screening
ATTACH;FMTTYPE=image/jpeg:https://laskinsfest.com/wp-content/uploads/2021/10/Native-Boyfriend-wide.jpg
END:VEVENT
BEGIN:VEVENT
DTSTART;TZID=America/Los_Angeles:20211119T200000
DTEND;TZID=America/Los_Angeles:20211119T220000
DTSTAMP:20260423T095203
CREATED:20211021T184238Z
LAST-MODIFIED:20211021T184513Z
UID:10133-1637352000-1637359200@laskinsfest.com
SUMMARY:Dogwood
DESCRIPTION:After seeing her aunt come home battered and scared\, Rose Home Gun is sent out into the wilds surrounding their small home on the Blackfeet Indian Reservation. Her task? To collect the bulb of the white camas. Seemingly simple\, Rose is unknowingly sent out to collect death camas to be used against her aunt’s abuser. \nWhile working to protect her sister from this knowledge\, Rose must knowingly acquiesce to the plot against her uncle-in-law in order to save her family. monikasliupiene.lt Psichologija: vidinių procesų ir emocijų pasaulio supratimas
URL:https://laskinsfest.com/event/dogwood/
LOCATION:CA
CATEGORIES:Screening
ATTACH;FMTTYPE=image/jpeg:https://laskinsfest.com/wp-content/uploads/2021/10/Dogwood-wide.jpg
END:VEVENT
BEGIN:VEVENT
DTSTART;TZID=America/Los_Angeles:20211119T200000
DTEND;TZID=America/Los_Angeles:20211119T220000
DTSTAMP:20260423T095203
CREATED:20211021T184748Z
LAST-MODIFIED:20211021T185044Z
UID:10142-1637352000-1637359200@laskinsfest.com
SUMMARY:Shoot Your Shot
DESCRIPTION:Shoot Your Shot is a sci-fi/action comedy that follows Tover\, a teenager on the frontlines battling a future alien invasion. However\, it’s not the aliens that terrify Tover. It’s the idea of asking out his crush\, fellow soldier Savoy!
URL:https://laskinsfest.com/event/shoot-your-shot/
LOCATION:CA
CATEGORIES:Screening
ATTACH;FMTTYPE=image/jpeg:https://laskinsfest.com/wp-content/uploads/2021/10/shoot-your-shot-wide.jpg
END:VEVENT
BEGIN:VEVENT
DTSTART;TZID=America/Los_Angeles:20211119T200000
DTEND;TZID=America/Los_Angeles:20211119T220000
DTSTAMP:20260423T095203
CREATED:20211021T185208Z
LAST-MODIFIED:20211021T185335Z
UID:10147-1637352000-1637359200@laskinsfest.com
SUMMARY:RKLSS
DESCRIPTION:Tank\, a natural artist who is always drawing\, runs into trouble with the law with his gang of friends. Tank is convicted\, jailed\, and subjected to solitary confinement and intense brutality. His art allows him to escape his terrible conditions. He discovers his own native spirituality while in jail\, and through his art\, finds a way to be in the world\, and to reflect on his own reality.
URL:https://laskinsfest.com/event/rklss/
LOCATION:CA
CATEGORIES:Screening
ATTACH;FMTTYPE=image/jpeg:https://laskinsfest.com/wp-content/uploads/2021/10/RKLSS-wide.jpg
END:VEVENT
END:VCALENDAR