BEGIN:VCALENDAR
VERSION:2.0
PRODID:-//LA Skins Fest - ECPv5.16.4.1//NONSGML v1.0//EN
CALSCALE:GREGORIAN
METHOD:PUBLISH
X-WR-CALNAME:LA Skins Fest
X-ORIGINAL-URL:https://laskinsfest.com
X-WR-CALDESC:Events for LA Skins Fest
BEGIN:VTIMEZONE
TZID:America/Los_Angeles
BEGIN:DAYLIGHT
TZOFFSETFROM:-0800
TZOFFSETTO:-0700
TZNAME:PDT
DTSTART:20160313T100000
END:DAYLIGHT
BEGIN:STANDARD
TZOFFSETFROM:-0700
TZOFFSETTO:-0800
TZNAME:PST
DTSTART:20161106T090000
END:STANDARD
END:VTIMEZONE
BEGIN:VEVENT
DTSTART;TZID=America/Los_Angeles:20160723T170000
DTEND;TZID=America/Los_Angeles:20160723T180000
DTSTAMP:20260421T073044
CREATED:20160724T202200Z
LAST-MODIFIED:20170815T063600Z
UID:1322-1469293200-1469296800@laskinsfest.com
SUMMARY:2015 Native Youth Music Talent Show
DESCRIPTION:Native Youth Music Talent Show took place July 23rd\, 2016 at the Frog Spot: Friends of the Los Angeles River\, from 5:30-6pm. \nThis endeavor was designed to encourage Native American youth to explore the performing arts and pursue higher education. Youth were be able to showcase their talents to the community and receive an award for their efforts. The overall goal of the project is to encourage music exploration\, celebrate the performing arts and raise the awareness of young Native American musicians. \nIf you would like to participate in the Native American Youth Talent Showcase\, please fill out application and e-mail it to us. Application Deadline is July 18th\, 2016. \nOur Native youth performers were Destiny Acevedo\, Rachel Herrera\, Aleyah Toscano\, Autum Panther and Renisha Clara. \nCheck out the event pics! \n\n	\n		\n			\n			\n			\n			\n			View Image\n						\n						2016 LA SKINS MUSIC FEST\n						\n			\n			\n			\n			\n			View Image\n						\n						2016 LA SKINS MUSIC FEST\n						\n			\n			\n			\n			\n			View Image\n						\n						2016 LA SKINS MUSIC FEST\n						\n			\n			\n			\n			\n			View Image\n						\n						2016 LA SKINS MUSIC FEST\n						\n			\n			\n			\n			\n			View Image\n						\n						2016 LA SKINS MUSIC FEST\n						\n			\n			\n			\n			\n			View Image\n						\n						2016 LA SKINS MUSIC FEST\n						\n			\n			\n			\n			\n			View Image\n						\n						2016 LA SKINS MUSIC FEST\n						\n			\n			\n			\n			\n			View Image\n						\n						2016 LA SKINS MUSIC FEST\n						\n			\n			\n			\n			\n			View Image\n						\n						2016 LA SKINS MUSIC FEST\n						\n			\n			\n			\n			\n			View Image\n						\n						2016 LA SKINS MUSIC FEST\n						\n			\n			\n			\n			\n			View Image\n						\n						2016 LA SKINS MUSIC FEST\n						\n			\n			\n			\n			\n			View Image\n						\n						2016 LA SKINS MUSIC FEST\n						\n			\n			\n			\n			\n			View Image\n						\n						2016 LA SKINS MUSIC FEST\n						\n			\n			\n			\n			\n			View Image\n						\n						2016 LA SKINS MUSIC FEST\n						\n			\n			\n			\n			\n			View Image\n						\n						2016 LA SKINS MUSIC FEST\n						\n			\n			\n			\n			\n			View Image\n						\n						2016 LA SKINS MUSIC FEST\n						\n		\n	\n\n\nThank you to our supporters: \n\n	\n		\n			\n			\n			\n			\n			View Image\n			\n			\n			\n			\n			View Image\n			\n			\n			\n			\n			View Image\n			\n			\n			\n			\n			View Image\n			\n			\n			\n			\n			View Image\n		\n	\n\n\n  \n 
URL:https://laskinsfest.com/event/native-youth-music-talent-show/
CATEGORIES:Music Festival
ATTACH;FMTTYPE=image/png:https://laskinsfest.com/wp-content/uploads/2016/02/2016-LA-SKINS-YOUTH-MUSIC-FEST.png
END:VEVENT
BEGIN:VEVENT
DTSTART;TZID=America/Los_Angeles:20160723T170000
DTEND;TZID=America/Los_Angeles:20160723T210000
DTSTAMP:20260421T073044
CREATED:20160725T195329Z
LAST-MODIFIED:20160803T231635Z
UID:1319-1469293200-1469307600@laskinsfest.com
SUMMARY:2016 Summer Music Festival
DESCRIPTION:The concert took place Saturday July 23rd\, 2016 from 5-9pm at the Frog Spot: Friends of the Los Angeles River. We featured contemporary Native American music such as pop\, jazz\, rock and R&B. \nThis year’s performers were: \nRaye Zaragoza \nBLACKKISS \nTaarkus \nThe 6th Annual L.A. SKINS MUSIC FEST is a Native American concert series that celebrates contemporary Native American musicians. Los Angeles has the largest urban population of Native Americans in the United States\, totaling 150\,000\, and has a vast talent pool of Indigenous musicians. \nPreceding the concert was our Native American Youth Talent Showcase. This endeavor is designed to encourage Native American youth to explore the performing arts and pursue higher education. Youth are able to showcase their talents to the community and receive an award for their efforts. The overall goal of the project is to encourage music exploration\, celebrate the performing arts and raise the awareness of young Native American musicians. \nOur Native youth performers were: Destiny Acevedo\, Rachel Herrera\, Autum Panther\, Aleyah Toscano\, and Renisha Clara. \nThe LA SKINS MUSIC FEST was hosted by Rainy Fields. Pictures provided by Antonio Gilbreath Images. \nCheck out our event pictures!: \n\n	\n		\n			\n			\n			\n			\n			View Image\n						\n						2016 LA SKINS MUSIC FEST\n						\n			\n			\n			\n			\n			View Image\n						\n						2016 LA SKINS MUSIC FEST\n						\n			\n			\n			\n			\n			View Image\n						\n						2016 LA SKINS MUSIC FEST\n						\n			\n			\n			\n			\n			View Image\n						\n						2016 LA SKINS MUSIC FEST\n						\n			\n			\n			\n			\n			View Image\n						\n						2016 LA SKINS MUSIC FEST\n						\n			\n			\n			\n			\n			View Image\n						\n						2016 LA SKINS MUSIC FEST\n						\n			\n			\n			\n			\n			View Image\n						\n						2016 LA SKINS MUSIC FEST\n						\n			\n			\n			\n			\n			View Image\n						\n						2016 LA SKINS MUSIC FEST\n						\n			\n			\n			\n			\n			View Image\n						\n						2016 LA SKINS MUSIC FEST\n						\n			\n			\n			\n			\n			View Image\n						\n						2016 LA SKINS MUSIC FEST\n						\n			\n			\n			\n			\n			View Image\n						\n						2016 LA SKINS MUSIC FEST\n						\n			\n			\n			\n			\n			View Image\n						\n						2016 LA SKINS MUSIC FEST\n						\n			\n			\n			\n			\n			View Image\n						\n						2016 LA SKINS MUSIC FEST\n						\n			\n			\n			\n			\n			View Image\n						\n						2016 LA SKINS MUSIC FEST\n						\n			\n			\n			\n			\n			View Image\n						\n						2016 LA SKINS MUSIC FEST\n						\n			\n			\n			\n			\n			View Image\n						\n						2016 LA SKINS MUSIC FEST\n						\n			\n			\n			\n			\n			View Image\n						\n						2016 LA SKINS MUSIC FEST\n						\n			\n			\n			\n			\n			View Image\n						\n						2016 LA SKINS MUSIC FEST\n						\n			\n			\n			\n			\n			View Image\n						\n						2016 LA SKINS MUSIC FEST\n						\n			\n			\n			\n			\n			View Image\n						\n						2016 LA SKINS MUSIC FEST\n						\n			\n			\n			\n			\n			View Image\n						\n						2016 LA SKINS MUSIC FEST\n						\n			\n			\n			\n			\n			View Image\n						\n						2016 LA SKINS MUSIC FEST\n						\n			\n			\n			\n			\n			View Image\n						\n						2016 LA SKINS MUSIC FEST\n						\n			\n			\n			\n			\n			View Image\n						\n						2016 LA SKINS MUSIC FEST\n						\n			\n			\n			\n			\n			View Image\n						\n						2016 LA SKINS MUSIC FEST\n						\n			\n			\n			\n			\n			View Image\n						\n						2016 LA SKINS MUSIC FEST\n						\n			\n			\n			\n			\n			View Image\n						\n						2016 LA SKINS MUSIC FEST\n						\n			\n			\n			\n			\n			View Image\n						\n						2016 LA SKINS MUSIC FEST\n						\n			\n			\n			\n			\n			View Image\n						\n						2016 LA SKINS MUSIC FEST\n						\n			\n			\n			\n			\n			View Image\n						\n						2016 LA SKINS MUSIC FEST\n						\n			\n			\n			\n			\n			View Image\n						\n						2016 LA SKINS MUSIC FEST\n						\n			\n			\n			\n			\n			View Image\n						\n						2016 LA SKINS MUSIC FEST\n						\n			\n			\n			\n			\n			View Image\n						\n						2016 LA SKINS MUSIC FEST\n						\n			\n			\n			\n			\n			View Image\n						\n						2016 LA SKINS MUSIC FEST\n						\n			\n			\n			\n			\n			View Image\n						\n						2016 LA SKINS MUSIC FEST\n						\n			\n			\n			\n			\n			View Image\n						\n						2016 LA SKINS MUSIC FEST\n						\n			\n			\n			\n			\n			View Image\n						\n						2016 LA SKINS MUSIC FEST\n						\n			\n			\n			\n			\n			View Image\n						\n						2016 LA SKINS MUSIC FEST\n						\n			\n			\n			\n			\n			View Image\n						\n						2016 LA SKINS MUSIC FEST\n						\n			\n			\n			\n			\n			View Image\n						\n						2016 LA SKINS MUSIC FEST\n						\n			\n			\n			\n			\n			View Image\n						\n						2016 LA SKINS MUSIC FEST\n						\n			\n			\n			\n			\n			View Image\n						\n						2016 LA SKINS MUSIC FEST\n						\n			\n			\n			\n			\n			View Image\n						\n						2016 LA SKINS MUSIC FEST\n						\n			\n			\n			\n			\n			View Image\n						\n						2016 LA SKINS MUSIC FEST\n						\n			\n			\n			\n			\n			View Image\n						\n						2016 LA SKINS MUSIC FEST\n						\n			\n			\n			\n			\n			View Image\n						\n						2016 LA SKINS MUSIC FEST\n						\n			\n			\n			\n			\n			View Image\n						\n						2016 LA SKINS MUSIC FEST\n						\n			\n			\n			\n			\n			View Image\n						\n						2016 LA SKINS MUSIC FEST\n						\n			\n			\n			\n			\n			View Image\n						\n						2016 LA SKINS MUSIC FEST\n						\n			\n			\n			\n			\n			View Image\n						\n						2016 LA SKINS MUSIC FEST\n						\n			\n			\n			\n			\n			View Image\n						\n						2016 LA SKINS MUSIC FEST\n						\n			\n			\n			\n			\n			View Image\n						\n						2016 LA SKINS MUSIC FEST\n						\n			\n			\n			\n			\n			View Image\n						\n						2016 LA SKINS MUSIC FEST\n						\n			\n			\n			\n			\n			View Image\n						\n						2016 LA SKINS MUSIC FEST\n						\n			\n			\n			\n			\n			View Image\n						\n						2016 LA SKINS MUSIC FEST\n						\n			\n			\n			\n			\n			View Image\n						\n						2016 LA SKINS MUSIC FEST\n						\n		\n	\n\n\n  \nThank you to our supporters: \n\n	\n		\n			\n			\n			\n			\n			View Image\n			\n			\n			\n			\n			View Image\n			\n			\n			\n			\n			View Image\n			\n			\n			\n			\n			View Image\n			\n			\n			\n			\n			View Image\n		\n	\n\n\n  \n  \n 
URL:https://laskinsfest.com/event/2016-summer-music-festival/
CATEGORIES:Music Festival
ATTACH;FMTTYPE=image/png:https://laskinsfest.com/wp-content/uploads/2016/02/2016-LASMF-copy.png
END:VEVENT
END:VCALENDAR