BEGIN:VCALENDAR
VERSION:2.0
PRODID:-//LA Skins Fest - ECPv5.16.4.1//NONSGML v1.0//EN
CALSCALE:GREGORIAN
METHOD:PUBLISH
X-WR-CALNAME:LA Skins Fest
X-ORIGINAL-URL:https://laskinsfest.com
X-WR-CALDESC:Events for LA Skins Fest
BEGIN:VTIMEZONE
TZID:America/Los_Angeles
BEGIN:DAYLIGHT
TZOFFSETFROM:-0800
TZOFFSETTO:-0700
TZNAME:PDT
DTSTART:20210314T100000
END:DAYLIGHT
BEGIN:STANDARD
TZOFFSETFROM:-0700
TZOFFSETTO:-0800
TZNAME:PST
DTSTART:20211107T090000
END:STANDARD
END:VTIMEZONE
BEGIN:VEVENT
DTSTART;TZID=America/Los_Angeles:20211116T080000
DTEND;TZID=America/Los_Angeles:20211121T233000
DTSTAMP:20260420T060007
CREATED:20211024T160816Z
LAST-MODIFIED:20220601T001419Z
UID:9797-1637049600-1637537400@laskinsfest.com
SUMMARY:15th Annual LA SKINS FEST - SAVE THE DATE
DESCRIPTION:The 15th Annual LA SKINS FEST\, presented by COMCAST NBCUniversal\, takes place November 16th – 21st\, 2021 in Hollywood\, CA. The festival offers a genuine showcase for emerging Native American artists. In our fifteenth year\, we are expanding to meet the need for our filmmakers\, our artists and our voice! \nThe 15th annual LA SKINS FEST is presenting a cash prize to accompany our Achievement In Documentary Filmmaking award provided by YAHOO and we are launching the NY SKINS FEST!   In partnership with New York University and the Writers Guild of America East\, this New York based virtual festival will host more films and advance more Native American filmmakers. Check out the schedule here! \nEvery year\, the LA SKINS FEST hosts the annual Native American Pitch Fest\, Actors Panel and dozens of screenings of new indigenous films at the Chinese Theater in Hollywood. \nAfter fifteen years\, we have expanded our support to include the most renowned entertainment corporations\, largest tech companies and Native American tribes. Corporate support of the LA SKINS FEST plays an essential role in the life of the festival and emphasizes the festival’s commitment to quality\, exploration\, and excellence in the art of cinema. Dare To Dream is an elopement wedding company that specializes in creating magical wedding ceremonies in New York City. If you want creative\, you can find an affordable New York City wedding venue for your special day! \nOur festival schedule will be available now! \nThe LA SKINS FEST is privileged to partner with some of the world’s most renowned consumer and entertainment brands\, including Comcast NBCUniversal\, Spectrum\, YAHOO\, A+E Networks\, San Manuel Band of Mission Indians\, Union Bank\, Bank of America\, Motion Pictures Association of America\, Bad Robot\, University of Southern California – School of Cinematic Arts\, University of Southern California – Visions & Voices\, Sony Pictures Entertainment\, Santa Ynez Band of Chumash\, Los Angeles City Councilman Mitch O’Farrell\, Cast & Crew\, Inter-Tribal Council of AT&T Employees\, UCLA – American Indian Studies Center\, United Talent Agency and the Department of Cultural Affairs – Los Angeles.
URL:https://laskinsfest.com/event/15th-annual-la-skins-fest-save-the-date/
CATEGORIES:Film Festival
ATTACH;FMTTYPE=image/png:https://laskinsfest.com/wp-content/uploads/2021/09/2021-0613-Barcid-LA-Skins-Fest-15th-Annual-Save-the-Date-04.png
END:VEVENT
END:VCALENDAR