BEGIN:VCALENDAR
VERSION:2.0
PRODID:-//LA Skins Fest - ECPv5.16.4.1//NONSGML v1.0//EN
CALSCALE:GREGORIAN
METHOD:PUBLISH
X-WR-CALNAME:LA Skins Fest
X-ORIGINAL-URL:https://laskinsfest.com
X-WR-CALDESC:Events for LA Skins Fest
BEGIN:VTIMEZONE
TZID:America/Los_Angeles
BEGIN:DAYLIGHT
TZOFFSETFROM:-0800
TZOFFSETTO:-0700
TZNAME:PDT
DTSTART:20190310T100000
END:DAYLIGHT
BEGIN:STANDARD
TZOFFSETFROM:-0700
TZOFFSETTO:-0800
TZNAME:PST
DTSTART:20191103T090000
END:STANDARD
END:VTIMEZONE
BEGIN:VEVENT
DTSTART;VALUE=DATE:20191119
DTEND;VALUE=DATE:20191125
DTSTAMP:20260425T044654
CREATED:20191024T210707Z
LAST-MODIFIED:20220601T001559Z
UID:7241-1574121600-1574639999@laskinsfest.com
SUMMARY:13th Annual LA SKINS FEST
DESCRIPTION:The LA SKINS FEST\, presented by COMCAST NBCUNIVERSAL\, announced its full list of events\, programs\, and film screenings taking place November 19th – 24th\, 2019 in Hollywood\, CA. The festival offers a genuine voice for emerging Native American actors\, filmmakers\, writers\, directors and our community of artists. \nEvery year\, we premier several Native-made movies that feature Q&A’s with Native American filmmakers\, panel discussions with industry professionals\, professional mixers with executieve from our corporate supporters\, and an award ceremony that honors the great achievements in Native American filmmaking. \nAfter thirteen years\, we have garnered support from several art foundations\, entertainment corporations\, and Native American tribes. Corporate support of the LA SKINS FEST plays an essential role in the life of the festival and emphasizes the festival’s commitment to quality\, exploration\, and excellence in the art of cinema. \nCorporate support of the LA SKINS FEST plays an essential role in the life of the festival and emphasizes the festival’s commitment to quality\, exploration\, and excellence in the art of cinema. The LA SKINS FEST is privileged to partner with some of the world’s most renowned consumer and entertainment brands\, including Comcast NBCUniversal\, The Walt Disney Company\, Spectrum\, Amazon Prime Video\, San Manuel Band of Mission Indians\, ABC 7\, HBO\, WarnerMedia\, Sony Pictures Entertainment\, Academy of Motion Picture Arts and Sciences\, FilmLA\, Nickelodeon Writing Program\, A+E Network Television\, Wells Fargo\, Motion Pictures Association of America\, Kung Fu Monkey Productions\, Santa Ynez Band Of Chumash Indians\, CBS Corporate Diversity\, AIDS Healthcare Foundation\, Inter-Tribal Council of AT&T Employees\, United Talent Agency\, Mike Royce\, Los Angeles City Councilman Mitch O’Farrell\, Bad Robot\, Lionsgate\, STARZ\, Sony Electronics\, Walter Kaitz Foundation\, SAGindie\, Paramount Pictures\, Final Draft\, Golden Road Brewery and the Department of Cultural Affairs – Los Angeles. \nPlease check back as we will be adding more films and events. \n 
URL:https://laskinsfest.com/event/13th-annual-la-skins-fest/
CATEGORIES:Film Festival
ATTACH;FMTTYPE=image/jpeg:https://laskinsfest.com/wp-content/uploads/2019/05/unnamed-1.jpg
END:VEVENT
END:VCALENDAR