BEGIN:VCALENDAR
VERSION:2.0
PRODID:-//LA Skins Fest - ECPv5.16.4.1//NONSGML v1.0//EN
CALSCALE:GREGORIAN
METHOD:PUBLISH
X-WR-CALNAME:LA Skins Fest
X-ORIGINAL-URL:https://laskinsfest.com
X-WR-CALDESC:Events for LA Skins Fest
BEGIN:VTIMEZONE
TZID:America/Los_Angeles
BEGIN:DAYLIGHT
TZOFFSETFROM:-0800
TZOFFSETTO:-0700
TZNAME:PDT
DTSTART:20230312T100000
END:DAYLIGHT
BEGIN:STANDARD
TZOFFSETFROM:-0700
TZOFFSETTO:-0800
TZNAME:PST
DTSTART:20231105T090000
END:STANDARD
END:VTIMEZONE
BEGIN:VEVENT
DTSTART;TZID=America/Los_Angeles:20230517T080000
DTEND;TZID=America/Los_Angeles:20230710T170000
DTSTAMP:20260420T201710
CREATED:20230522T020915Z
LAST-MODIFIED:20230522T022322Z
UID:12149-1684310400-1689008400@laskinsfest.com
SUMMARY:3rd Annual Native American Writers Seminar - Fellows Selected
DESCRIPTION:     The Native American Media Alliance has announced nine selected fellows for this year’s program. The 2023 Writers Seminar is in partnership with US Bank and the Cherokee Nation Film Office. \n     “We look forward to ushering in a new group of Native Americans through our emerging writers program.” Announced Ian Skorodin\, director of strategy of the Native American Media Alliance. “Each year\, we see indigenous storytellers breakthrough creatively and professionally through this seminar.” \n      The Native American Writers Seminar is a two month intensive that supports emerging writers who are new to the film and television industry. This initiative provides new access for Native Americans to advance their career and develop their writing sample. All participants chosen for the seminar will workshop an existing script with accomplished and seasoned writers from motion picture and television series. The program provides intensive development workshops and is accompanied by rigorous writing sessions. \n     In addition\, the seminar provides representatives from prestigious fellowships and past participants of Native American Media Alliance writing programs. These speakers share insight into career development\, professional growth and new writing opportunities. \nThe 3rd Annual Native American Writers Seminar cohort:  \nStanley Bain \nNatalie Benally \nChris Carrea \nAutumn Cavender \nDacotah Hasvold \nChris Hoshnic \nMarcie Price Jackson \nTvli Jacob \nSandi Jerome \n  \nMeet the fellows from our past seminars: \nInaugural Native American Writer Seminar Fellows \n2nd Annual Native American Writer Seminar Fellows \n  \nSponsors: \n\n	\n		\n			\n			\n			\n			\n			View Image\n			\n			\n			\n			\n			View Image\n						\n						Cherokee Nation Film Office
URL:https://laskinsfest.com/event/3rd-annual-native-american-writers-seminar-fellows-selected/
ATTACH;FMTTYPE=image/jpeg:https://laskinsfest.com/wp-content/uploads/2023/05/2023-0514-Barcid-Native-American-Writers-Seminar-3rd-Annual-1200x384-Comp-1.jpeg
END:VEVENT
END:VCALENDAR