BEGIN:VCALENDAR
VERSION:2.0
PRODID:-//LA Skins Fest - ECPv5.16.4.1//NONSGML v1.0//EN
CALSCALE:GREGORIAN
METHOD:PUBLISH
X-WR-CALNAME:LA Skins Fest
X-ORIGINAL-URL:https://laskinsfest.com
X-WR-CALDESC:Events for LA Skins Fest
BEGIN:VTIMEZONE
TZID:America/Los_Angeles
BEGIN:DAYLIGHT
TZOFFSETFROM:-0800
TZOFFSETTO:-0700
TZNAME:PDT
DTSTART:20090308T100000
END:DAYLIGHT
BEGIN:STANDARD
TZOFFSETFROM:-0700
TZOFFSETTO:-0800
TZNAME:PST
DTSTART:20091101T090000
END:STANDARD
BEGIN:DAYLIGHT
TZOFFSETFROM:-0800
TZOFFSETTO:-0700
TZNAME:PDT
DTSTART:20100314T100000
END:DAYLIGHT
BEGIN:STANDARD
TZOFFSETFROM:-0700
TZOFFSETTO:-0800
TZNAME:PST
DTSTART:20101107T090000
END:STANDARD
BEGIN:DAYLIGHT
TZOFFSETFROM:-0800
TZOFFSETTO:-0700
TZNAME:PDT
DTSTART:20110313T100000
END:DAYLIGHT
BEGIN:STANDARD
TZOFFSETFROM:-0700
TZOFFSETTO:-0800
TZNAME:PST
DTSTART:20111106T090000
END:STANDARD
BEGIN:DAYLIGHT
TZOFFSETFROM:-0800
TZOFFSETTO:-0700
TZNAME:PDT
DTSTART:20120311T100000
END:DAYLIGHT
BEGIN:STANDARD
TZOFFSETFROM:-0700
TZOFFSETTO:-0800
TZNAME:PST
DTSTART:20121104T090000
END:STANDARD
BEGIN:DAYLIGHT
TZOFFSETFROM:-0800
TZOFFSETTO:-0700
TZNAME:PDT
DTSTART:20130310T100000
END:DAYLIGHT
BEGIN:STANDARD
TZOFFSETFROM:-0700
TZOFFSETTO:-0800
TZNAME:PST
DTSTART:20131103T090000
END:STANDARD
BEGIN:DAYLIGHT
TZOFFSETFROM:-0800
TZOFFSETTO:-0700
TZNAME:PDT
DTSTART:20140309T100000
END:DAYLIGHT
BEGIN:STANDARD
TZOFFSETFROM:-0700
TZOFFSETTO:-0800
TZNAME:PST
DTSTART:20141102T090000
END:STANDARD
BEGIN:DAYLIGHT
TZOFFSETFROM:-0800
TZOFFSETTO:-0700
TZNAME:PDT
DTSTART:20150308T100000
END:DAYLIGHT
BEGIN:STANDARD
TZOFFSETFROM:-0700
TZOFFSETTO:-0800
TZNAME:PST
DTSTART:20151101T090000
END:STANDARD
BEGIN:DAYLIGHT
TZOFFSETFROM:-0800
TZOFFSETTO:-0700
TZNAME:PDT
DTSTART:20160313T100000
END:DAYLIGHT
BEGIN:STANDARD
TZOFFSETFROM:-0700
TZOFFSETTO:-0800
TZNAME:PST
DTSTART:20161106T090000
END:STANDARD
BEGIN:DAYLIGHT
TZOFFSETFROM:-0800
TZOFFSETTO:-0700
TZNAME:PDT
DTSTART:20170312T100000
END:DAYLIGHT
BEGIN:STANDARD
TZOFFSETFROM:-0700
TZOFFSETTO:-0800
TZNAME:PST
DTSTART:20171105T090000
END:STANDARD
BEGIN:DAYLIGHT
TZOFFSETFROM:-0800
TZOFFSETTO:-0700
TZNAME:PDT
DTSTART:20180311T100000
END:DAYLIGHT
BEGIN:STANDARD
TZOFFSETFROM:-0700
TZOFFSETTO:-0800
TZNAME:PST
DTSTART:20181104T090000
END:STANDARD
BEGIN:DAYLIGHT
TZOFFSETFROM:-0800
TZOFFSETTO:-0700
TZNAME:PDT
DTSTART:20190310T100000
END:DAYLIGHT
BEGIN:STANDARD
TZOFFSETFROM:-0700
TZOFFSETTO:-0800
TZNAME:PST
DTSTART:20191103T090000
END:STANDARD
BEGIN:DAYLIGHT
TZOFFSETFROM:-0800
TZOFFSETTO:-0700
TZNAME:PDT
DTSTART:20200308T100000
END:DAYLIGHT
BEGIN:STANDARD
TZOFFSETFROM:-0700
TZOFFSETTO:-0800
TZNAME:PST
DTSTART:20201101T090000
END:STANDARD
BEGIN:DAYLIGHT
TZOFFSETFROM:-0800
TZOFFSETTO:-0700
TZNAME:PDT
DTSTART:20210314T100000
END:DAYLIGHT
BEGIN:STANDARD
TZOFFSETFROM:-0700
TZOFFSETTO:-0800
TZNAME:PST
DTSTART:20211107T090000
END:STANDARD
BEGIN:DAYLIGHT
TZOFFSETFROM:-0800
TZOFFSETTO:-0700
TZNAME:PDT
DTSTART:20220313T100000
END:DAYLIGHT
BEGIN:STANDARD
TZOFFSETFROM:-0700
TZOFFSETTO:-0800
TZNAME:PST
DTSTART:20221106T090000
END:STANDARD
BEGIN:DAYLIGHT
TZOFFSETFROM:-0800
TZOFFSETTO:-0700
TZNAME:PDT
DTSTART:20230312T100000
END:DAYLIGHT
BEGIN:STANDARD
TZOFFSETFROM:-0700
TZOFFSETTO:-0800
TZNAME:PST
DTSTART:20231105T090000
END:STANDARD
END:VTIMEZONE
BEGIN:VEVENT
DTSTART;TZID=America/Los_Angeles:20090608T080000
DTEND;TZID=America/Los_Angeles:20221120T170000
DTSTAMP:20260423T003810
CREATED:20220808T235323Z
LAST-MODIFIED:20240730T195015Z
UID:10783-1244448000-1668963600@laskinsfest.com
SUMMARY:Youth Media and Tech Workshop Overview
DESCRIPTION:﻿﻿ \n     Since 2009\, the Native American Youth Media and Tech Workshop has travelled to reservations and urban centers across the world to provide an expansive and comprehensive program that provides new access for our community. Every year\, we expand the workshop to include new curriculum\, new technology and new equipment. \nOur multimedia curriculum includes short film production that reflect the community and current issues effecting the youth participants. This entails the development and creation of documentaries\, scripted narratives and PSA’s produced entirely by the young filmmakers. Curriculum includes learning proper camera operation\, on-set sound recording\, directing actors\, lighting scenes\, editing and music composition. The youth present their final pieces to their community at the conclusion of the workshop. \n\n    In 2019\, we launched the Native Youth Animation Workshop. This program offers hands on instruction in 3-D animation software\, 2-D animation drawn by hand and stop-motion animation. The workshop also provides tours of animation and visual effects studios. This initiative is meant to provide Native youth with the inspiration to explore animation as a viable opportunity and career path. This program has partnered with numerous studios and networks to offer genuine access. \n\nIn 2021\, we created the Native Youth Virtual Reality Workshop. This program introduces cutting edge virtual reality applications and video production to Native youth. The workshop teaches new technology to Native youth so they can have every opportunity available in new technology. This program provides an in-depth look into the possibilities virtual reality provides our community. Our organization has partnered with the most high profile tech companies to provide this program. Check out some stills and vids here! \n\nThe entire program culminates with the Native Youth Multimedia Weekend in November. This has youth from all of our programs attend our annual film festival at the Chinese Theater in Hollywood. This initiative has youth participants from several reservations and communities attend studio tours\, production workshops\, film screenings and attendance to the Native American Media Awards. \nCheck Out Our Past and Current Workshops! \n2023\n2022\n2021\n2020\n2019\n2018\n2017\n2016\n2015\n2014\n2013\n2012\n2011\n2010\n2009 \n  \nSponsors: \n\n	\n		\n			\n			\n			\n			\n			View Image\n						\n						Meta\n						\n			\n			\n			\n			\n			View Image\n						\n						National Endowment for the Arts\n						\n			\n			\n			\n			\n			View Image\n						\n						Los Angeles County Arts & Culture\n						\n			\n			\n			\n			\n			View Image\n						\n						San Manuel Band of Mission Indians\n						\n			\n			\n			\n			\n			View Image\n						\n						United Talent Agency\n						\n			\n			\n			\n			\n			View Image\n						\n						Comcast NBCUniversal\n						\n			\n			\n			\n			\n			View Image\n						\n						Sony Pictures Entertainment\n						\n			\n			\n			\n			\n			View Image\n						\n						Sony Electronics\n						\n			\n			\n			\n			\n			View Image\n						\n						Verizon\n						\n			\n			\n			\n			\n			View Image\n						\n						California Humanities\n						\n			\n			\n			\n			\n			View Image\n						\n						Union Bank\n						\n		\n	\n\n\n 
URL:https://laskinsfest.com/event/youth-media-and-tech-workshop-overview/
CATEGORIES:Youth Workshop
END:VEVENT
BEGIN:VEVENT
DTSTART;TZID=America/Los_Angeles:20220501T080000
DTEND;TZID=America/Los_Angeles:20230101T170000
DTSTAMP:20260423T003810
CREATED:20220601T220221Z
LAST-MODIFIED:20220609T195223Z
UID:10981-1651392000-1672592400@laskinsfest.com
SUMMARY:3rd Annual Native American Showrunner Program - Fellows Selected
DESCRIPTION:The Native American Media Alliance announced its selections for the inaugural Native American Showrunner Program\, sponsored by Bad Robot\, Comcast NBCUniversal\, National Endowment for the Arts\, Pop Culture Collaboration and A+E Networks\, in partnership with Kung Fu Monkey Productions. \n“We are excited to usher in another year of incredible writers for this unique intensive\,” said Cara Jade Myers (Kiowa/Wichita)\, director of outreach for the Native American Media Alliance. “We look forward to the new work they develop with their showrunner mentors throughout the program.” \nThe 2022 Native American Showrunner Program fellows: \nMaya Dittloff \nJohnTom Knight \nDiego Moreno \n     The Native American Showrunner Program is a multi-month intensive that offers mentorship from television showrunners and series creators to experienced Native American writers. Program fellows take part in one-on-one meetings with assigned showrunners who offer guidance on furthering the fellows’ writing careers and to provide creative feedback on current projects. The program consists of comprehensive mentoring to develop each writer’s abilities\, offer advice as it pertains to producing for television and provide overall insight into running a television series. \n     The Native American Showrunner Program is a unique initiative designed to propel experienced Native American writers to higher levels of television. This initiative continues the Native American MedIa Alliance’s drive for inclusion and focuses on new points of access for the Native American community. The fellowship is an extension of the Native American TV Writers Lab as it equips the next generation of Native American writers with the skills and professional network to break into television producing positions. \n     The Native American Showrunner Program was created to expand the number of Native Americans working behind the camera to increase fair and accurate portrayals of Native Americans on television. Native Americans continue to maintain the lowest representation of writers on current television series. \n     In addition\, participants will author a new pilot and series bible with the artistic support of their respective mentors. Participants will also have group meetings with their fellows participants and showrunners from other television series. These components offer additional creative and business oriented opportunities. Participants will also receive a small stipend\, writing software and additional resources to help bolster their career. \nCheck out the past showrunner fellows here: \nInaugural Native American Showrunner Program \n2nd Annual Native American Showrunner Program  \nSponsored by: \n\n	\n		\n			\n			\n			\n			\n			View Image\n						\n						Bad Robot\n						\n			\n			\n			\n			\n			View Image\n						\n						Comcast NBCUniversal\n						\n			\n			\n			\n			\n			View Image\n						\n						Pop Culture Collab\n						\n			\n			\n			\n			\n			View Image\n						\n						National Endowment for the Arts\n						\n			\n			\n			\n			\n			View Image\n						\n						A+E Networks
URL:https://laskinsfest.com/event/3rd-annual-native-american-showrunner-program-fellows-selected/
ATTACH;FMTTYPE=image/png:https://laskinsfest.com/wp-content/uploads/2022/06/1200-x-384.png
END:VEVENT
BEGIN:VEVENT
DTSTART;TZID=America/Los_Angeles:20220919T080000
DTEND;TZID=America/Los_Angeles:20220919T170000
DTSTAMP:20260423T003810
CREATED:20220919T223310Z
LAST-MODIFIED:20220924T143303Z
UID:11125-1663574400-1663606800@laskinsfest.com
SUMMARY:2nd Annual Native American Unscripted Workshop - Applications Closed
DESCRIPTION:The 2nd Annual Native American Unscripted Workshop has opened the call for applications. This initiative is focused on spotlighting Native American documentary filmmakers and non-fiction content creators. With support from Comcast NBCUniversal\, A+E Networks\, CNN\, YAHOO and the Cherokee Nation Film Office\, NAMA is providing the Native American Unscripted Workshop for emerging and seasoned indigenous documentary filmmakers seeking to explore outlets for their current and upcoming projects. \nThe workshop is a virtual week-long creative program that provides access to creative executives\, experienced producers and veteran documentary filmmakers. In its second year\, the Native American Unscripted Workshop will accept approximately 10 Native American filmmakers to participate in the program taking place in late October\, 2022. The Early Deadline to apply is August 19th\, 2022 (Regular Deadline is September 2nd\, 2022 and the Final Deadline is September 16th\, 2022). \nThe Native American Unscripted Workshop is designed to encourage Native American filmmakers to expand on their current opportunities. The workshop culminates in a pitch panel that will have each fellow present their latest project. \nCheck out the inaugural Native American Unscripted Workshop fellows here! \n\n___________________________________________________________________________ \nAbout the Program\nThe week-long curriculum will have daily creative discussions with experienced producers\, creative executives and veteran filmmakers. These meetings will provide additional insight into professional development\, exploring career opportunities and developing a project for pitching. \nThe workshop will culminate with each participant pitching before a panel of unscripted creative executives. This final component will have each participant receive feedback and guidance on their current unscripted or documentary project. Each workshop participant will have the opportunity to discuss creative development\, enhance their respective materials and improve their project sample. The goal of the pitch panel is to provide Native American filmmakers with additional opportunities and exposure. \n \n___________________________________________________________________________ \n\nSponsors \n\n	\n		\n			\n			\n			\n			\n			View Image\n						\n						Comcast NBCUniversal\n						\n			\n			\n			\n			\n			View Image\n						\n						CNN\n						\n			\n			\n			\n			\n			View Image\n						\n						YAHOO\n						\n			\n			\n			\n			\n			View Image\n						\n						Cherokee Nation Film Office\n						\n			\n			\n			\n			\n			View Image\n						\n						A+E Networks
URL:https://laskinsfest.com/event/2nd-annual-native-american-unscripted-workshop-applications-closed/
ATTACH;FMTTYPE=image/png:https://laskinsfest.com/wp-content/uploads/2022/09/Facebook.png
END:VEVENT
BEGIN:VEVENT
DTSTART;TZID=America/Los_Angeles:20220919T080000
DTEND;TZID=America/Los_Angeles:20220919T170000
DTSTAMP:20260423T003810
CREATED:20220920T020834Z
LAST-MODIFIED:20221016T145243Z
UID:11131-1663574400-1663606800@laskinsfest.com
SUMMARY:4th Annual Native American Animation Lab - Call For Applications
DESCRIPTION:The Native American Media Alliance is accepting applications for the 4th Annual Native American Animation Lab taking place Dec 5th – 9th\, 2022. This year’s lab is presented by Sony Pictures Animation\, Comcast NBCUniversal\, Paramount and the Cherokee Nation Film Office. \nThe Native American Animation Lab is an intensive workshop that develops Native American writers\, filmmakers and artists with a current animation project. This lab is designed to offer genuine access for Native Americans exploring the vast field of animation. \nEach participant chosen for the lab will workshop an animation project through one-on-one mentoring\, group sessions and creative development workshops. The program will conclude with an intensive pitching session for each participant. The purpose of the lab is to further develop the skills of the writers and prepare them for employment in the industry. \nThis is an in-depth workshop for Native Americans who have a script\, treatment\, animated film\, original comic book\, or visual materials they want to develop into an animated television series or feature film. \nThe Native American Animation Lab consists of the selected participants meeting for the 5 day program\, receiving career guidance and learning about the animation industry. The lab participants will meet with working animation personnel and creative executives to offer their background\, perspective\, and advice. \nThe 4th Annual Native American Animation Lab will take place on-line with an early deadline to apply on October 3rd\, 2022\, regular deadline is October 17th\, 2022 and final deadline October 31st\, 2022. \n\n___________________________________________________________________________ \nAbout the Program\nThe week-long virtual curriculum will have daily creative discussions with experienced producers\, creative executives and veteran filmmakers. These meetings will provide additional insight into professional development\, exploring career opportunities and developing a project for pitching. \nThe workshop will culminate with each participant pitching before a panel of unscripted creative executives. This final component will have each participant receive feedback and guidance on their current animation project. \n\nApplication available here. \n\nApplication Deadlines:  \nEarly Deadline is October 3rd\, 2022 11:59pm PST  $45 \nRegular Deadline is October 17th\, 2022 11:59pm PST  $55 \nFinal Deadline October 31st\, 2022 11:59pm PST  $65 \n\n\n___________________________________________________________________________ \n\nSponsors \n\n	\n		\n			\n			\n			\n			\n			View Image\n						\n						Comcast NBCUniversal\n						\n			\n			\n			\n			\n			View Image\n			\n			\n			\n			\n			View Image\n						\n						Cherokee Nation Film Office\n						\n			\n			\n			\n			\n			View Image\n						\n						Sony Pictures Animation
URL:https://laskinsfest.com/event/4th-annual-native-american-animation-lab-call-for-applications/
ATTACH;FMTTYPE=image/png:https://laskinsfest.com/wp-content/uploads/2022/09/1200X384.png
END:VEVENT
END:VCALENDAR