BEGIN:VCALENDAR
VERSION:2.0
PRODID:-//LA Skins Fest - ECPv5.16.4.1//NONSGML v1.0//EN
CALSCALE:GREGORIAN
METHOD:PUBLISH
X-WR-CALNAME:LA Skins Fest
X-ORIGINAL-URL:https://laskinsfest.com
X-WR-CALDESC:Events for LA Skins Fest
BEGIN:VTIMEZONE
TZID:America/Los_Angeles
BEGIN:DAYLIGHT
TZOFFSETFROM:-0800
TZOFFSETTO:-0700
TZNAME:PDT
DTSTART:20250309T100000
END:DAYLIGHT
BEGIN:STANDARD
TZOFFSETFROM:-0700
TZOFFSETTO:-0800
TZNAME:PST
DTSTART:20251102T090000
END:STANDARD
END:VTIMEZONE
BEGIN:VEVENT
DTSTART;TZID=America/Los_Angeles:20251120T220000
DTEND;TZID=America/Los_Angeles:20251120T233000
DTSTAMP:20260423T231255
CREATED:20251003T225740Z
LAST-MODIFIED:20251003T230040Z
UID:15157-1763676000-1763681400@laskinsfest.com
SUMMARY:Thursday Night After Party
DESCRIPTION:Bowl\, Eat\, Drink and Celebrate with LA SKINS FEST Filmmakers! \nWe take the party to Lucky Strike in Hollywood! Party with the LA SKINS FEST filmmakers\, Native American Media Alliance fellows and our community of artists at our Saturday night after party. Hang out in the lounge\, knock down a few pins and be a part of the fun! \nTickets available at this link!\n(Food and two drink tickets are provided with ticket purchase)
URL:https://laskinsfest.com/event/thursday-night-after-party-2/
LOCATION:Lucky Strike Hollywood\, 6801 Hollywood Blvd Ste 143\, Hollywood\, Ca\, 90028
ATTACH;FMTTYPE=image/jpeg:https://laskinsfest.com/wp-content/uploads/2024/10/Saturday-Lucky-Strike.jpg
END:VEVENT
END:VCALENDAR