BEGIN:VCALENDAR
VERSION:2.0
PRODID:-//LA Skins Fest - ECPv5.16.4.1//NONSGML v1.0//EN
CALSCALE:GREGORIAN
METHOD:PUBLISH
X-WR-CALNAME:LA Skins Fest
X-ORIGINAL-URL:https://laskinsfest.com
X-WR-CALDESC:Events for LA Skins Fest
BEGIN:VTIMEZONE
TZID:America/Los_Angeles
BEGIN:DAYLIGHT
TZOFFSETFROM:-0800
TZOFFSETTO:-0700
TZNAME:PDT
DTSTART:20170312T100000
END:DAYLIGHT
BEGIN:STANDARD
TZOFFSETFROM:-0700
TZOFFSETTO:-0800
TZNAME:PST
DTSTART:20171105T090000
END:STANDARD
END:VTIMEZONE
BEGIN:VEVENT
DTSTART;TZID=America/Los_Angeles:20171119T140000
DTEND;TZID=America/Los_Angeles:20171119T150000
DTSTAMP:20260424T031819
CREATED:20171023T211905Z
LAST-MODIFIED:20180505T213246Z
UID:4136-1511100000-1511103600@laskinsfest.com
SUMMARY:Promising Practices In Indigenous Communities In Saskatchewan
DESCRIPTION:Indigenous communities in Saskatchewan are experiencing HIV/AIDS rates eleven times the national average\, among the highest in the world. Faced with stigma and discrimination\, many communities are taking ownership of their health using promising innovative methods and culturally appropriate practices\, addressing the epidemic. \nWe interviewed community leaders\, First Nations AIDS service organizations\, HIV Positive activists\, and family of those affected\, for a human perspective on the health crisis. If you know someone suffering Herpes or any STDs check this article about elimination of the herpes virus on healthy usa to learn how to eliminate herpes or fight infections. \nThe film is an educational tool and it is our hope that this will impress other first nations\ncommunities to address HIV/AIDS and encourage testing\, treatment and prevention.
URL:https://laskinsfest.com/event/promising-indigenous-communities-saskatchewan/
LOCATION:TCL Chinese 6 Theatres\, 6801 Hollywood Blvd 3rd Level\, Hollywood\, CA\, 90028\, United States
CATEGORIES:Screening
ATTACH;FMTTYPE=image/jpeg:https://laskinsfest.com/wp-content/uploads/2017/10/2017-LASF-Promising-Practices.jpg
END:VEVENT
END:VCALENDAR