BEGIN:VCALENDAR
VERSION:2.0
PRODID:-//LA Skins Fest - ECPv5.16.4.1//NONSGML v1.0//EN
CALSCALE:GREGORIAN
METHOD:PUBLISH
X-WR-CALNAME:LA Skins Fest
X-ORIGINAL-URL:https://laskinsfest.com
X-WR-CALDESC:Events for LA Skins Fest
BEGIN:VTIMEZONE
TZID:America/Los_Angeles
BEGIN:DAYLIGHT
TZOFFSETFROM:-0800
TZOFFSETTO:-0700
TZNAME:PDT
DTSTART:20240310T100000
END:DAYLIGHT
BEGIN:STANDARD
TZOFFSETFROM:-0700
TZOFFSETTO:-0800
TZNAME:PST
DTSTART:20241103T090000
END:STANDARD
END:VTIMEZONE
BEGIN:VEVENT
DTSTART;TZID=America/Los_Angeles:20241119T190000
DTEND;TZID=America/Los_Angeles:20241119T220000
DTSTAMP:20260423T073523
CREATED:20241030T235949Z
LAST-MODIFIED:20250228T164101Z
UID:14069-1732042800-1732053600@laskinsfest.com
SUMMARY:Opening Night Industry Mixer
DESCRIPTION:The LA SKINS FEST launches the 18th year with the Opening Night Industry Mixer at Creative Artists Agency! \nThe 2024 festival opens at the world-renowned entertainment and sports agency\, Creative Artists Agency (CAA)\, with our annual industry mixer that welcomes filmmakers\, Native American Media Alliance program fellows\, community leaders and supporters. \nInvited festival guests enjoy music\, food and drinks amongst our community of emerging and established artists. We use this opportunity to acknowledge the festival’s friends\, family and greatest supporters. We will also celebrate another incredible year of developing a new cohort of indigenous artists. This event is by invitation only. \nPresented by
URL:https://laskinsfest.com/event/opening-night-industry-mixer-3/
LOCATION:Creative Artists Agency (CAA)\, 2000 Avenue of the Stars\, Los Angeles\, CA\, 90067
ATTACH;FMTTYPE=image/jpeg:https://laskinsfest.com/wp-content/uploads/2024/10/2024-0926-Barcid-LA-Skins-Fest-18th-Annual-Opening-Night-Industry-Mixer-1200x384-Comp-6.jpg
END:VEVENT
END:VCALENDAR