BEGIN:VCALENDAR
VERSION:2.0
PRODID:-//LA Skins Fest - ECPv5.16.4.1//NONSGML v1.0//EN
CALSCALE:GREGORIAN
METHOD:PUBLISH
X-WR-CALNAME:LA Skins Fest
X-ORIGINAL-URL:https://laskinsfest.com
X-WR-CALDESC:Events for LA Skins Fest
BEGIN:VTIMEZONE
TZID:America/Los_Angeles
BEGIN:DAYLIGHT
TZOFFSETFROM:-0800
TZOFFSETTO:-0700
TZNAME:PDT
DTSTART:20160313T100000
END:DAYLIGHT
BEGIN:STANDARD
TZOFFSETFROM:-0700
TZOFFSETTO:-0800
TZNAME:PST
DTSTART:20161106T090000
END:STANDARD
END:VTIMEZONE
BEGIN:VEVENT
DTSTART;TZID=America/Los_Angeles:20160123T140000
DTEND;TZID=America/Los_Angeles:20160123T170000
DTSTAMP:20260421T110958
CREATED:20160104T021044Z
LAST-MODIFIED:20160225T204620Z
UID:1311-1453557600-1453568400@laskinsfest.com
SUMMARY:JANUARY'S WRITERS GROUP
DESCRIPTION:SKINS WRITERS GROUP takes place Saturday January 23\, 2016 at CBS STUDIOS \nThe SKINS WRITERS GROUP is a monthly literary gathering that offers genuine career building opportunities to Native Americans. \n\nFor more information or to participate\, please email contact@laskinsfest.com.
URL:https://laskinsfest.com/event/januarys-writers-group/
LOCATION:CBS Studio Center\, 4024 Radford Avenue\, Studio City\, 91604
ATTACH;FMTTYPE=image/jpeg:https://laskinsfest.com/wp-content/uploads/2015/10/Skins-Pitch-Pit.jpg
END:VEVENT
END:VCALENDAR