BEGIN:VCALENDAR
VERSION:2.0
PRODID:-//LA Skins Fest - ECPv5.16.4.1//NONSGML v1.0//EN
CALSCALE:GREGORIAN
METHOD:PUBLISH
X-WR-CALNAME:LA Skins Fest
X-ORIGINAL-URL:https://laskinsfest.com
X-WR-CALDESC:Events for LA Skins Fest
BEGIN:VTIMEZONE
TZID:America/Los_Angeles
BEGIN:DAYLIGHT
TZOFFSETFROM:-0800
TZOFFSETTO:-0700
TZNAME:PDT
DTSTART:20170312T100000
END:DAYLIGHT
BEGIN:STANDARD
TZOFFSETFROM:-0700
TZOFFSETTO:-0800
TZNAME:PST
DTSTART:20171105T090000
END:STANDARD
END:VTIMEZONE
BEGIN:VEVENT
DTSTART;TZID=America/Los_Angeles:20171119T120000
DTEND;TZID=America/Los_Angeles:20171119T140000
DTSTAMP:20260424T061237
CREATED:20171023T163434Z
LAST-MODIFIED:20171023T214400Z
UID:4114-1511092800-1511100000@laskinsfest.com
SUMMARY:Family
DESCRIPTION:Family is a compelling story of family and what matters most at the end of the day. Shane the older brother is a up and coming creative hip hop artist\, and Liam the younger brother. a smart young man learning many of his cultural and spiritual teachings. They both work hard in hope to be recognized by their father\, William. Shane does not have the best relationship with in the recent news of a soon to be father himself he looks to mend the relationship with this father. Liam idolizes his father as his hero even though their fathers strict way of teaching and raising them caused Shane to leave. Liam loves learning his culture in hopes to be a prodomit knowledge holder and spiritual leader. They both struggle to be noticed by their father. With all the hard work Shane and Liam do\, no breakthroughs seems to make it to their father. They both hope for the best to be one family even though with all their fair share of differences. erotic massage body rub USA site. Life throws it curves balls and we can only keep up with the changes or fall behind.
URL:https://laskinsfest.com/event/family/
LOCATION:TCL Chinese 6 Theatres\, 6801 Hollywood Blvd 3rd Level\, Hollywood\, CA\, 90028\, United States
CATEGORIES:Screening
ATTACH;FMTTYPE=image/jpeg:https://laskinsfest.com/wp-content/uploads/2017/10/2017-LASF-Family.jpg
END:VEVENT
END:VCALENDAR