BEGIN:VCALENDAR
VERSION:2.0
PRODID:-//LA Skins Fest - ECPv5.16.4.1//NONSGML v1.0//EN
CALSCALE:GREGORIAN
METHOD:PUBLISH
X-WR-CALNAME:LA Skins Fest
X-ORIGINAL-URL:https://laskinsfest.com
X-WR-CALDESC:Events for LA Skins Fest
BEGIN:VTIMEZONE
TZID:America/Los_Angeles
BEGIN:DAYLIGHT
TZOFFSETFROM:-0800
TZOFFSETTO:-0700
TZNAME:PDT
DTSTART:20170312T100000
END:DAYLIGHT
BEGIN:STANDARD
TZOFFSETFROM:-0700
TZOFFSETTO:-0800
TZNAME:PST
DTSTART:20171105T090000
END:STANDARD
END:VTIMEZONE
BEGIN:VEVENT
DTSTART;TZID=America/Los_Angeles:20171119T110000
DTEND;TZID=America/Los_Angeles:20171119T120000
DTSTAMP:20260424T061210
CREATED:20171108T213406Z
LAST-MODIFIED:20171108T213536Z
UID:4346-1511089200-1511092800@laskinsfest.com
SUMMARY:Díí ei Shahane
DESCRIPTION:A Navajo elder discusses his land\, family and life.
URL:https://laskinsfest.com/event/dii-ei-shahane/
LOCATION:TCL Chinese 6 Theatres\, 6801 Hollywood Blvd 3rd Level\, Hollywood\, CA\, 90028\, United States
CATEGORIES:Screening
ATTACH;FMTTYPE=image/jpeg:https://laskinsfest.com/wp-content/uploads/2017/11/2017-LASF-Díí-ei-Shahane.jpg
END:VEVENT
END:VCALENDAR