BEGIN:VCALENDAR
VERSION:2.0
PRODID:-//LA Skins Fest - ECPv5.16.4.1//NONSGML v1.0//EN
CALSCALE:GREGORIAN
METHOD:PUBLISH
X-WR-CALNAME:LA Skins Fest
X-ORIGINAL-URL:https://laskinsfest.com
X-WR-CALDESC:Events for LA Skins Fest
BEGIN:VTIMEZONE
TZID:America/Los_Angeles
BEGIN:DAYLIGHT
TZOFFSETFROM:-0800
TZOFFSETTO:-0700
TZNAME:PDT
DTSTART:20210314T100000
END:DAYLIGHT
BEGIN:STANDARD
TZOFFSETFROM:-0700
TZOFFSETTO:-0800
TZNAME:PST
DTSTART:20211107T090000
END:STANDARD
END:VTIMEZONE
BEGIN:VEVENT
DTSTART;TZID=America/Los_Angeles:20211121T170000
DTEND;TZID=America/Los_Angeles:20211121T190000
DTSTAMP:20260420T035928
CREATED:20211026T010414Z
LAST-MODIFIED:20211026T185945Z
UID:10379-1637514000-1637521200@laskinsfest.com
SUMMARY:808
DESCRIPTION:“808” is an emotional rollercoaster of a film which has won the “Best Thriller Short” award in the Marina Del Rey film Festival and Semi-Finalist in both the Burbank International Film Festival and the Colorado Activist Film Festival. \nThe Hawaiian culture\, land\, and its exploitation resonate throughout the story as Kai\, a lonely Hawaiian woman\, returns home in hopes of reconnecting with friends and family. We meet a colorful cast of characters as she resolutely seeks answers to murder and corruption\, while somehow hoping for redemption. \n808 is an extremely diverse project with a variety of Minority actors cast across the board and nearly every age group represented. \nThe film also seeks to raise environmental awareness with its themes of connection with nature and the people involved in destroying it.
URL:https://laskinsfest.com/event/808/
CATEGORIES:Screening
ATTACH;FMTTYPE=image/jpeg:https://laskinsfest.com/wp-content/uploads/2021/10/808-wide-1.jpg
END:VEVENT
END:VCALENDAR