BEGIN:VCALENDAR
VERSION:2.0
PRODID:-//LA Skins Fest - ECPv5.16.4.1//NONSGML v1.0//EN
CALSCALE:GREGORIAN
METHOD:PUBLISH
X-WR-CALNAME:LA Skins Fest
X-ORIGINAL-URL:https://laskinsfest.com
X-WR-CALDESC:Events for LA Skins Fest
BEGIN:VTIMEZONE
TZID:America/Los_Angeles
BEGIN:DAYLIGHT
TZOFFSETFROM:-0800
TZOFFSETTO:-0700
TZNAME:PDT
DTSTART:20190310T100000
END:DAYLIGHT
BEGIN:STANDARD
TZOFFSETFROM:-0700
TZOFFSETTO:-0800
TZNAME:PST
DTSTART:20191103T090000
END:STANDARD
END:VTIMEZONE
BEGIN:VEVENT
DTSTART;VALUE=DATE:20191124
DTEND;VALUE=DATE:20191125
DTSTAMP:20260423T121811
CREATED:20191007T030133Z
LAST-MODIFIED:20191215T162947Z
UID:6319-1574553600-1574639999@laskinsfest.com
SUMMARY:2nd Annual Hollywood Pow Wow
DESCRIPTION:The LA SKINS FEST held its second Hollywood Pow Wow in front of the iconic TCL Chinese Theater. The Pow Wow took place Sunday November 24th\, 2019 and featured traditional singing\, dancing and youth performances from numerous tribes around the country. \nThis is part of the 13th Annual LA SKINS FEST – A Native American film festival – taking place November 19th-24th throughout Hollywood.  Throughout the day\, we will be screening Native American films at the TCL Chinese Theater in auditorium #6 from 10am – 8pm. \nSpecial thanks to the Chinese Theater for supporting the pow-wow and the Native American community of Los Angeles. \nMaster of Ceremonies: Ral Christman – Kumeyaay Nation \nArena Director: Richard DeCrane – Crow/Dine \nHost Drum: WildHorse Singers \nHeadWoman: Shayna Meguinis – Tsuu’Tina and Cree \nHeadMan: Nico Phoenix Northern Paiute/Tohono O’ Odham \n2018 POW WOW PHOTOS\n \nPresented by: \n  \n\n	\n		\n			\n			\n			\n			\n			View Image\n			\n			\n			\n			\n			View Image\n			\n			\n			\n			\n			View Image
URL:https://laskinsfest.com/event/2nd-annual-hollywood-pow-wow/
ATTACH;FMTTYPE=image/png:https://laskinsfest.com/wp-content/uploads/2019/10/2019-0910-0402-POW-WOW-2nd-Annual-Website-Slider-1200x384.png
END:VEVENT
END:VCALENDAR